BEGIN:VCALENDAR
VERSION:2.0
PRODID:-//BIS • 815.si - ECPv6.15.16//NONSGML v1.0//EN
CALSCALE:GREGORIAN
METHOD:PUBLISH
X-WR-CALNAME:BIS • 815.si
X-ORIGINAL-URL:http://815.si
X-WR-CALDESC:Dogodki za BIS • 815.si
REFRESH-INTERVAL;VALUE=DURATION:PT1H
X-Robots-Tag:noindex
X-PUBLISHED-TTL:PT1H
BEGIN:VTIMEZONE
TZID:Europe/Paris
BEGIN:DAYLIGHT
TZOFFSETFROM:+0100
TZOFFSETTO:+0200
TZNAME:CEST
DTSTART:20190331T010000
END:DAYLIGHT
BEGIN:STANDARD
TZOFFSETFROM:+0200
TZOFFSETTO:+0100
TZNAME:CET
DTSTART:20191027T010000
END:STANDARD
BEGIN:DAYLIGHT
TZOFFSETFROM:+0100
TZOFFSETTO:+0200
TZNAME:CEST
DTSTART:20200329T010000
END:DAYLIGHT
BEGIN:STANDARD
TZOFFSETFROM:+0200
TZOFFSETTO:+0100
TZNAME:CET
DTSTART:20201025T010000
END:STANDARD
BEGIN:DAYLIGHT
TZOFFSETFROM:+0100
TZOFFSETTO:+0200
TZNAME:CEST
DTSTART:20210328T010000
END:DAYLIGHT
BEGIN:STANDARD
TZOFFSETFROM:+0200
TZOFFSETTO:+0100
TZNAME:CET
DTSTART:20211031T010000
END:STANDARD
END:VTIMEZONE
BEGIN:VEVENT
DTSTART;TZID=Europe/Paris:20200124T200000
DTEND;TZID=Europe/Paris:20200124T220000
DTSTAMP:20260421T151344
CREATED:20200110T153330Z
LAST-MODIFIED:20200110T153330Z
UID:15290-1579896000-1579903200@815.si
SUMMARY:1na1 Tokac &Hamo – SiTi Teater BTC\, Ljubljana (24.01.2020)
DESCRIPTION:Tokac in Hamo sta levji kralj in pesnik lubezni. Prvi je pevec in avtor besedil novomeške skupine Dan D\, drugi je frontman zasedbe Hamo & Tribute 2 Love. Tomislav Jovanović Tokac je natančno uglašen na rahločutje\, ki lahko poje o širnih prostranstvih sveta\, pa tudi o najtemačnejših delih srca\, Matevž Šalehar Hamo pa je iskreni rocker\, ki ne skriva svojih čustev in ki se najbolje počuti na manjših klubskih odrih\, kjer lahko srka energijo publike in jo vrača z zelo velikimi obrestmi. \n1NA1 so glasbeni dialogi – nov glasbeni cikel v SiTi Teatru BTC. Prinaša nabor avtorjev in avtoric\, ki so se morda že velikokrat srečali\, a so le redko skupaj stali na odru in se pogovarjali: ena na ena o glasbi\, preko glasbe. V koncertnem ciklu 1NA1 bo pet parov glasbenikov in glasbenic preko izbranih skladb obujalo spomine\, menjavalo vloge\, razkrivalo svoje dogodivščine in glasbena pričakovanja\, predvsem pa v intimnem vzdušju spregovorilo o zakulisju glasbe\, ki nam je blizu. \nVstopnice že v prodaji prek spleta in prodajne mreže Mojekarte.si. \nOrganizacija: SiTi Teater BTC in Siti za dobro musko.
URL:http://815.si/dogodek/1na1-tokac-hamo-siti-teater-btc-ljubljana-24-01-2020/
LOCATION:SiTi Teater BTC\, Šmartinska cesta 152\, Ljubljana\, 1000\, Slovenija
ATTACH;FMTTYPE=image/jpeg:http://815.si/wp-content/uploads/2020/01/82348225_3097619313634839_8245612449768669184_n.jpg
ORGANIZER;CN="SiTi Teater BTC":MAILTO:lija@sititeater.si
END:VEVENT
BEGIN:VEVENT
DTSTART;TZID=Europe/Paris:20200122T200000
DTEND;TZID=Europe/Paris:20200122T220000
DTSTAMP:20260421T151344
CREATED:20200110T152301Z
LAST-MODIFIED:20200110T152401Z
UID:15285-1579723200-1579730400@815.si
SUMMARY:1na1 Tokac &Hamo – SiTi Teater BTC\, Ljubljana (22.01.2020)
DESCRIPTION:Tokac in Hamo sta levji kralj in pesnik lubezni. Prvi je pevec in avtor besedil novomeške skupine Dan D\, drugi je frontman zasedbe Hamo & Tribute 2 Love. Tomislav Jovanović Tokac je natančno uglašen na rahločutje\, ki lahko poje o širnih prostranstvih sveta\, pa tudi o najtemačnejših delih srca\, Matevž Šalehar Hamo pa je iskreni rocker\, ki ne skriva svojih čustev in ki se najbolje počuti na manjših klubskih odrih\, kjer lahko srka energijo publike in jo vrača z zelo velikimi obrestmi. \n1NA1 so glasbeni dialogi – nov glasbeni cikel v SiTi Teatru BTC. Prinaša nabor avtorjev in avtoric\, ki so se morda že velikokrat srečali\, a so le redko skupaj stali na odru in se pogovarjali: ena na ena o glasbi\, preko glasbe. V koncertnem ciklu 1NA1 bo pet parov glasbenikov in glasbenic preko izbranih skladb obujalo spomine\, menjavalo vloge\, razkrivalo svoje dogodivščine in glasbena pričakovanja\, predvsem pa v intimnem vzdušju spregovorilo o zakulisju glasbe\, ki nam je blizu. \nVstopnice že v prodaji prek spleta in prodajne mreže Mojekarte.si. \nOrganizacija: SiTi Teater BTC in Siti za dobro musko.
URL:http://815.si/dogodek/1na1-tokac-hamo-siti-teater-btc-ljubljna-22-01-2020/
LOCATION:SiTi Teater BTC\, Šmartinska cesta 152\, Ljubljana\, 1000\, Slovenija
ATTACH;FMTTYPE=image/jpeg:http://815.si/wp-content/uploads/2020/01/82348225_3097619313634839_8245612449768669184_n.jpg
ORGANIZER;CN="SiTi Teater BTC":MAILTO:lija@sititeater.si
END:VEVENT
END:VCALENDAR