BEGIN:VCALENDAR
VERSION:2.0
PRODID:-//BIS • 815.si - ECPv6.15.16//NONSGML v1.0//EN
CALSCALE:GREGORIAN
METHOD:PUBLISH
X-ORIGINAL-URL:http://815.si
X-WR-CALDESC:Dogodki za BIS • 815.si
REFRESH-INTERVAL;VALUE=DURATION:PT1H
X-Robots-Tag:noindex
X-PUBLISHED-TTL:PT1H
BEGIN:VTIMEZONE
TZID:Europe/Paris
BEGIN:DAYLIGHT
TZOFFSETFROM:+0100
TZOFFSETTO:+0200
TZNAME:CEST
DTSTART:20180325T010000
END:DAYLIGHT
BEGIN:STANDARD
TZOFFSETFROM:+0200
TZOFFSETTO:+0100
TZNAME:CET
DTSTART:20181028T010000
END:STANDARD
BEGIN:DAYLIGHT
TZOFFSETFROM:+0100
TZOFFSETTO:+0200
TZNAME:CEST
DTSTART:20190331T010000
END:DAYLIGHT
BEGIN:STANDARD
TZOFFSETFROM:+0200
TZOFFSETTO:+0100
TZNAME:CET
DTSTART:20191027T010000
END:STANDARD
BEGIN:DAYLIGHT
TZOFFSETFROM:+0100
TZOFFSETTO:+0200
TZNAME:CEST
DTSTART:20200329T010000
END:DAYLIGHT
BEGIN:STANDARD
TZOFFSETFROM:+0200
TZOFFSETTO:+0100
TZNAME:CET
DTSTART:20201025T010000
END:STANDARD
END:VTIMEZONE
BEGIN:VEVENT
DTSTART;TZID=Europe/Paris:20191026T223000
DTEND;TZID=Europe/Paris:20191026T235900
DTSTAMP:20260422T003610
CREATED:20191022T140215Z
LAST-MODIFIED:20191022T140549Z
UID:13885-1572129000-1572134340@815.si
SUMMARY:Leonart•5 let na sceni - Satchmo\, Maribor (26.10.2019)
DESCRIPTION:Mariborska zasedba Leonart to soboto\, 26. oktobra praznuje 5 let na sceni. V Mariboru\, kakopak. V Jazz Klubu Satchmo\, kjer se je glasbena zgodba Leonarta z razprodanim prvim koncertom začela.  \nVstopnina: 8 EUR / 6 EUR (predprodaja)\nVstopnice v predprodaji je mogoče kupiti na šanku Jazz kluba Satchmo. \n______________________________ \n“Pet let je doba. Mlečne zobe zamenjajo tisti tapravi. V tem času smo postali zrelejši\, zgodilo se nam je veliko nepozabnih koncertov\, izdali smo album Visoko v nebo in na radijske valove lansirali 11 singlov. \nRok Tržan photography\nLeonart je zaznamovan s kreativci – od producentov videospotov in glasbe\, fotografov\, urednikov\, naključnih firbcev in dobrotnikov. Vsi so Leonart ponesli do tam\, kjer si je bend pred petimi leti zgolj želel biti. In med njimi ste tudi vi\, oboževalci Leonart\, ki fante spremljate in podpirate skozi to kratko in hkrati dolgo dobo. \nLeonart za leto 2020 napovedujemo izdajo novega albuma. Ta koncert bo segrevanje in priprava na naslednjo “življenjsko” etapo. Priložnost\, da slišite nekaj novega\, še neobjavljenega materiala\, ki bo bend popeljal na naslednje vrhove. \nPo petih letih in enem mesecu se Leonart vračamo na prvoten kraj zločina – klub\, ki smo ga 27. septembra 2014 na našem takratnem prvem koncertu napolnili do konca.”  \n\n\n 
URL:http://815.si/dogodek/leonart%e2%80%a2-5-let-na-sceni-satchmo-maribor-26-10-2019/
LOCATION:Jazz Klub Satchmo\, Strossmayerjeva ulica 6\, Maribor\, 2000\, Slovenija
CATEGORIES:Pop,Rock
ATTACH;FMTTYPE=image/jpeg:http://815.si/wp-content/uploads/2019/10/Leonart-5-let-na-sceni.jpg
END:VEVENT
END:VCALENDAR