BEGIN:VCALENDAR
VERSION:2.0
PRODID:-//BIS • 815.si - ECPv6.15.16//NONSGML v1.0//EN
CALSCALE:GREGORIAN
METHOD:PUBLISH
X-ORIGINAL-URL:http://815.si
X-WR-CALDESC:Dogodki za BIS • 815.si
REFRESH-INTERVAL;VALUE=DURATION:PT1H
X-Robots-Tag:noindex
X-PUBLISHED-TTL:PT1H
BEGIN:VTIMEZONE
TZID:Europe/Paris
BEGIN:DAYLIGHT
TZOFFSETFROM:+0100
TZOFFSETTO:+0200
TZNAME:CEST
DTSTART:20160327T010000
END:DAYLIGHT
BEGIN:STANDARD
TZOFFSETFROM:+0200
TZOFFSETTO:+0100
TZNAME:CET
DTSTART:20161030T010000
END:STANDARD
BEGIN:DAYLIGHT
TZOFFSETFROM:+0100
TZOFFSETTO:+0200
TZNAME:CEST
DTSTART:20170326T010000
END:DAYLIGHT
BEGIN:STANDARD
TZOFFSETFROM:+0200
TZOFFSETTO:+0100
TZNAME:CET
DTSTART:20171029T010000
END:STANDARD
BEGIN:DAYLIGHT
TZOFFSETFROM:+0100
TZOFFSETTO:+0200
TZNAME:CEST
DTSTART:20180325T010000
END:DAYLIGHT
BEGIN:STANDARD
TZOFFSETFROM:+0200
TZOFFSETTO:+0100
TZNAME:CET
DTSTART:20181028T010000
END:STANDARD
END:VTIMEZONE
BEGIN:VEVENT
DTSTART;TZID=Europe/Paris:20171105T210000
DTEND;TZID=Europe/Paris:20171105T233000
DTSTAMP:20260422T203317
CREATED:20171105T092219Z
LAST-MODIFIED:20171105T092308Z
UID:761-1509915600-1509924600@815.si
SUMMARY:Triggerfinger\, A Place To Bury Strangers - Tvornica kulture\, Zagreb (5.11.2017)
DESCRIPTION:A Place To Bury Strangers\nA Place To Bury Strangers so: Oliver Ackermann\, Dion Lunadon in Lia Simone. Trenutno delajo na petem studijskem albumu\, katerega bodo objavili spomladi naslednje leto. Zadnji album z naslovom ´Dead Oceans´ so izdali leta 2015\, band pa je trenutno na turneji v sklopu katere bodo obiskali tudi festival Reflektor v Zagrebu. \nTriggerfinger so že dvakrat nastopili v Zagrebu in obakrat na navdušili publiko. Njihov nastop v novembru 2015 so hrvaški kritiki uvrstili na TOP 5 koncertov leta. \nTriggerfinger\nBasis Paul Van Bruystegem\, bobnar Mario Goossens in pevec ter kitarist Ruben Block bodo odigrali repertoar z vseh štirih starih albumov ter novega studijskega albuma z naslovom ´Colossus´. Nastop pred dvema letoma je bil posvečen takrat objavljenemu albumu ´By Absence Of The Sun´\, odigrali pa so tudi stare hite: ´My Baby’s Got A Gun´\, ´Let It Ride´\, ´Cherry´\, ´Halfway Town´\, ´Is It´\, ´On My Knees´\, ´Camaro´.\n\n \nFoto: Spletna stran organizatorja ter izvajalcev \n 
URL:http://815.si/dogodek/triggerfinger-place-bury-strangers-tvornica-kulture-zagreb-5-11-2017/
LOCATION:Tvornica kulture\, Šubićeva 2\, Zagreb\, 10000\, Hrvaška
CATEGORIES:Rock
ATTACH;FMTTYPE=image/jpeg:http://815.si/wp-content/uploads/2017/11/reflektor.jpg
END:VEVENT
END:VCALENDAR