BEGIN:VCALENDAR
VERSION:2.0
PRODID:-//BIS • 815.si - ECPv6.15.16//NONSGML v1.0//EN
CALSCALE:GREGORIAN
METHOD:PUBLISH
X-WR-CALNAME:BIS • 815.si
X-ORIGINAL-URL:http://815.si
X-WR-CALDESC:Dogodki za BIS • 815.si
REFRESH-INTERVAL;VALUE=DURATION:PT1H
X-Robots-Tag:noindex
X-PUBLISHED-TTL:PT1H
BEGIN:VTIMEZONE
TZID:Europe/Paris
BEGIN:DAYLIGHT
TZOFFSETFROM:+0100
TZOFFSETTO:+0200
TZNAME:CEST
DTSTART:20180325T010000
END:DAYLIGHT
BEGIN:STANDARD
TZOFFSETFROM:+0200
TZOFFSETTO:+0100
TZNAME:CET
DTSTART:20181028T010000
END:STANDARD
BEGIN:DAYLIGHT
TZOFFSETFROM:+0100
TZOFFSETTO:+0200
TZNAME:CEST
DTSTART:20190331T010000
END:DAYLIGHT
BEGIN:STANDARD
TZOFFSETFROM:+0200
TZOFFSETTO:+0100
TZNAME:CET
DTSTART:20191027T010000
END:STANDARD
BEGIN:DAYLIGHT
TZOFFSETFROM:+0100
TZOFFSETTO:+0200
TZNAME:CEST
DTSTART:20200329T010000
END:DAYLIGHT
BEGIN:STANDARD
TZOFFSETFROM:+0200
TZOFFSETTO:+0100
TZNAME:CET
DTSTART:20201025T010000
END:STANDARD
END:VTIMEZONE
BEGIN:VEVENT
DTSTART;TZID=Europe/Paris:20190118T210000
DTEND;TZID=Europe/Paris:20190119T010000
DTSTAMP:20260422T062407
CREATED:20190108T175206Z
LAST-MODIFIED:20190108T175256Z
UID:9306-1547845200-1547859600@815.si
SUMMARY:PAKNAT (Prvi akustični koncert na toplem) - Mladinski center Gornja Radgona (18.1.2019)
DESCRIPTION:KUD BUNKER v sodelovanju z Mladinskim centrom Gornja Radgona predstavlja\nPAKNAT  – Prvi Akustični Koncert Na Toplem.  \nGre za zimsko izdajo nastopov akustične glasbe. Z akustičnimi izvedbami avtorskih pesmih in priredb bodo v Mladinskem centru v Gornji Radgoni od 21.00 ure naprej nastopili lokalni glasbeniki. \nVasja Rovšnik\nDarko Horvat z gostjo\nTina in Mario Potočnik\nČrt Kumer in Valentin Avsec\nEvil Peanut\nValter Klemenčič z Zsofi Klacsmann \nMalala\nSamo Budna \nVstopnina: 3€
URL:http://815.si/dogodek/paknat-prvi-akusticni-koncert-na-toplem-mladinski-center-gornja-radgona-18-1-2019/
LOCATION:Mladinski Center Gornja Radgona\, Trg svobode 15\, Gornja Radgona\, 9250\, Slovenija
CATEGORIES:acoustic
ATTACH;FMTTYPE=image/jpeg:http://815.si/wp-content/uploads/2019/01/PAKNAT.jpg
ORGANIZER;CN="KUD Bunker Gornja Radgona":MAILTO:kudbunker@gmail.com
END:VEVENT
END:VCALENDAR