BEGIN:VCALENDAR
VERSION:2.0
PRODID:-//BIS • 815.si - ECPv6.15.16//NONSGML v1.0//EN
CALSCALE:GREGORIAN
METHOD:PUBLISH
X-WR-CALNAME:BIS • 815.si
X-ORIGINAL-URL:http://815.si
X-WR-CALDESC:Dogodki za BIS • 815.si
REFRESH-INTERVAL;VALUE=DURATION:PT1H
X-Robots-Tag:noindex
X-PUBLISHED-TTL:PT1H
BEGIN:VTIMEZONE
TZID:Europe/Paris
BEGIN:DAYLIGHT
TZOFFSETFROM:+0100
TZOFFSETTO:+0200
TZNAME:CEST
DTSTART:20170326T010000
END:DAYLIGHT
BEGIN:STANDARD
TZOFFSETFROM:+0200
TZOFFSETTO:+0100
TZNAME:CET
DTSTART:20171029T010000
END:STANDARD
BEGIN:DAYLIGHT
TZOFFSETFROM:+0100
TZOFFSETTO:+0200
TZNAME:CEST
DTSTART:20180325T010000
END:DAYLIGHT
BEGIN:STANDARD
TZOFFSETFROM:+0200
TZOFFSETTO:+0100
TZNAME:CET
DTSTART:20181028T010000
END:STANDARD
BEGIN:DAYLIGHT
TZOFFSETFROM:+0100
TZOFFSETTO:+0200
TZNAME:CEST
DTSTART:20190331T010000
END:DAYLIGHT
BEGIN:STANDARD
TZOFFSETFROM:+0200
TZOFFSETTO:+0100
TZNAME:CET
DTSTART:20191027T010000
END:STANDARD
END:VTIMEZONE
BEGIN:VEVENT
DTSTART;TZID=Europe/Paris:20180823T200000
DTEND;TZID=Europe/Paris:20180823T220000
DTSTAMP:20260422T092822
CREATED:20180814T200421Z
LAST-MODIFIED:20180814T200421Z
UID:6757-1535054400-1535061600@815.si
SUMMARY:Boštjan Gombač & Janez Dovč: Sounds of Slovenia\, Škofja Loka (23.8.2018)
DESCRIPTION:Letošnji festival Pisana Loka že prvi večer ponuja nepozabno glasbeno doživetje. Na terasi nad Namo bomo prisluhnili unikatnim priredbam slovenske ljudske glasbe\, ki segajo daleč preko ustaljenih okvirjev.\nGlasbena virtuoza Boštjan Gombač (klarinet\, piščali\, vokal\, pojoča žaga\, zvočila) in Janez Dovč (harmonika\, vokal\, synth bas\, topotalnik) v projektu Sounds of Slovenia iskrivo in hudomušno preigravata različne skladbe glasbene tradicije\, ki so zaznamovale slovensko ljudsko glasbo\, s svojimi nastopi pa puščata pečat tako doma\, kot tudi v tujini. \n\nVrhunska glasbenika\, ki ju poznamo kot solista in člana mnogih slovenskih zasedb\, se nam bosta predstavila v zanimivi kombinaciji\, ki bo s svojo virtuoznostjo in hudomušnostjo predstavila slovensko ljudsko glasbo v sodobnih in živih priredbah. Glasbenika sta razvila poseben občutek za kontrapunkt med danostjo različnih glasbenih tradicij in svobodo osebnega izraza. Na koncu novega veka ne gre več samo za renesančnost\, temveč za resonančnost prostora\, ne le za zvočnost\, ampak za sozvočnost\, ne samo za oglaševanje\, temveč uglaševanje. Kot ambasadorja slovenske kulturne in naravne raznolikosti s svojim zanimivim nastopom večkrat nastopata na različnih festivalih in prireditvah v tujini (Kitajska\, Indija\, Velika Britanija\, Izrael\, Irska\, Italija\, Nemčija\, Argentina itd). \nCena vstopnice je 7 €\, rezervirate pa jih lahko na lovro2@gmail.com ali osebno v Knjižnici Ivana Tavčarja Škofja Loka.
URL:http://815.si/dogodek/bostjan-gombac-janez-dovc-sounds-of-slovenia-skofja-loka-23-8-2018/
LOCATION:Knjižnica Ivana Tavčarja Škofja Loka
CATEGORIES:acoustic,Etno,World music
ATTACH;FMTTYPE=image/jpeg:http://815.si/wp-content/uploads/2018/08/37182160_782287435493480_7063973093013716992_o.jpg
END:VEVENT
BEGIN:VEVENT
DTSTART;TZID=Europe/Paris:20180630T203000
DTEND;TZID=Europe/Paris:20180630T213000
DTSTAMP:20260422T092822
CREATED:20180617T213316Z
LAST-MODIFIED:20180625T190419Z
UID:4997-1530390600-1530394200@815.si
SUMMARY:Prešerna noč z Aleksandrom Mežkom in prijatelji - Vrba (30.6.2018)
DESCRIPTION:Prešerna noč v Vrbi poteka vsako leto junija. Pritegne tako domačine\, kot tudi vse ljubitelje glasbe in komornih koncertov na prostem.\nAleksander Mežek\, priljubljeni slovenski glasbenik\, sicer doma iz Žirovnice\, ki je njegov navdih za mnoge pesmi\, že nekaj let zapored konec junija odigra koncert pred Prešernovo domačijo. Vsako leto se mu na odru v prijetnem ambientu pridružijo prijatelji\, vrhunski glasbeniki. \nTokrat gosti Marka Hribernika in godalni orkester Camerata Carniola\, multiinštrumentalista Boštjana Gombača in Janeza Dovča\, bobnarja Vida Ušeničnika ter basista Ilja Pušnika. \nhttps://www.youtube.com/watch?v=xN8EXtqDLGk \nVstopnine ni.
URL:http://815.si/dogodek/preserna-noc-z-aleksandrom-mezkom-in-prijatelji-vrba-30-6-2018/
CATEGORIES:acoustic,Pop,Rock,World music
ATTACH;FMTTYPE=image/jpeg:http://815.si/wp-content/uploads/2018/06/Aleksander-Mežek-Prešerna-noč-2018.jpg
END:VEVENT
END:VCALENDAR