BEGIN:VCALENDAR
VERSION:2.0
PRODID:-//BIS • 815.si - ECPv6.15.16//NONSGML v1.0//EN
CALSCALE:GREGORIAN
METHOD:PUBLISH
X-ORIGINAL-URL:http://815.si
X-WR-CALDESC:Dogodki za BIS • 815.si
REFRESH-INTERVAL;VALUE=DURATION:PT1H
X-Robots-Tag:noindex
X-PUBLISHED-TTL:PT1H
BEGIN:VTIMEZONE
TZID:Europe/Paris
BEGIN:DAYLIGHT
TZOFFSETFROM:+0100
TZOFFSETTO:+0200
TZNAME:CEST
DTSTART:20170326T010000
END:DAYLIGHT
BEGIN:STANDARD
TZOFFSETFROM:+0200
TZOFFSETTO:+0100
TZNAME:CET
DTSTART:20171029T010000
END:STANDARD
BEGIN:DAYLIGHT
TZOFFSETFROM:+0100
TZOFFSETTO:+0200
TZNAME:CEST
DTSTART:20180325T010000
END:DAYLIGHT
BEGIN:STANDARD
TZOFFSETFROM:+0200
TZOFFSETTO:+0100
TZNAME:CET
DTSTART:20181028T010000
END:STANDARD
BEGIN:DAYLIGHT
TZOFFSETFROM:+0100
TZOFFSETTO:+0200
TZNAME:CEST
DTSTART:20190331T010000
END:DAYLIGHT
BEGIN:STANDARD
TZOFFSETFROM:+0200
TZOFFSETTO:+0100
TZNAME:CET
DTSTART:20191027T010000
END:STANDARD
END:VTIMEZONE
BEGIN:VEVENT
DTSTART;TZID=Europe/Paris:20181027T210000
DTEND;TZID=Europe/Paris:20181027T235900
DTSTAMP:20260422T022615
CREATED:20180930T192443Z
LAST-MODIFIED:20180930T192443Z
UID:7774-1540674000-1540684740@815.si
SUMMARY:Brkovi - TrainStation SubArt (27. 10. 2018)
DESCRIPTION:Gre za glasbeno atrakcijo iz Zagreba\, ki jo vodi karizmatični Shamso 69\, prava oderska ikona. Band je spojil za mnoge popolnoma nekompatibilne glasbene žanre in odprl novo prenovljeno shemo treh starejših glasbenih smernic. Od turbofolka uporablja značilne emocionalne stihe združene z ostrino punk rocka in težo heavy metala. Ti elementi se odražajo predvsem v načinu petja in kitarskih melodijah (pogosto v tercah) ter zvenijo kot poklon pastirkemu rocku. Njihovi teksti so politično nekorektni in raje prepevajo o ljubezni\, tipično za turbofolk in zabavno glasbo. Pri naših nekdanjih bratih so razprodali številne klube in dvorane\, med drugim tudi Dom sportova v Zagrebu in Halo sportova v Beogradu. Kjerkoli se pojavijo\, razgrejejo množico ljudi do obisti in upravičijo svoj sloves in tako bo tudi tokrat. Živahno in na poskok! \nPOVEZAVI\nhttps://www.facebook.com/punkfolkwellness/\nhttp://www.brkovi.com\n\n \nVSTOPNICE/TICKETS\nhttps://subart.si/27-10-2018-brkovi/
URL:http://815.si/dogodek/brkovi-trainstation-subart-27-10-2018/
LOCATION:TrainStation SubArt\, Kolodvorska cesta 8\, Kranj\, Slovenija
CATEGORIES:Punk,Rock
ATTACH;FMTTYPE=image/jpeg:http://815.si/wp-content/uploads/2018/09/41501545_2068268426570859_3279273011567394816_n.jpg
END:VEVENT
BEGIN:VEVENT
DTSTART;TZID=Europe/Paris:20180224T210000
DTEND;TZID=Europe/Paris:20180224T235900
DTSTAMP:20260422T022615
CREATED:20180115T113928Z
LAST-MODIFIED:20180115T113928Z
UID:2351-1519506000-1519516740@815.si
SUMMARY:Brkovi - Orto Bar (24.2.2018)
DESCRIPTION:V Orto bar se vračajo Brkovi !!\nBrkovi\, bend iz Zagreba\, ki ga sestavljajo Shamso 69\, Prasac\, Žorž\, Šarulja in Tomac. Svojo glasbo označujejo kot turbo punk folk wellness\, na kratko: punk rock z dodatki hard rocka in distorzijo heavy metala\, začinjen z balkanskim melosom… Na sceni so od leta 2004\, izdali so pet albumov in dodobra razgreli številna občinstva!\nSe ga vidmo na nenadjebljivi žurki 24. februarja v Orto baru!\nPo koncertu sledi After Party Hard !!! \nBRKOVI\nhttps://www.facebook.com/punkfolkwellness/ \nPredprodaja vstopnic: https://www.on-parole.com/si/shop/view/brkovi-ljubljana-24-02-2018-ticket\n@ On Parole Productions\, TRUGA Shop\, Orto bar …\nPredprodaja: 12€\nNa dan koncerta: 15€
URL:http://815.si/dogodek/brkovi-orto-bar-24-2-2018/
LOCATION:Orto Bar\, Grablovičeva ulica 1\, Ljubljana\, Slovenija
CATEGORIES:Punk
ATTACH;FMTTYPE=image/jpeg:http://815.si/wp-content/uploads/2018/01/brkovi.jpg
END:VEVENT
END:VCALENDAR