BEGIN:VCALENDAR
VERSION:2.0
PRODID:-//BIS • 815.si - ECPv6.15.16//NONSGML v1.0//EN
CALSCALE:GREGORIAN
METHOD:PUBLISH
X-WR-CALNAME:BIS • 815.si
X-ORIGINAL-URL:http://815.si
X-WR-CALDESC:Dogodki za BIS • 815.si
REFRESH-INTERVAL;VALUE=DURATION:PT1H
X-Robots-Tag:noindex
X-PUBLISHED-TTL:PT1H
BEGIN:VTIMEZONE
TZID:Europe/Paris
BEGIN:DAYLIGHT
TZOFFSETFROM:+0100
TZOFFSETTO:+0200
TZNAME:CEST
DTSTART:20170326T010000
END:DAYLIGHT
BEGIN:STANDARD
TZOFFSETFROM:+0200
TZOFFSETTO:+0100
TZNAME:CET
DTSTART:20171029T010000
END:STANDARD
BEGIN:DAYLIGHT
TZOFFSETFROM:+0100
TZOFFSETTO:+0200
TZNAME:CEST
DTSTART:20180325T010000
END:DAYLIGHT
BEGIN:STANDARD
TZOFFSETFROM:+0200
TZOFFSETTO:+0100
TZNAME:CET
DTSTART:20181028T010000
END:STANDARD
BEGIN:DAYLIGHT
TZOFFSETFROM:+0100
TZOFFSETTO:+0200
TZNAME:CEST
DTSTART:20190331T010000
END:DAYLIGHT
BEGIN:STANDARD
TZOFFSETFROM:+0200
TZOFFSETTO:+0100
TZNAME:CET
DTSTART:20191027T010000
END:STANDARD
BEGIN:DAYLIGHT
TZOFFSETFROM:+0100
TZOFFSETTO:+0200
TZNAME:CEST
DTSTART:20200329T010000
END:DAYLIGHT
BEGIN:STANDARD
TZOFFSETFROM:+0200
TZOFFSETTO:+0100
TZNAME:CET
DTSTART:20201025T010000
END:STANDARD
END:VTIMEZONE
BEGIN:VEVENT
DTSTART;TZID=Europe/Paris:20190118T210000
DTEND;TZID=Europe/Paris:20190118T235900
DTSTAMP:20260422T053854
CREATED:20181226T195057Z
LAST-MODIFIED:20181226T195133Z
UID:9103-1547845200-1547855940@815.si
SUMMARY:Crvena Jabuka - Cvetličarna (18.1.2019)
DESCRIPTION:Veliki tradicionalni Greatest Hits koncert\nCRVENA JABUKA – 18. Januar 2019 @ Cvetličarna \nVstopnice v predprodaji na vseh mestih Eventim in Petrol\nPrvih200 vstopnic le 15eur (na voljo od ponedeljka od 14h dalje)\nNadaljna predprodaja: 18eur\nCena na dan: 22eur\nVstopnice na voljo na vseh mestih Eventim in Petrol \nPrvi koncert v letu bo\, kot veleva tradicija\, pripadal mojstrom ljubezenske lirike\, skupini Crvena jabuka! Legendarni sarajevsko-zagrebški bend\, ki jih po celotnem območju nekdanje skupne države odkrivajo vedno nove generacije poslušalcev in to že več kot 30 let!\nZ večnimi hiti\, kot so »Nekako s proljeća«\, »Zovu nas ulice«\, »To mi radi«\, »Ima nešto od srca do srca«\, »Sviđa mi se ova stvar« in številnih drugih se boste lahko spomnili vročih poletnih dni in se objeli s prijatelji v morju spominov. Čaka vas odličen glasbeni večer\, ki ga nikakor ne smete zamuditi. \nKo se bo nekega dne izbiral najbolj romantičen bend\, odločitev ne bo težka. V 28. letih je Crvena jabuka na svojih dvanajstih studijskih albumih posnela več kot 100 pesmi\, katerih skupna rdeča nit je – ljubezen. A prav ljubezen je skrivnost dolgovečnosti fantov iz Sarajeva\, ki so se davnega leta 1985 odločili posneti svoj prvi album. \nDražen Ričl (vokal\, kitara)\, Aljoša Buha (bas)\, Dražen Žerić (klaviature)\, Darko Jelčić (bobni) in Zlatko Arslanagić (kitara)\, so že posneli prve skladbe\, a kot pravi legenda\, se nikakor niso mogli dogovoriti\, kako naj bi se bend imenoval – vse dotlej\, dokler ni nekdo v studio slučajno prinesel rdeče jabolko. Že prvi album z vrsto hitov kot so »Dirlija«\, »Bježi kišo s prozora« ali »S tvojih usana«\, je izdal takratni Jugoton\, sedaj Croatia Records. Sodelovanje Crvene jabuke s to produkcijsko hišo traja že celih 25 let\, Davor Papić pa je kot oblikovalec skupine že od prvega albuma dalje\, saj je avtor ovitkov večine njihovih izdaj. \nSledila je evforija in prva velika turneja skupine\, a fantje so polni emocij in energije že ustvarjali pesmi za svoj novi album. Prvi veliki koncert Crvene jabuke je na žalost zasenčila tragedija\, v kateri sta umrla pevec Dražen Ričl in basist Aljoša Buha. Preostali trije člani so leta 1987 posneli drugi album »Za sve ove godine«\, ki so ga posvetili umrlima prijateljema. \nJubilejno leto 2010\, v katerem je Crvena jabuka praznovala 25 let delovanja\, se je začelo z izdajo knjige o skupini\, v kompletu s štirimi CD-ji\, pod skupnim naslovom »Da nije ljubavi«. Na novo so posneli devet skladb\, nekatere že znane v novem aranžmaju\, nekatere pa še niso bile slišane v izvedbi Crvene jabuke. Leto kasneje so izdali še ploščo »Za tvoju ljubav«\, nato pa še »Nek’ bude ljubav«.
URL:http://815.si/dogodek/crvena-jabuka-cvetlicarna-18-1-2019/
LOCATION:Cvetličarna\, Kranjčeva ulica 20\, Ljubljana\, Slovenija
CATEGORIES:Rock
ATTACH;FMTTYPE=image/jpeg:http://815.si/wp-content/uploads/2018/12/46420856_10155918811029013_3552896500298153984_o.jpg
END:VEVENT
BEGIN:VEVENT
DTSTART;TZID=Europe/Paris:20180119T213000
DTEND;TZID=Europe/Paris:20180119T235900
DTSTAMP:20260422T053854
CREATED:20171217T115403Z
LAST-MODIFIED:20171217T115403Z
UID:1853-1516397400-1516406340@815.si
SUMMARY:Crvena Jabuka - Cvetličarna (19.1.2018)
DESCRIPTION:Veliki tradicionalni Greatest Hits koncert skupine Crvena Jabuka\nVstopnice v predprodaji na vseh mestih Eventim in Petrol\nPrvih 200 vstopnic le 15eur!\nZadnje najcenejše vstopnice na voljo na vseh mestih Eventim in Petrol \nPrvi koncert v letu bo\, kot veleva tradicija\, pripadal mojstrom ljubezenske lirike\, skupini Crvena jabuka! Legendarni sarajevsko-zagrebški bend\, ki jih po celotnem območju nekdanje skupne države odkrivajo vedno nove generacije poslušalcev in to že več kot 30 let!\nZ večnimi hiti\, kot so »Nekako s proljeća«\, »Zovu nas ulice«\, »To mi radi«\, »Ima nešto od srca do srca«\, »Sviđa mi se ova stvar« in številnih drugih se boste lahko spomnili vročih poletnih dni in se objeli s prijatelji v morju spominov. Čaka vas odličen glasbeni večer\, ki ga nikakor ne smete zamuditi. \nCrvena Jabuka\nKo se bo nekega dne izbiral najbolj romantičen bend\, odločitev ne bo težka. V 28. letih je Crvena jabuka na svojih dvanajstih studijskih albumih posnela več kot 100 pesmi\, katerih skupna rdeča nit je – ljubezen. A prav ljubezen je skrivnost dolgovečnosti fantov iz Sarajeva\, ki so se davnega leta 1985 odločili posneti svoj prvi album. \nDražen Ričl (vokal\, kitara)\, Aljoša Buha (bas)\, Dražen Žerić (klaviature)\, Darko Jelčić (bobni) in Zlatko Arslanagić (kitara)\, so že posneli prve skladbe\, a kot pravi legenda\, se nikakor niso mogli dogovoriti\, kako naj bi se bend imenoval – vse dotlej\, dokler ni nekdo v studio slučajno prinesel rdeče jabolko. Že prvi album z vrsto hitov kot so »Dirlija«\, »Bježi kišo s prozora« ali »S tvojih usana«\, je izdal takratni Jugoton\, sedaj Croatia Records. Sodelovanje Crvene jabuke s to produkcijsko hišo traja že celih 25 let\, Davor Papić pa je kot oblikovalec skupine že od prvega albuma dalje\, saj je avtor ovitkov večine njihovih izdaj. \nSledila je evforija in prva velika turneja skupine\, a fantje so polni emocij in energije že ustvarjali pesmi za svoj novi album. Prvi veliki koncert Crvene jabuke je na žalost zasenčila tragedija\, v kateri sta umrla pevec Dražen Ričl in basist Aljoša Buha. Preostali trije člani so leta 1987 posneli drugi album »Za sve ove godine«\, ki so ga posvetili umrlima prijateljema. \nJubilejno leto 2010\, v katerem je Crvena jabuka praznovala 25 let delovanja\, se je začelo z izdajo knjige o skupini\, v kompletu s štirimi CD-ji\, pod skupnim naslovom »Da nije ljubavi«. Na novo so posneli devet skladb\, nekatere že znane v novem aranžmaju\, nekatere pa še niso bile slišane v izvedbi Crvene jabuke. Leto kasneje so izdali še ploščo »Za tvoju ljubav«\, nato pa še »Nek’ bude ljubav«.
URL:http://815.si/dogodek/crvena-jabuka-cvetlicarna-19-1-2018/
LOCATION:Cvetličarna\, Kranjčeva ulica 20\, Ljubljana\, Slovenija
CATEGORIES:Rock
ATTACH;FMTTYPE=image/jpeg:http://815.si/wp-content/uploads/2017/12/crvena_jabuka_banner.jpg
END:VEVENT
END:VCALENDAR