BEGIN:VCALENDAR
VERSION:2.0
PRODID:-//BIS • 815.si - ECPv6.15.16//NONSGML v1.0//EN
CALSCALE:GREGORIAN
METHOD:PUBLISH
X-WR-CALNAME:BIS • 815.si
X-ORIGINAL-URL:http://815.si
X-WR-CALDESC:Dogodki za BIS • 815.si
REFRESH-INTERVAL;VALUE=DURATION:PT1H
X-Robots-Tag:noindex
X-PUBLISHED-TTL:PT1H
BEGIN:VTIMEZONE
TZID:Europe/Paris
BEGIN:DAYLIGHT
TZOFFSETFROM:+0100
TZOFFSETTO:+0200
TZNAME:CEST
DTSTART:20170326T010000
END:DAYLIGHT
BEGIN:STANDARD
TZOFFSETFROM:+0200
TZOFFSETTO:+0100
TZNAME:CET
DTSTART:20171029T010000
END:STANDARD
BEGIN:DAYLIGHT
TZOFFSETFROM:+0100
TZOFFSETTO:+0200
TZNAME:CEST
DTSTART:20180325T010000
END:DAYLIGHT
BEGIN:STANDARD
TZOFFSETFROM:+0200
TZOFFSETTO:+0100
TZNAME:CET
DTSTART:20181028T010000
END:STANDARD
BEGIN:DAYLIGHT
TZOFFSETFROM:+0100
TZOFFSETTO:+0200
TZNAME:CEST
DTSTART:20190331T010000
END:DAYLIGHT
BEGIN:STANDARD
TZOFFSETFROM:+0200
TZOFFSETTO:+0100
TZNAME:CET
DTSTART:20191027T010000
END:STANDARD
END:VTIMEZONE
BEGIN:VEVENT
DTSTART;TZID=Europe/Paris:20180929T210000
DTEND;TZID=Europe/Paris:20180929T235900
DTSTAMP:20260422T071846
CREATED:20180923T085842Z
LAST-MODIFIED:20180923T090043Z
UID:7541-1538254800-1538265540@815.si
SUMMARY:ÊDNA na Alternativni godbi\, predstavitev albuma Ajnc\, cvaj\, draj - MIKK\, Murska Sobota (29.9.2018)
DESCRIPTION:ÊDNA\, kreativna glasbena zasedba iz štajersko-pomurskih krajev\, za 29. september 2018 napoveduje promocijski koncert ob izidu prvenca “Ajnc\, cvaj\, draj”. Album bodo predstavili na koncertu v sklopu projekta Alternativna godba\, ki ga izvajajo v murskosoboškem MIKK-u (Mladinski informativni in kulturni klub).\nSobota\, 29. september 2018\nMIKKov klubski prostor ob 21.00\nVstopnina 4€ \nVstopnice so v prodaji v MIKKovi kavarni.  \nSkupina Êdna so: \n•Tjaša Cigut – vokal\, klavir\n•Luka Sraka – kitara\n•Luka Ščavničar – kontrabas\n•Jasmina Dajčman – saksofon\n•Blaž Korez – tolkala \nPred kratkim so predstavili videospot za prvi singel “Pika Pouka”\, s katerim napovedujejo koncert in izid glasbenega prvenca. \n\nÊdna (prekmurski izraz za ENA) predstavlja pet glasbenih svetov\, združenih v edinstveno celoto\, ki jo povezuje neverjetna glasbena kemija in strast umetniškega ustvarjanja. Zgodba Êdne se piše od leta 2014\, ko je izšla plošča “Edno takšo bi rad” pevke Tjaše Cigut. Mlade glasbenike je navdušila stara glasbena zapuščina s področja Prekmurja in Porabja. Ljudske pesmi v njihovi izvedbi dobijo novo unikatno preobleko. Osrednja tema v izbranih pesmih je ženska\, zlasti pesmi ponujajo uvid v njen položaj v družbi v preteklosti\, predvsem v smislu spoznavanja in razumevanja medosebnih odnosov. \nSkladbe so s svojo močno sporočilnostjo in modernim glasbenim izrazom povezale uveljavljene mlade profesionalne glasbenike (akademski glasbeniki\, učitelji\, psihologi) iz štajerske in pomurske regije\, ki se uveljavljajo na različnih glasbenih področjih (etno\, klasika\, jazz\, rock\, fusion …). Vsak izmed članov skupine vpleta v glasbeno izvajanje Êdne svoje glasbene izkušnje in znanja\, skupaj pa tvorijo pomlajeno arhaično podobo\, ki tako zelo prija ušesom\, poslušalca popelje v druge dimenzije in neverjetno pomirja ter kot celota navdušuje. \n  \n  \n 
URL:http://815.si/dogodek/7541/
LOCATION:MIKK\, Trubarjev drevored 4\, Murska Sobota\, Slovenija
CATEGORIES:Blues,Country,Etno,Fusion,Jazz,Klasika,Pop,Rock,World music
ATTACH;FMTTYPE=image/jpeg:http://815.si/wp-content/uploads/2018/09/EDNA.jpg
ORGANIZER;CN="MIKK Murska Sobota":MAILTO:info@mikk.si, vladimir.petkovic@mikk.si
END:VEVENT
END:VCALENDAR