BEGIN:VCALENDAR
VERSION:2.0
PRODID:-//BIS • 815.si - ECPv6.15.16//NONSGML v1.0//EN
CALSCALE:GREGORIAN
METHOD:PUBLISH
X-ORIGINAL-URL:http://815.si
X-WR-CALDESC:Dogodki za BIS • 815.si
REFRESH-INTERVAL;VALUE=DURATION:PT1H
X-Robots-Tag:noindex
X-PUBLISHED-TTL:PT1H
BEGIN:VTIMEZONE
TZID:Europe/Paris
BEGIN:DAYLIGHT
TZOFFSETFROM:+0100
TZOFFSETTO:+0200
TZNAME:CEST
DTSTART:20170326T010000
END:DAYLIGHT
BEGIN:STANDARD
TZOFFSETFROM:+0200
TZOFFSETTO:+0100
TZNAME:CET
DTSTART:20171029T010000
END:STANDARD
BEGIN:DAYLIGHT
TZOFFSETFROM:+0100
TZOFFSETTO:+0200
TZNAME:CEST
DTSTART:20180325T010000
END:DAYLIGHT
BEGIN:STANDARD
TZOFFSETFROM:+0200
TZOFFSETTO:+0100
TZNAME:CET
DTSTART:20181028T010000
END:STANDARD
BEGIN:DAYLIGHT
TZOFFSETFROM:+0100
TZOFFSETTO:+0200
TZNAME:CEST
DTSTART:20190331T010000
END:DAYLIGHT
BEGIN:STANDARD
TZOFFSETFROM:+0200
TZOFFSETTO:+0100
TZNAME:CET
DTSTART:20191027T010000
END:STANDARD
END:VTIMEZONE
BEGIN:VEVENT
DTSTART;TZID=Europe/Paris:20180301T200000
DTEND;TZID=Europe/Paris:20180301T235900
DTSTAMP:20260421T110357
CREATED:20180115T144749Z
LAST-MODIFIED:20180115T144749Z
UID:2361-1519934400-1519948740@815.si
SUMMARY:#4 Riffeater - Orto Bar (01.03.2018)
DESCRIPTION:#4 RIFFEATER\nVstopnice / Tickets … preko On Parole Productions\, v TRUGA Shop (Lj) v Orto baru in na vseh Dirty Skunks koncertih…\nSLO: https://www.on-parole.com/si/shop/view/riffeater-4-dopelord-ljubljana-01-03-2018-ticket\nENG: https://www.on-parole.com/shop/view/riffeater-4-dopelord-ljubljana-01-03-2018-ticket \nMinistrstvo Republike Slovenije za zdravje opozarja\, da bo 4. Riffeater dogodek bolj masten od celotne fast food industrije. 1. marca 2018 bomo vaša ušesa zabelili s poljskimi težkokaloričnjaki Dopelord.\nKdo so Dopelord? Če bi Black Sabbath\, Pentagram\, Sleep in Electric Wizard imeli divje razvratne orgije\, ovite v dimno zaveso prepovedanih substanc ter začinjene z domačim lojem\, potem bi bili poljski doomerji Dopelord njihov otrok. So počasna\, težka zverina mamutskih proporcev\, ki so na svojem psihadelično-obarvanem pohodu že od leta 2010. Leta 2012\, po dveh letih intenzivnega kajenja marihuane\, so izdali prvenec Magick Rites\, svojo zvočno podobo pa so nadgradili leta 2014\, ko so skadili še več substanc in izdali album Black Arts\, Riff Worship and Weed Cult. Naslov tega albuma ni pustil prostora dvomom: kitare\, uglašene na travo in distorzija\, za katero niste vedeli\, da obstaja\, sta prepričala številne kritike\, ne pa Dopelord samih\, ki so vedeli\, da niso še pobili vseh možganskih celic svojih oboževalcev. Zaprli so se v studio in januarja 2017 izdali eno izmed najboljših doom plat tega leta\, Children of the Haze. Album so sproducirali v naftni vrtini\, riffi na njem pa so tako težki\, da so popolnoma izničili »yo momma« šale.\nNajtežja riffovska karavana leta 2018 se bo s supportom ustavila v ljubljanskem Orto Baru\, mi pa že komaj čakamo\, da bomo skupaj fušali refren: »Uiii aaar d ćiiiildreeeen!«\nSupport: Jegulja !! \nDOPELORD\nhttps://www.facebook.com/Dopelord666/ \nJEGULJA\nhttps://www.facebook.com/anguillaguerrilla/ \nR I F F E A T E R !! Koncertni cikel\, enkrat mesečno! Stoner\, Doom\, Sludge\, Drone\, Post\, Experimental\, Psychedelic … sem ter tja bomo zajadrali tudi izven žanrskih okvirjev. Like and share RIFFEATER\, worship Riffeater !! Join the Dirty Skunks Stoner / Sludge / Post Metal / Doom / Drone mailing list\nhttp://eepurl.com/cJrvr5
URL:http://815.si/dogodek/riffeater-orto-bar-01-03-2018/
LOCATION:Orto Bar\, Grablovičeva ulica 1\, Ljubljana\, Slovenija
CATEGORIES:Metal
ATTACH;FMTTYPE=image/jpeg:http://815.si/wp-content/uploads/2018/01/26231461_538338863207078_2326538512824885992_n.jpg
END:VEVENT
END:VCALENDAR