BEGIN:VCALENDAR
VERSION:2.0
PRODID:-//BIS • 815.si - ECPv6.15.16//NONSGML v1.0//EN
CALSCALE:GREGORIAN
METHOD:PUBLISH
X-WR-CALNAME:BIS • 815.si
X-ORIGINAL-URL:http://815.si
X-WR-CALDESC:Dogodki za BIS • 815.si
REFRESH-INTERVAL;VALUE=DURATION:PT1H
X-Robots-Tag:noindex
X-PUBLISHED-TTL:PT1H
BEGIN:VTIMEZONE
TZID:Europe/Paris
BEGIN:DAYLIGHT
TZOFFSETFROM:+0100
TZOFFSETTO:+0200
TZNAME:CEST
DTSTART:20180325T010000
END:DAYLIGHT
BEGIN:STANDARD
TZOFFSETFROM:+0200
TZOFFSETTO:+0100
TZNAME:CET
DTSTART:20181028T010000
END:STANDARD
BEGIN:DAYLIGHT
TZOFFSETFROM:+0100
TZOFFSETTO:+0200
TZNAME:CEST
DTSTART:20190331T010000
END:DAYLIGHT
BEGIN:STANDARD
TZOFFSETFROM:+0200
TZOFFSETTO:+0100
TZNAME:CET
DTSTART:20191027T010000
END:STANDARD
BEGIN:DAYLIGHT
TZOFFSETFROM:+0100
TZOFFSETTO:+0200
TZNAME:CEST
DTSTART:20200329T010000
END:DAYLIGHT
BEGIN:STANDARD
TZOFFSETFROM:+0200
TZOFFSETTO:+0100
TZNAME:CET
DTSTART:20201025T010000
END:STANDARD
BEGIN:DAYLIGHT
TZOFFSETFROM:+0100
TZOFFSETTO:+0200
TZNAME:CEST
DTSTART:20210328T010000
END:DAYLIGHT
BEGIN:STANDARD
TZOFFSETFROM:+0200
TZOFFSETTO:+0100
TZNAME:CET
DTSTART:20211031T010000
END:STANDARD
BEGIN:DAYLIGHT
TZOFFSETFROM:+0100
TZOFFSETTO:+0200
TZNAME:CEST
DTSTART:20220327T010000
END:DAYLIGHT
BEGIN:STANDARD
TZOFFSETFROM:+0200
TZOFFSETTO:+0100
TZNAME:CET
DTSTART:20221030T010000
END:STANDARD
END:VTIMEZONE
BEGIN:VEVENT
DTSTART;TZID=Europe/Paris:20210828T193000
DTEND;TZID=Europe/Paris:20210828T223000
DTSTAMP:20260422T174710
CREATED:20210703T065020Z
LAST-MODIFIED:20210703T065200Z
UID:17097-1630179000-1630189800@815.si
SUMMARY:Izštekani: Društvo Mrtvih Pesnikov
DESCRIPTION:IZŠTEKANI iz Novega mesta: DRUŠTVO MRTVIH PESNIKOV z godalnim kvartetom Corcoras ob 30. obletnici skupine\nTo poletje se bodo Izštekani znova odpravili iz varnega studia na prosto. Tokrat prvič v Novo mesto. Pa to ne bo edini prvič. Izštekani namreč še nikoli niso gostili legendarnega novomeškega benda Društvo mrtvih pesnikov. Akustični koncert ob 30. obletnici skupine z godalnim kvartetom Corcoras je idealna priložnost za popravo te zgodovinske krivice. Dogodek v soboto 28. avgusta 2021 v posebni postavitvi na novomeškem Glavnem trgu bo obenem finale novega Festivala novomeško poletje. Posnela ga bo tudi Televizija Slovenija. Radijski in spletni videoprenos se bo začel točno ob 20.00. Seveda ste toplo vabljeni tudi na prizorišče\, tule je FB dogodek .\n\nDruštvo mrtvih pesnikov zadnje desetletje deluje v zasedbi Alan Vitezič (glas\, kitara)\, Peter Dekleva (kitara)\, Boštjan Artiček (klaviature)\, Tomaž Koncilija (bas\, glas) in Marko Zajc (bobni). Po srebrnem jubileju\, ki so ga obeležili z odmevnima koncertoma v novomeškem KCJT in z izidom dvojnega kompilacijskega albuma 25\, so leta 2018 izdali odlično ploščo Astronavt. Ta čas že snemajo nove skladbe\, ki so večinoma nastajale v koronskem času. Času\, ki je večkrat prestavil praznovanje treh desetletij njihovega delovanja\, ki bi se moralo zgoditi že lani.\n\nNa slavnostnem novomeškem koncertu bomo slišali drugačen\, akustičen\, za to priložnost prearanžiran pregled glasbenega izraza DMP s poudarkom na še vedno aktualnem zadnjem albumu. K sodelovanju so pritegnili godalni kvartet Corcoras\, ki ima ob mednarodni zasedbi domicil prav tako v Novem mestu. Sestavljajo ga Jera Rot (violina)\, Marijan Dović (violina)\, Matthias Wähner (viola) in Ana Arh (violončelo). Poleg glasbe bo nekaj posebnega tudi ambient nedavno prenovljenega novomeškega Glavnega trga z znamenitimi arkadami in mogočnim rotovžem. DMPjevci bodo vanj umestili svojo produkcijo v amfiteatrski maniri ter s tem prispevali svoj kamenček v mozaik prizadevanj za oživitev enega največjih in najlepših slovenskih mestnih trgov.\n\nKoncert bo\, kot je za Izštekane v navadi\, prepreden s pogovorom\, ki ga bo vodil Jure Longyka. Zabeležile ga bodo tudi kamere Televizije Slovenija . Če bo vreme slabo\, se bomo preselili v novomeško športno dvorano Marof. Vse\, ki se boste potrudili biti zraven\, prosimo\, da mesta zasedete pravočasno\, kajti radijski in spletni videoprenos se bosta začela točno ob 20.00.\n\n\nwww.dmp.si\nwww.facebook.com/DMPDrustvomrtvihpesnikov\nwww.facebook.com/festivalnovomeskopoletje\nwww.facebook.com/corcoras.godalnikvartet\nhttp://corcoras.blogspot.com\nwww.val202.si/izstekani \nwww.facebook.com/izstekani
URL:http://815.si/dogodek/izstekani-drustvo-mrtvih-pesnikov/
ATTACH;FMTTYPE=image/jpeg:http://815.si/wp-content/uploads/2021/07/fnp_JUMBO_DMP_zm.jpg
END:VEVENT
BEGIN:VEVENT
DTSTART;TZID=Europe/Paris:20190412T213000
DTEND;TZID=Europe/Paris:20190412T233000
DTSTAMP:20260422T174710
CREATED:20190320T175913Z
LAST-MODIFIED:20190320T175913Z
UID:10353-1555104600-1555111800@815.si
SUMMARY:Orto Fest 2019 - Društvo Mrtvih Pesnikov - (12.4.2019) - Orto bar
DESCRIPTION:Taisti večer\, 12. 4. bo v klubu na nadstropju nastopila novomeška zasedba Društvo Mrtvih Pesnikov.  Novembra lani so izdali nov album Astronavt\, izid pa je pospremil s premiernim koncertom v Siti Teatru in še z dvema singloma – istoimenski Astronavt in Padalo za strah. Na njem je 10 skladb\, ki so nastajale dve ustvarjalni leti in utegnejo preživeti naš čas in preseči tuzemski prostor. Album naslavlja tematiko minljivosti življenja na Zemlji\, izgubljenosti človeka v svojem lastnem vesolju ter ljubezni tudi onkraj zaljubljenosti\, kar nakazujejo že nekateri naslovi pesmi: Hello\, Formula časa\, Astronavt\, Padalo za strah\, Čip in Od zibelke do groba. Konceptualno zgodbo raziskovanja življenja dopolnjujejo Begunca\, Filozof\, Srce ter Tinta in pero. Pesniki so se snemanja albuma lotili drugače kot ponavadi. Pesmi Alana Viteziča in Tomaža Koncilije\, zaigrane le ob kitari\, so aranžirali v studiu\, kjer so snemali vsi naenkrat in se prepustili kreativnosti. Iskali so lasten glasbeni izraz glede na značaj posamezne pesmi. Novi album prinaša predrugačeno zvočno podobo banda. Glasbeni izraz je bolj neposreden\, band pa krmari med tršimi zvoki\, akustičnimi napevi in nenazadnje prepoznavnimi intimnimi skladbami\, ki so njegov zaščitni znak. Pod producentskim vodstvom Petra Dekleve jih je studijski izlet odpeljal v različne glasbene svetove\, tako boste na albumu slišali zvoke indie folka\, post rocka\, elektro popa in tudi drum’n’bassa. Zanimivost je tudi avtorski prvenec basista Tomaža Koncilije\, ki se podpisuje pod zaključno skladbo albuma Filozof\, v kateri lahko slišimo tudi njegovo vokalno interpretacijo.
URL:http://815.si/dogodek/orto-fest-2019-drustvo-mrtvih-pesnikov-12-4-2019-orto-bar/
LOCATION:Orto Bar\, Grablovičeva ulica 1\, Ljubljana\, Slovenija
CATEGORIES:Blues,Rock
ATTACH;FMTTYPE=image/jpeg:http://815.si/wp-content/uploads/2019/03/dmp.jpg
END:VEVENT
END:VCALENDAR