BEGIN:VCALENDAR
VERSION:2.0
PRODID:-//BIS • 815.si - ECPv6.15.16//NONSGML v1.0//EN
CALSCALE:GREGORIAN
METHOD:PUBLISH
X-ORIGINAL-URL:http://815.si
X-WR-CALDESC:Dogodki za BIS • 815.si
REFRESH-INTERVAL;VALUE=DURATION:PT1H
X-Robots-Tag:noindex
X-PUBLISHED-TTL:PT1H
BEGIN:VTIMEZONE
TZID:Europe/Paris
BEGIN:DAYLIGHT
TZOFFSETFROM:+0100
TZOFFSETTO:+0200
TZNAME:CEST
DTSTART:20170326T010000
END:DAYLIGHT
BEGIN:STANDARD
TZOFFSETFROM:+0200
TZOFFSETTO:+0100
TZNAME:CET
DTSTART:20171029T010000
END:STANDARD
BEGIN:DAYLIGHT
TZOFFSETFROM:+0100
TZOFFSETTO:+0200
TZNAME:CEST
DTSTART:20180325T010000
END:DAYLIGHT
BEGIN:STANDARD
TZOFFSETFROM:+0200
TZOFFSETTO:+0100
TZNAME:CET
DTSTART:20181028T010000
END:STANDARD
BEGIN:DAYLIGHT
TZOFFSETFROM:+0100
TZOFFSETTO:+0200
TZNAME:CEST
DTSTART:20190331T010000
END:DAYLIGHT
BEGIN:STANDARD
TZOFFSETFROM:+0200
TZOFFSETTO:+0100
TZNAME:CET
DTSTART:20191027T010000
END:STANDARD
END:VTIMEZONE
BEGIN:VEVENT
DTSTART;TZID=Europe/Paris:20180330T200000
DTEND;TZID=Europe/Paris:20180330T230000
DTSTAMP:20260420T055743
CREATED:20171225T161449Z
LAST-MODIFIED:20171225T161524Z
UID:1965-1522440000-1522450800@815.si
SUMMARY:Insomnium\, Tribulation - Orto Bar (30.3.2018)
DESCRIPTION:Skandinavski metal napad konec marca v Orto Baru\n  \nPlakat koncerta\n30. marca se bodo v ljubljanskem Orto Baru ustavili prvaki skandinavske melodic metal scene\, Insomnium.\nFinci so aktivni že od leta 1997\, do zdaj pa so izdali 7 albumov (zadnjega\, Winter’s Gate\, so izdali lani). Njihova glasba je – kot ste se lahko prepričali ob poslušanju albumov – bogata s kitarskimi melodijami\, prepredena z zasanjano severnjaško atmosfero in metal do konca! Njihovi koncerti pa so daleč od severnjaške zamišljenosti – Insomnium stavijo na strasten ”live” nastop\, poln dinamike\, ki jo ustvarjajo tako člani benda\, kot razgiban seznam pesmi.\nPredskupina bodo švedski Tribulation\, katerih člani so svoje sposobnosti urili tudi v Repugnant\, Deathstars in seveda Hazard. Aktivni od leta 2004 so do zdaj izdali kar nekaj albumov\, zadnji The Children Of The Night\, je izšel leta 2015.\nVsekakor so Tribulation zasedba\, ki vam bo odpihnila glave s svojo unikatno vizijo ekstremne glasbe.\nVstopnice so že na voljo! \nINSOMNIUM\nhttps://www.facebook.com/insomniumofficial/ \nTRIBULATION\nhttps://www.facebook.com/Tribulationofficial/ \nVstopnice 21 evrov v predprodaji\, 25 evrov na dan koncerta!\nZaenkrat prek On-Parole\, kmalu pa tudi v ortu in Trugi!\nhttps://www.on-parole.com/si/shop/view/insomnium-tribulation-ljubljana-30-03-2018-ticket
URL:http://815.si/dogodek/insomnium-tribulation-orto-bar/
LOCATION:Orto Bar\, Grablovičeva ulica 1\, Ljubljana\, Slovenija
CATEGORIES:Metal
ATTACH;FMTTYPE=image/jpeg:http://815.si/wp-content/uploads/2017/12/insomnium.jpg
END:VEVENT
END:VCALENDAR