BEGIN:VCALENDAR
VERSION:2.0
PRODID:-//BIS • 815.si - ECPv6.15.16//NONSGML v1.0//EN
CALSCALE:GREGORIAN
METHOD:PUBLISH
X-WR-CALNAME:BIS • 815.si
X-ORIGINAL-URL:http://815.si
X-WR-CALDESC:Dogodki za BIS • 815.si
REFRESH-INTERVAL;VALUE=DURATION:PT1H
X-Robots-Tag:noindex
X-PUBLISHED-TTL:PT1H
BEGIN:VTIMEZONE
TZID:Europe/Paris
BEGIN:DAYLIGHT
TZOFFSETFROM:+0100
TZOFFSETTO:+0200
TZNAME:CEST
DTSTART:20170326T010000
END:DAYLIGHT
BEGIN:STANDARD
TZOFFSETFROM:+0200
TZOFFSETTO:+0100
TZNAME:CET
DTSTART:20171029T010000
END:STANDARD
BEGIN:DAYLIGHT
TZOFFSETFROM:+0100
TZOFFSETTO:+0200
TZNAME:CEST
DTSTART:20180325T010000
END:DAYLIGHT
BEGIN:STANDARD
TZOFFSETFROM:+0200
TZOFFSETTO:+0100
TZNAME:CET
DTSTART:20181028T010000
END:STANDARD
BEGIN:DAYLIGHT
TZOFFSETFROM:+0100
TZOFFSETTO:+0200
TZNAME:CEST
DTSTART:20190331T010000
END:DAYLIGHT
BEGIN:STANDARD
TZOFFSETFROM:+0200
TZOFFSETTO:+0100
TZNAME:CET
DTSTART:20191027T010000
END:STANDARD
END:VTIMEZONE
BEGIN:VEVENT
DTSTART;TZID=Europe/Paris:20181128T203000
DTEND;TZID=Europe/Paris:20181128T223000
DTSTAMP:20260422T053810
CREATED:20181121T174742Z
LAST-MODIFIED:20181121T174742Z
UID:8404-1543437000-1543444200@815.si
SUMMARY:UMA: Koncert ob izidu videa Le začuti - Tobačna/ČinČin\, Ljubljana (28.11.2018)
DESCRIPTION:V ČinČin s power-akustiko prihaja zasedba UMA.\nUMA je zasedba\, ki ponovno uvaja slovensko kakovostno in kreativno avtorsko glasbo s prepletanjem zvrsti. To počnejo z občutkom. Igrajo vse; od pop-rocka\, jazza\, rnb-ja do latino popa in celo bluesa. Z edinstvenimi impro vložki\, zaradi katerih je vsak koncert drugačen. Zasedbo UMA je enostavno treba doživeti. \nNjihov Čarobni vrt je napovedal glasbo\, ki zdravi dušo\, v živo pa presenečajo z impro vložki\, tako da je vsak koncert drugačen. UMO je enostavno treba doživeti! Na tokratnem koncertu vam bodo UMA predstavili nov videospot – kratek sci fi film Le začuti (by MaxVisuals). \n\nOrgansko\, a vesoljsko\, urbano\, a pristno. \n\nwww.umatheband.com\n– – – – –\n#UMA zasedba bo: \nUrška Majdič – UMA – vokal\nUrban Grabenšek – klavirature\nMatjaž Marin – kitara\nRok Hozjan – kontrabas\nŽiga Šercer – bobni \npop / rock / jazz / fusion / duša\n– – – – – – \nVSTOPNINE NI\nINFO & REZERVACIJE: info@tobacna.eu // 0591 30949
URL:http://815.si/dogodek/uma-koncert-ob-izidu-videa-le-zacuti-tobacna-cincin-ljubljana-28-11-2018/
LOCATION:Tobačna\, Ljubljana\, 1000\, Slovenija
CATEGORIES:Fusion,Jazz,Pop,Rock,soul
ATTACH;FMTTYPE=image/jpeg:http://815.si/wp-content/uploads/2018/11/UMA-ČinČin-Decembrrr.jpg
ORGANIZER;CN="%C4%8Cin%C4%8Cin":MAILTO:info@tobacna.eu
END:VEVENT
END:VCALENDAR