BEGIN:VCALENDAR
VERSION:2.0
PRODID:-//BIS • 815.si - ECPv6.15.16//NONSGML v1.0//EN
CALSCALE:GREGORIAN
METHOD:PUBLISH
X-ORIGINAL-URL:http://815.si
X-WR-CALDESC:Dogodki za BIS • 815.si
REFRESH-INTERVAL;VALUE=DURATION:PT1H
X-Robots-Tag:noindex
X-PUBLISHED-TTL:PT1H
BEGIN:VTIMEZONE
TZID:Europe/Paris
BEGIN:DAYLIGHT
TZOFFSETFROM:+0100
TZOFFSETTO:+0200
TZNAME:CEST
DTSTART:20180325T010000
END:DAYLIGHT
BEGIN:STANDARD
TZOFFSETFROM:+0200
TZOFFSETTO:+0100
TZNAME:CET
DTSTART:20181028T010000
END:STANDARD
BEGIN:DAYLIGHT
TZOFFSETFROM:+0100
TZOFFSETTO:+0200
TZNAME:CEST
DTSTART:20190331T010000
END:DAYLIGHT
BEGIN:STANDARD
TZOFFSETFROM:+0200
TZOFFSETTO:+0100
TZNAME:CET
DTSTART:20191027T010000
END:STANDARD
BEGIN:DAYLIGHT
TZOFFSETFROM:+0100
TZOFFSETTO:+0200
TZNAME:CEST
DTSTART:20200329T010000
END:DAYLIGHT
BEGIN:STANDARD
TZOFFSETFROM:+0200
TZOFFSETTO:+0100
TZNAME:CET
DTSTART:20201025T010000
END:STANDARD
END:VTIMEZONE
BEGIN:VEVENT
DTSTART;TZID=Europe/Paris:20191026T220000
DTEND;TZID=Europe/Paris:20191026T220000
DTSTAMP:20260422T003538
CREATED:20191024T161133Z
LAST-MODIFIED:20191024T161133Z
UID:13947-1572127200-1572127200@815.si
SUMMARY:Lean Kozlar Luigi: Predstavitev albuma Barve - Snack Bar\, Koper (26.10.2019)
DESCRIPTION:V soboto 26.10.2019 bo SNACK BAR V BARVAH! Lean Kozlar Luigi vabi na predstavitev novega albuma BARVE! 🌈Pridružili se mu bodo tudi gostje: ANIKA HORVAT\, DUCO\, MITJA KODARIN\, KRKUČA KUNEKŠON\, JANEZ SKAZA\, MARKO HRVATIN\, ANDREJ ROT\, TEO PAROVEL in MATJAŽ SKAZA.\n»Dve leti je odkar sem izdal svoj prvi album Kralj noči in nadvse me veseli\, da sem navkljub pomanjkanju časa\, koncertov in drugih dejavnosti v povezavi z mojo glasbo\, uspel posneti novo zbirko mojih pesmi. Rad bi se zahvalil vsem\, ki mi tako in drugače stojijo ob strani in velja povedati – brez njih moj glasbeni kolaž ne bi bil tako obarvan.«\nTako je Luigi pokomentiral izid albuma\, posnetega med trtami nad Vanganelom pri Kopru\, v Tramon Studios. \nLEAN KOZLAR LUIGI:\nLuigi je sicer mlad po letih\, a v glasbenih vodah velja za starega\, prekaljenega glasbenega mačka. Glasbeno nadarjenost je začel brusiti že kot otrok\, saj je bil obkrožen z mnogimi inštrumenti. Poleg kitare se je tedaj naučil igrati tudi trobento in bobne.\nDa lahko prepriča tudi kot pevec\, je spoznal v dijaškem bendu in se kmalu zatem pridružil skupinam Gedore in Q2O\, kjer ga še danes lahko slišimo v vlogi vokalista in ritem kitarista. Sodeloval je že z mnogimi glasbenimi kolegi\, kot so Slavko Ivančič\, Tulio Furlanič\, Anika Horvat\, Iztok Novak Easy\, dvakrat je nastopil na Melodijah morja in sonca in enkrat na EMI v spremljevalni skupini Rudija Bučarja. \n-vstop prost-
URL:http://815.si/dogodek/lean-kozlar-luigi-predstavitev-albuma-barve-snack-bar-koper-26-10-2019/
LOCATION:Snack Bar\, Istrska cesta 67\, Koper\, 6000\, Slovenija
CATEGORIES:Pop,Rock
ATTACH;FMTTYPE=image/png:http://815.si/wp-content/uploads/2019/01/unnamed.png
END:VEVENT
END:VCALENDAR