BEGIN:VCALENDAR
VERSION:2.0
PRODID:-//BIS • 815.si - ECPv6.15.16//NONSGML v1.0//EN
CALSCALE:GREGORIAN
METHOD:PUBLISH
X-WR-CALNAME:BIS • 815.si
X-ORIGINAL-URL:http://815.si
X-WR-CALDESC:Dogodki za BIS • 815.si
REFRESH-INTERVAL;VALUE=DURATION:PT1H
X-Robots-Tag:noindex
X-PUBLISHED-TTL:PT1H
BEGIN:VTIMEZONE
TZID:Europe/Paris
BEGIN:DAYLIGHT
TZOFFSETFROM:+0100
TZOFFSETTO:+0200
TZNAME:CEST
DTSTART:20180325T010000
END:DAYLIGHT
BEGIN:STANDARD
TZOFFSETFROM:+0200
TZOFFSETTO:+0100
TZNAME:CET
DTSTART:20181028T010000
END:STANDARD
BEGIN:DAYLIGHT
TZOFFSETFROM:+0100
TZOFFSETTO:+0200
TZNAME:CEST
DTSTART:20190331T010000
END:DAYLIGHT
BEGIN:STANDARD
TZOFFSETFROM:+0200
TZOFFSETTO:+0100
TZNAME:CET
DTSTART:20191027T010000
END:STANDARD
BEGIN:DAYLIGHT
TZOFFSETFROM:+0100
TZOFFSETTO:+0200
TZNAME:CEST
DTSTART:20200329T010000
END:DAYLIGHT
BEGIN:STANDARD
TZOFFSETFROM:+0200
TZOFFSETTO:+0100
TZNAME:CET
DTSTART:20201025T010000
END:STANDARD
END:VTIMEZONE
BEGIN:VEVENT
DTSTART;TZID=Europe/Paris:20190927T210000
DTEND;TZID=Europe/Paris:20190927T235900
DTSTAMP:20260422T055652
CREATED:20190826T092007Z
LAST-MODIFIED:20190910T134131Z
UID:13210-1569618000-1569628740@815.si
SUMMARY:Noreia - Klub Jedro (27.9.2019)
DESCRIPTION:Noreia je petčlanska zasedba izkušenih mladih glasbenikov\, ki preigravajo tradicionalne irske\, škotske in bretonske melodije\, a ne vedno na povsem tradicionalen način! V zadnjem času skupina aktivno spaja »keltsko« tradicijo s svojo lastno dediščino – slovensko ljudsko glasbo\, kar ustvarja unikaten in prepoznaven zvok! \nVSTOPNINA: 8 EUR
URL:http://815.si/dogodek/noreia-klub-jedro-27-9-2019/
LOCATION:Klub Jedro\, Cesta ob Sori 15\, Medvode\, 1215\, Slovenija
ATTACH;FMTTYPE=image/jpeg:http://815.si/wp-content/uploads/2019/08/69054216_1219435964908217_5972964804699095040_o.jpg
END:VEVENT
END:VCALENDAR