BEGIN:VCALENDAR
VERSION:2.0
PRODID:-//BIS • 815.si - ECPv6.15.16//NONSGML v1.0//EN
CALSCALE:GREGORIAN
METHOD:PUBLISH
X-WR-CALNAME:BIS • 815.si
X-ORIGINAL-URL:http://815.si
X-WR-CALDESC:Dogodki za BIS • 815.si
REFRESH-INTERVAL;VALUE=DURATION:PT1H
X-Robots-Tag:noindex
X-PUBLISHED-TTL:PT1H
BEGIN:VTIMEZONE
TZID:Europe/Paris
BEGIN:DAYLIGHT
TZOFFSETFROM:+0100
TZOFFSETTO:+0200
TZNAME:CEST
DTSTART:20180325T010000
END:DAYLIGHT
BEGIN:STANDARD
TZOFFSETFROM:+0200
TZOFFSETTO:+0100
TZNAME:CET
DTSTART:20181028T010000
END:STANDARD
BEGIN:DAYLIGHT
TZOFFSETFROM:+0100
TZOFFSETTO:+0200
TZNAME:CEST
DTSTART:20190331T010000
END:DAYLIGHT
BEGIN:STANDARD
TZOFFSETFROM:+0200
TZOFFSETTO:+0100
TZNAME:CET
DTSTART:20191027T010000
END:STANDARD
BEGIN:DAYLIGHT
TZOFFSETFROM:+0100
TZOFFSETTO:+0200
TZNAME:CEST
DTSTART:20200329T010000
END:DAYLIGHT
BEGIN:STANDARD
TZOFFSETFROM:+0200
TZOFFSETTO:+0100
TZNAME:CET
DTSTART:20201025T010000
END:STANDARD
END:VTIMEZONE
BEGIN:VEVENT
DTSTART;TZID=Europe/Paris:20191018T200000
DTEND;TZID=Europe/Paris:20191018T230000
DTSTAMP:20260422T203317
CREATED:20190910T120924Z
LAST-MODIFIED:20191017T114251Z
UID:13365-1571428800-1571439600@815.si
SUMMARY:Tretji kanu:Predstavitev albuma Plovemo - Layerjeva hiša\, Kranj (18.10.2019)
DESCRIPTION:Tretji kanu bo 18. oktobra priplul v kranjsko Layerjevo hišo. Obeta se premierna predstavitev albuma Plovemo.\nPo debitantskem albumu z naslovom V vesolje\, ki je med pet najbolj predvajanimi albumi na Valu 202\, se kanujevska družina podaja novim pustolovščinam naproti. Ob tej priložnosti vas vabijo\, da zaplujete z njimi. V Stolpu Škrlovec bo ekipa premierno predstavila svoj novi album Plovemo. Skladbe Nekaj je\, Umakni se in Kositri nakazujejo melodično strugo kanuja – z rdečo nitjo v sporočilnosti in zgodbah\, ki jih prevaža v tem malem plovilu. Album\, ki prihaja\, poleg Igorja Ilića ustvarja tudi priznani producent Peter Penko. \nPrisedite v Tretjega! \nZasedba: Anja Pavlin (vokal)\, Jan Medle (vokal\, akustična kitara)\, Žiga Dobravc (bobni)\, Tomi Perinčič (električna kitara\, lap steel)\, Dejan Gerbec Radaković – Sondža (bas kitara) \nVstopnice\nV predprodaji: 7 eur\nRezervacije: rezervacije@layer.si\nNa dan dogodka: 10 eur \nProdajna mesta: https://olaii.com/event/621/tretji-kanu\, trafike 3 DVA\, bencinski servisi OMV in Kavarna Layer \n\n\n 
URL:http://815.si/dogodek/tretji-kanupredstavitev-albuma-plovemo-layerjeva-hisa-kranj-18-10-2019/
LOCATION:Layerjeva hiša Kranj\, Tomšičeva ulica 32\, Kranj\, 4000\, Slovenija
CATEGORIES:Fusion,Indie,Pop,Rock
ATTACH;FMTTYPE=image/jpeg:http://815.si/wp-content/uploads/2018/05/Tretji-kanu.jpg
ORGANIZER;CN="Layerjeva hi%C5%A1a Kranj":MAILTO:zala.vidali@layer.si
END:VEVENT
BEGIN:VEVENT
DTSTART;TZID=Europe/Paris:20190124T210000
DTEND;TZID=Europe/Paris:20190124T235900
DTSTAMP:20260422T203317
CREATED:20190103T133634Z
LAST-MODIFIED:20190103T133634Z
UID:9208-1548363600-1548374340@815.si
SUMMARY:ŠKM banda: Promocija plošče "nouvi sad" - Gala Hala\, Ljubljana (24.1.2019)
DESCRIPTION:Beltinška zasedba ŠKM Banda ne potrebuje daljše predstavitve. Po dobrih petnajstih letih delovanja\, štirih odličnih ploščah in fluidnem gnetenju svoje edinstvene glasbene realnosti\, imenovane post-jazz\, se prekmurski čarodeji vračajo s svežo stvaritvijo.  \nČe so prejšnji album Panontikon zaznamovale etnografsko obarvane zvočne krajine\, se kvartet na prihajajoči peti plošči ponovno obrača k svojim koreninam in bolj surovemu\, rockovsko obarvanemu zvočnemu miljeju. Album “nouvi sad” bo januarja izšel kot sodelovanje založb Kapa Records ter GBTM\, v ospredje pa postavlja agresivnejši pristop h komponiranju\, igriv preplet kitarskega šuma in mogočnih zvočnih zidov\, ki jih bo ŠKM Banda gradila in rušila v intimnem vzdušju kluba Gala Hala. \nZa sladokusce! \nVstopnina: 6 € z rezervacijo / 8 € na dan koncerta \n\n 
URL:http://815.si/dogodek/skm-banda-promocija-plosce-nouvi-sad-gala-hala-ljubljana-24-1-2019/
LOCATION:Gala Hala\, Metelkova ulica 6\, Ljubljana\, 1000
CATEGORIES:Fusion
ATTACH;FMTTYPE=image/jpeg:http://815.si/wp-content/uploads/2019/01/ŠKM-Banda.jpg
END:VEVENT
END:VCALENDAR