BEGIN:VCALENDAR
VERSION:2.0
PRODID:-//BIS • 815.si - ECPv6.15.16//NONSGML v1.0//EN
CALSCALE:GREGORIAN
METHOD:PUBLISH
X-ORIGINAL-URL:http://815.si
X-WR-CALDESC:Dogodki za BIS • 815.si
REFRESH-INTERVAL;VALUE=DURATION:PT1H
X-Robots-Tag:noindex
X-PUBLISHED-TTL:PT1H
BEGIN:VTIMEZONE
TZID:Europe/Paris
BEGIN:DAYLIGHT
TZOFFSETFROM:+0100
TZOFFSETTO:+0200
TZNAME:CEST
DTSTART:20170326T010000
END:DAYLIGHT
BEGIN:STANDARD
TZOFFSETFROM:+0200
TZOFFSETTO:+0100
TZNAME:CET
DTSTART:20171029T010000
END:STANDARD
BEGIN:DAYLIGHT
TZOFFSETFROM:+0100
TZOFFSETTO:+0200
TZNAME:CEST
DTSTART:20180325T010000
END:DAYLIGHT
BEGIN:STANDARD
TZOFFSETFROM:+0200
TZOFFSETTO:+0100
TZNAME:CET
DTSTART:20181028T010000
END:STANDARD
BEGIN:DAYLIGHT
TZOFFSETFROM:+0100
TZOFFSETTO:+0200
TZNAME:CEST
DTSTART:20190331T010000
END:DAYLIGHT
BEGIN:STANDARD
TZOFFSETFROM:+0200
TZOFFSETTO:+0100
TZNAME:CET
DTSTART:20191027T010000
END:STANDARD
END:VTIMEZONE
BEGIN:VEVENT
DTSTART;TZID=Europe/Paris:20180623T200000
DTEND;TZID=Europe/Paris:20180624T020000
DTSTAMP:20260422T091251
CREATED:20180524T103824Z
LAST-MODIFIED:20180524T105121Z
UID:4335-1529784000-1529805600@815.si
SUMMARY:Festival Soboški dnevi: Severina\, Tabu\, Koala Voice\, Pepson - Murska Sobota (23.6.2018)
DESCRIPTION:20:00\, GLAVNI ODER: PEPSON\nPepson (Matej Kuhar-Pepi) je Prekmurski Hip Hop Poet z ostrim\, brezkompromisnim pogledom na realnost.\nPepson se ukvarja z vprašanji\, katera si postavlja vsak ljubezni poln človek\, ki ga zaskrbi\, ko pogleda čez okno\, na cesto\, k svojem sosedu Ahmedu ali v samo mentaliteto posameznika.\nSam pravi\, da – ˝Če bi mjou mouč˝ – bi vse spremenil na boljše in da poleg temne strani meseca\, obstaja tudi pokrajina\, ki prisrčno vabi;˝Pridi na Goričko˝; na pot raziskovanja samega sebe. Ob spremljavi dveh prijateljev Tony & Sunny\, Pepson pričara nepozabno hip hop izkušnjo v prekmurskem narečju. \n\n21:00\, GLAVNI ODER: TABU\n20 LET (BREZ) TABUJEV!\nTabuji letos praznujejo 20. obletnico svojega ustvarjanja.\nLeto 2018 bodo obeležili z veliko turnejo\, polno srčnih koncertov\, akustičnih in tistih ta glasnih. Med njimi bo 20 večjih koncertov\, ki bodo še posebej vezani na praznovanje tabujevske glasbe. Ob tej veličastni številki 20 bodo izdali tudi “The best of” album\, kot se za “ta velike” spodobi. \n\n\n23:00\, GLAVNI ODER: SEVERINA\nSeverina je v zadnjem času podrla vse rekorde priljubljenosti\, ki smo jih do sedaj poznali. Njene skladbe si je na YouTube kanalu ogledalo več kot neverjetnih 300 milijonov ljudi\, od tega ima samo skladba Uzbuna preko 100 milijonov ogledov! \nKoncerti so razprodani\, Severina je kraljica odra in z največjim veseljem zabava oboževalce\, ki se največje pop ikone ne morejo in ne morejo naveličati. \n\n  \n– – – – – – – – – – – – – – – – – – – – – – – – – – – – – – – \n01:00\, GRAJSKO DVORIŠČE: KOALA VOICE\nTri leta so minila od izida njihovega prvenca Kangaroo’s a Neighbor\, ki jih je s singlom Go Disco Go predstavil širši javnosti. Potem ko so pozornost pritegnili na številnih natečajih\, so z zasvajajočo mešanico rocka\, popa\, disca\, punka ter neustavljivo odrsko prezenco pričeli pohod po odrih tako doma kot v tujini. Konec leta 2017 je izšel njihov drugi studijski album Wolkenfabrik. Ta po mnenju Mance\, Tilna\, Domna in Mihe nastavlja ogledalo korakom. Vse od Kisovca\, Ljubljane\, Črnomlja\, Moskve\, Liverpoola\, Talina\, Varšave in Groningena\, nastopili so pred Pixies v ljubljanskih Križankah in festivalih kot sta Pohoda in Exit. Skoraj več let v enem. Raziskovanje snovi\, iz katere so narejeni oblaki\, se nadaljuje.
URL:http://815.si/dogodek/festival-soboski-dnevi-severina-tabu-koala-voice-pepson-murska-sobota-23-6-2018/
LOCATION:MIKK\, Trubarjev drevored 4\, Murska Sobota\, Slovenija
CATEGORIES:Etno,Pop,Rock
ATTACH;FMTTYPE=image/jpeg:http://815.si/wp-content/uploads/2018/05/Soboški-dnevi-2018.jpg
END:VEVENT
END:VCALENDAR