BEGIN:VCALENDAR
VERSION:2.0
PRODID:-//BIS • 815.si - ECPv6.15.16//NONSGML v1.0//EN
CALSCALE:GREGORIAN
METHOD:PUBLISH
X-WR-CALNAME:BIS • 815.si
X-ORIGINAL-URL:http://815.si
X-WR-CALDESC:Dogodki za BIS • 815.si
REFRESH-INTERVAL;VALUE=DURATION:PT1H
X-Robots-Tag:noindex
X-PUBLISHED-TTL:PT1H
BEGIN:VTIMEZONE
TZID:Europe/Paris
BEGIN:DAYLIGHT
TZOFFSETFROM:+0100
TZOFFSETTO:+0200
TZNAME:CEST
DTSTART:20170326T010000
END:DAYLIGHT
BEGIN:STANDARD
TZOFFSETFROM:+0200
TZOFFSETTO:+0100
TZNAME:CET
DTSTART:20171029T010000
END:STANDARD
BEGIN:DAYLIGHT
TZOFFSETFROM:+0100
TZOFFSETTO:+0200
TZNAME:CEST
DTSTART:20180325T010000
END:DAYLIGHT
BEGIN:STANDARD
TZOFFSETFROM:+0200
TZOFFSETTO:+0100
TZNAME:CET
DTSTART:20181028T010000
END:STANDARD
BEGIN:DAYLIGHT
TZOFFSETFROM:+0100
TZOFFSETTO:+0200
TZNAME:CEST
DTSTART:20190331T010000
END:DAYLIGHT
BEGIN:STANDARD
TZOFFSETFROM:+0200
TZOFFSETTO:+0100
TZNAME:CET
DTSTART:20191027T010000
END:STANDARD
BEGIN:DAYLIGHT
TZOFFSETFROM:+0100
TZOFFSETTO:+0200
TZNAME:CEST
DTSTART:20200329T010000
END:DAYLIGHT
BEGIN:STANDARD
TZOFFSETFROM:+0200
TZOFFSETTO:+0100
TZNAME:CET
DTSTART:20201025T010000
END:STANDARD
END:VTIMEZONE
BEGIN:VEVENT
DTSTART;TZID=Europe/Paris:20190426T200000
DTEND;TZID=Europe/Paris:20190426T235900
DTSTAMP:20260422T235741
CREATED:20190417T212157Z
LAST-MODIFIED:20190417T212157Z
UID:10914-1556308800-1556323140@815.si
SUMMARY:John F. Doe: Koncert ob izidu albuma Druga stran - CSK France Prešeren\, Ljubljana (26.4.2019)
DESCRIPTION:Skupina John F. Doe predstavlja svoj novi album Druga stran.\nDogodek se bo odvijal v Centru Slovanskih Kultur France Prešeren v Ljubljani. \nNa koncertu obljubljajo dobro glasbo in presenečenja.\n\n\nGosti:\n– Drhall (Goran Hrvacanin\, Dejan Krupic)\n– Peter Dekleva (Hamo & Tribute 2 Love\, DMP – Društvo mrtvih pesnikov)\n– Tadej Šepec (saksofon) \nDogodek bo povezovala Tara Zupančič. \nVstopnina: 5€\, na dan koncerta 7€\nVstopnice so na voljo preko spletne strani CSK France Prešeren in spletne strani založbe NIKA. \n  \n 
URL:http://815.si/dogodek/john-f-doe-koncert-ob-izidu-albuma-druga-stran-csk-france-preseren-ljubljana-26-4-2019/
LOCATION:CSK France Prešeren\, Karunova 14\, Ljubljana\, 1000\, Slovenija
CATEGORIES:Rock
ATTACH;FMTTYPE=image/jpeg:http://815.si/wp-content/uploads/2019/04/JFD.jpg
END:VEVENT
BEGIN:VEVENT
DTSTART;TZID=Europe/Paris:20190126T203000
DTEND;TZID=Europe/Paris:20190126T233000
DTSTAMP:20260422T235741
CREATED:20190107T221414Z
LAST-MODIFIED:20190114T125113Z
UID:9294-1548534600-1548545400@815.si
SUMMARY:Ethnotrip: Predstavitev albuma Preden se zdani - Salon uporabnih umetnosti\, Maribor (26.1.2019)
DESCRIPTION:Štajersko-prekmurska zasedba bo svoj avtorski prvenec “Preden se zdani” predstavila mariborskemu občinstvu. Ethnotrip gosti Salon uporabnih umetnosti.\n“Kaj se dogaja Vsako noč\, ko mesto spi in kakšna mistika je v zraku na Kresno noč\, Preden se zdani? Kako je Odeta v plašč noči ljubezenska avantura dveh oseb in kako zveni\, kadar oseba ostane še kar naprej Sama\, ter zakaj le Veter šumi? In komu špilamo? Tebi špilamo\, dragi poslušalec\, ki se boš odpravil na naš glasbeni trip\,” nas nagovarjajo člani zasedbe\, ki je zakorakala v jubilejno\, deseto leto delovanja in niza uspeh za uspehom na področju ohranjanja ter poustvarjanja etno glasbe. \nEthnotrip so: Tjaša Šimonka – vokal\, Miha Kavaš – violina\, Patrick Gyurkač – kontrabas\, Primož Kramberger – klavir in Tomi Došen – tolkala. \nVstopnice (5€) so na voljo tri dni pred koncertom v SALONU UPORABNIH UMETNOSTI.
URL:http://815.si/dogodek/ethnotrip-predstavitev-albuma-preden-se-zdani-salon-uporabnih-umetnosti-maribor-26-1-2019/
LOCATION:Salon uporabnih umetnosti Maribor\, Glavni trg 1\, Maribor\, 2000\, Slovenija
CATEGORIES:Etno,Fusion,Jazz,Klasika,Pop,World music
ATTACH;FMTTYPE=image/jpeg:http://815.si/wp-content/uploads/2018/08/Ethnotrip.jpg
ORGANIZER;CN="Salon uporabnih umetnosti Maribor":MAILTO:salon.peron@gmail.com
END:VEVENT
BEGIN:VEVENT
DTSTART;TZID=Europe/Paris:20180920T200000
DTEND;TZID=Europe/Paris:20180921T230000
DTSTAMP:20260422T235741
CREATED:20180919T135727Z
LAST-MODIFIED:20180919T135919Z
UID:7435-1537473600-1537570800@815.si
SUMMARY:ČEDAHUČI: Predstavitev albuma Svetilnik - pesmi o Svetlobi /  SiTi Teater\, Ljubljana (20.&21.9.2018)
DESCRIPTION:Od Severnice do Svetilnika je preteklo kar nekaj svetlobe in zasedba Čedahuči napoveduje izdajo tretjega albuma z naslovom Svetilnik – pesmi o Svetlobi. Predstavili ga bodo 20. in 21. septembra v ljubljanskem SiTi Teatru.\nČedahučiji vabijo:”Ob izdaji bomo priredili dva koncerta v našem najljubšem prostoru za koncerte v Ljubljani – v ljubljanskem Siti teatru. In vabimo vse prijatelje glasbe\, da pridete z nami 20. in 21. septembra 2018 proslaviti rojstvo novega albuma! 🙂 Pesmi so nastajale zadnje štiri leta\, album pa raziskuje večno temo potovanja vase – dolgo in zavito pot\, za katero ni potrebno iti nikamor. \nPridite na potovanje z nami in se vidimo 20. in 21. septembra v Sitiju! :)” \n\n—\nVstopnice so že na voljo preko teh povezav:\n (20.9.)\n (21.9.) \nin na prodajnih mestih:\nhttps://www.mojekarte.si/si/prodajna-mesta.html\n—\nCena vstopnic – 16eur\ndijaki\, študentje\, seniorji – 14\,40eur
URL:http://815.si/dogodek/cedahuci-predstavitev-albuma-svetilnik-pesmi-o-svetlobi-siti-teater-ljubljana-20-21-9-2018/
LOCATION:SiTi Teater BTC\, Šmartinska cesta 152\, Ljubljana\, 1000\, Slovenija
CATEGORIES:acoustic,Country,Etno,Fusion,Rock,World music
ATTACH;FMTTYPE=image/jpeg:http://815.si/wp-content/uploads/2018/09/Čedahuči-Jana-Šnuderl-JS-Oblikovanje.jpg
ORGANIZER;CN="SiTi Teater BTC":MAILTO:lija@sititeater.si
END:VEVENT
END:VCALENDAR