BEGIN:VCALENDAR
VERSION:2.0
PRODID:-//BIS • 815.si - ECPv6.15.16//NONSGML v1.0//EN
CALSCALE:GREGORIAN
METHOD:PUBLISH
X-WR-CALNAME:BIS • 815.si
X-ORIGINAL-URL:http://815.si
X-WR-CALDESC:Dogodki za BIS • 815.si
REFRESH-INTERVAL;VALUE=DURATION:PT1H
X-Robots-Tag:noindex
X-PUBLISHED-TTL:PT1H
BEGIN:VTIMEZONE
TZID:Europe/Paris
BEGIN:DAYLIGHT
TZOFFSETFROM:+0100
TZOFFSETTO:+0200
TZNAME:CEST
DTSTART:20170326T010000
END:DAYLIGHT
BEGIN:STANDARD
TZOFFSETFROM:+0200
TZOFFSETTO:+0100
TZNAME:CET
DTSTART:20171029T010000
END:STANDARD
BEGIN:DAYLIGHT
TZOFFSETFROM:+0100
TZOFFSETTO:+0200
TZNAME:CEST
DTSTART:20180325T010000
END:DAYLIGHT
BEGIN:STANDARD
TZOFFSETFROM:+0200
TZOFFSETTO:+0100
TZNAME:CET
DTSTART:20181028T010000
END:STANDARD
BEGIN:DAYLIGHT
TZOFFSETFROM:+0100
TZOFFSETTO:+0200
TZNAME:CEST
DTSTART:20190331T010000
END:DAYLIGHT
BEGIN:STANDARD
TZOFFSETFROM:+0200
TZOFFSETTO:+0100
TZNAME:CET
DTSTART:20191027T010000
END:STANDARD
END:VTIMEZONE
BEGIN:VEVENT
DTSTART;TZID=Europe/Paris:20180913T200000
DTEND;TZID=Europe/Paris:20180913T233000
DTSTAMP:20260422T072005
CREATED:20180902T165359Z
LAST-MODIFIED:20180902T165359Z
UID:7163-1536868800-1536881400@815.si
SUMMARY:Svemirko\, Pseća plaža - Kino Šiška (13.09.2018)
DESCRIPTION:Eden najzanimivejših izvajalcev iz naše regije ta hip\, hrvaški emo-macho sestav Svemirko\, ki je s svežim zvokom in nepozabnimi koncertnimi nastopi obnorel tako poslušalce kot kritike\, se v Ljubljano vrača na predstavitev težko pričakovane druge plošče. Pridružila se mu bo mlada zagrebška zasedba Pseća Plaža\, ki bo svoj psihedelični surf vajb prvič predstavila na naših tleh. \n\nSvemirko je vse\, kar ste hoteli in dobili od pop benda. Je hrvaški mačo z emocijami. Je skrivnost kozmosa na dlani roke\, če si jo le upate prijeti. Je eklektično avantgarden dance punk\, ki v hipu zleze v uho. Je osemdeseta prejšnjega stoletja\, kot se jih spomnijo rojeni po letu 1990. Je sintič in je sentiš. Je popolnoma uravnotežen spoj čustev\, znanja in kvalitete. Je balkanski Mac DeMarco na pijači z Arielom Pinkom v krčmi Darka Rundeka. Je “poročni bend na prekomerni dozi kokaina” (Radio Študent). Je nočna avantura na dnevni svetlobi. Je spuščene hlače na odru in razprte čeljusti pod njim. Je sve! in je Mirko. Je Marko\, Antonijo\, Marin\, Branimir in Bojan. Je nova plošča in stari hitiči. Je vonj po Vaniliji in je Tunguzija. Je nezgrešljiv. Je MENT Ljubljana v Menzi pri koritu februarja in Level Up v Channelu Zero lani. In je Kino Šiška septembra.\n \nHrvaški avdiovizualni trio Pseća Plaža\, letos v znak podpore lokalni sceni preimenovan iz Dog’s Beach\, sestavljajo Smelly Feet DOG\, Kopito Zla in die Zoone. Njihovo glasbo izpolnjuje neskončno iskanje topline in mehkobe\, psihedelično poletni prvenec Honolulu so izdali lani\, na poti pa je že nov album. Med drugim so za My Baby ogreli zagrebško Tvornico kulture\, prav tako pa so že nastopili tudi s Svemirkom. Pravijo\, da je bil tisti koncert prava norišnica\, zato že komaj čakajo\, da spet ponovno zaigrajo skupaj – mi pa z njimi.\n\n 
URL:http://815.si/dogodek/svemirko-pseca-plaza-kino-siska-13-09-2018/
LOCATION:CUK Kino Šiška\, Trg prekomorskih brigad 3\, Ljubljana\, Slovenija
CATEGORIES:Pop,Rock
ATTACH;FMTTYPE=image/jpeg:http://815.si/wp-content/uploads/2018/09/svemirko.jpg
END:VEVENT
END:VCALENDAR