BEGIN:VCALENDAR
VERSION:2.0
PRODID:-//BIS • 815.si - ECPv6.15.16//NONSGML v1.0//EN
CALSCALE:GREGORIAN
METHOD:PUBLISH
X-ORIGINAL-URL:https://815.si
X-WR-CALDESC:Dogodki za BIS • 815.si
REFRESH-INTERVAL;VALUE=DURATION:PT1H
X-Robots-Tag:noindex
X-PUBLISHED-TTL:PT1H
BEGIN:VTIMEZONE
TZID:Europe/Paris
BEGIN:DAYLIGHT
TZOFFSETFROM:+0100
TZOFFSETTO:+0200
TZNAME:CEST
DTSTART:20190331T010000
END:DAYLIGHT
BEGIN:STANDARD
TZOFFSETFROM:+0200
TZOFFSETTO:+0100
TZNAME:CET
DTSTART:20191027T010000
END:STANDARD
BEGIN:DAYLIGHT
TZOFFSETFROM:+0100
TZOFFSETTO:+0200
TZNAME:CEST
DTSTART:20200329T010000
END:DAYLIGHT
BEGIN:STANDARD
TZOFFSETFROM:+0200
TZOFFSETTO:+0100
TZNAME:CET
DTSTART:20201025T010000
END:STANDARD
BEGIN:DAYLIGHT
TZOFFSETFROM:+0100
TZOFFSETTO:+0200
TZNAME:CEST
DTSTART:20210328T010000
END:DAYLIGHT
BEGIN:STANDARD
TZOFFSETFROM:+0200
TZOFFSETTO:+0100
TZNAME:CET
DTSTART:20211031T010000
END:STANDARD
END:VTIMEZONE
BEGIN:VEVENT
DTSTART;TZID=Europe/Paris:20200228T200000
DTEND;TZID=Europe/Paris:20200228T235900
DTSTAMP:20260419T222402
CREATED:20200106T134531Z
LAST-MODIFIED:20200106T134531Z
UID:15215-1582920000-1582934340@815.si
SUMMARY:Alcest\, Birds In Row\, Kælan Mikla - Kino Šiška
DESCRIPTION:Izvrstni francoski post-metal dvojec Alcest\, ki je po mnenju marsikoga ob prejšnjem obisku odpihnil takratne headlinerje Anathema\, se vrača v Šiško s povsem novo ploščo kot novi varovanci legendarne založbe Nuclear Blast in v glavni poziciji večera! Ob boku mu bodo stali neumorni hardcore rojaki Birds In Row\, varovanci založbe Deathwish Inc.\, ki jih je leta 2018 izdani drugi album ponesel na metalske odre po celem svetu\, in en najnovejših islandskih glasbenih biserov\, synth-punk trio Kælan Mikla\, ki ga je kot kurator na svoj festival povabil sam Robert Smith (The Cure). \nProjekt Alcest\, za katerim že skoraj 20 let stoji vsestranski glasbenik Neige\, velja za pionirja t.i. blackgaze žanra\, v katerem se ostra blackmetalska groza prepleta z melodično shoegazersko introspekcijo\, med širšo javnost pa so ga ponesli zlasti naši obletniški gostje Deafheaven. Alcest sta redna gosta v naših krajih\, videli smo ju lahko recimo že z MONO in Primordial ter na festivalu MetalDays\, v Šiški pa sta nastopila leta 2017 kot predvozača britanskih doomerjev Anathema. Takrat si ju je marsikdo zapomnil kot prepričljivejši nastop večera\, tokrat pa bosta sama v vodilni vlogi predstavila najnovejši album. Že šesti album\, poimenovan Spiritual Instinct\, bo njun prvi za priznano metalsko založbo Nuclear Blast\, izide pa konec oktobra 2019.\n \nTudi francoski hardcore trio Birds In Row je v naših krajih že precej uveljavljen – ne le\, da je leta 2018 nastopil na Metelkovi\, že dve leti pred tem je z našimi The Canyon Observer in drugimi bendi na turneji osvojil Kubo. Bend se je sicer na turneje odpravil že z večino najvidnejših imen v svoji branži\, npr. Touché Amoré\, The Chariot in Converge\, obe svoji studijski plošči pa je izdal prav pri založbi vodje slednjih\, Deathwish Inc. Zlasti z leta 2018 izdano We Already Lost the World se je uveljavil kot eden najboljših tovrstnih bendov ta hip\, z neumornim\, že skoraj neverjetnim koncertnim urnikom pa nastopil že povsem svetu\, vključno z uveljavljenimi festivali\, kot so Bloodstock\, Roadburn in Dour.\n\nIslandke Kælan Mikla so se spoznale v gimnaziji\, ko so se spontano odločile uprizoriti performans na pesniškem tekmovanju – in zmagale. Iz šale je tako nastal bend\, ki je poezijo in performans sčasoma zamenjal za sintisajzerje in temačen darkwave zvok\, ki je pritegnil založbo Fabrika\, na kateri najdemo tudi zasedbe\, kot sta Lebanon Hanover in She Past Away. Zasedba in samonaslovljeni prvenec iz 2016 danes velja za kultno izdajo novodobnega preporoda goth zvoka\, od takrat pa je skupina izdala še dve plošči. Zadnja\, Nótt eftir nótt\, je izšla konec leta 2018\, le nekaj mesecev zatem\, ko je sam Robert Smith\, vodja The Cure\, bend osebno povabil\, da nastopi pred bendom Placebo v okviru 25. edicije londonskega festivala Meltdown\, ki ga je kuriral.\n \nVstopnice v prodaji prek spleta in prodajne mreže Eventim. \nOrganizacija: Kino Šiška. \n 
URL:https://815.si/dogodek/alcest-birds-in-row-kaelan-mikla-kino-siska/
LOCATION:CUK Kino Šiška\, Trg prekomorskih brigad 3\, Ljubljana\, Slovenija
ATTACH;FMTTYPE=image/jpeg:https://815.si/wp-content/uploads/2020/01/Alcest.jpg
END:VEVENT
END:VCALENDAR