BEGIN:VCALENDAR
VERSION:2.0
PRODID:-//BIS • 815.si - ECPv6.15.16//NONSGML v1.0//EN
CALSCALE:GREGORIAN
METHOD:PUBLISH
X-ORIGINAL-URL:https://815.si
X-WR-CALDESC:Dogodki za BIS • 815.si
REFRESH-INTERVAL;VALUE=DURATION:PT1H
X-Robots-Tag:noindex
X-PUBLISHED-TTL:PT1H
BEGIN:VTIMEZONE
TZID:Europe/Paris
BEGIN:DAYLIGHT
TZOFFSETFROM:+0100
TZOFFSETTO:+0200
TZNAME:CEST
DTSTART:20170326T010000
END:DAYLIGHT
BEGIN:STANDARD
TZOFFSETFROM:+0200
TZOFFSETTO:+0100
TZNAME:CET
DTSTART:20171029T010000
END:STANDARD
BEGIN:DAYLIGHT
TZOFFSETFROM:+0100
TZOFFSETTO:+0200
TZNAME:CEST
DTSTART:20180325T010000
END:DAYLIGHT
BEGIN:STANDARD
TZOFFSETFROM:+0200
TZOFFSETTO:+0100
TZNAME:CET
DTSTART:20181028T010000
END:STANDARD
BEGIN:DAYLIGHT
TZOFFSETFROM:+0100
TZOFFSETTO:+0200
TZNAME:CEST
DTSTART:20190331T010000
END:DAYLIGHT
BEGIN:STANDARD
TZOFFSETFROM:+0200
TZOFFSETTO:+0100
TZNAME:CET
DTSTART:20191027T010000
END:STANDARD
BEGIN:DAYLIGHT
TZOFFSETFROM:+0100
TZOFFSETTO:+0200
TZNAME:CEST
DTSTART:20200329T010000
END:DAYLIGHT
BEGIN:STANDARD
TZOFFSETFROM:+0200
TZOFFSETTO:+0100
TZNAME:CET
DTSTART:20201025T010000
END:STANDARD
BEGIN:DAYLIGHT
TZOFFSETFROM:+0100
TZOFFSETTO:+0200
TZNAME:CEST
DTSTART:20210328T010000
END:DAYLIGHT
BEGIN:STANDARD
TZOFFSETFROM:+0200
TZOFFSETTO:+0100
TZNAME:CET
DTSTART:20211031T010000
END:STANDARD
END:VTIMEZONE
BEGIN:VEVENT
DTSTART;TZID=Europe/Paris:20200124T200000
DTEND;TZID=Europe/Paris:20200124T235900
DTSTAMP:20260422T145905
CREATED:20200101T183004Z
LAST-MODIFIED:20200101T183219Z
UID:15149-1579896000-1579910340@815.si
SUMMARY:Decatholicize\, Amalgam\, Protype5 - Orto bar
DESCRIPTION:Fundamentum Crew predstavlja svoj tretji event\, tokrat obarvan bolj death metalsko. Z nami bodo Decatholicize\, Amalgam in Protype5!\nV petek 24. januarja vabljeni v Orto Bar\, da si skupaj polepšamo prvi mesec novega leta. \nDECATHOLICIZE\nDecatholicize je slovenski death-thrash metal band iz Maribora\, ki je na sceni že zelo dolgo\, kar od leta 1989\, sicer z vmesno pavzo. Sprva so se imenovali Newsagent\, dve leti kasneje pa so se preimenovali na ime\, ki ga nosijo še danes. Na odre so se ponovno vrnili leta 2018. Band sestavljajo bobnar Alen Breber\, kitarista Mladen Buletinac in Jošt Skale\, Leon Pondelak na basu\, vokalist pa je Jure Vandur. Tokrat bodo v 30 letih obstoja prvič igrali v Ljubljani\, zato tega koncerta ne smete zamuditi! FB: https://www.facebook.com/decatholicizeband/ Video: https://www.youtube.com/watch?v=59GAfWok2oU \nAMALGAM\nAmalgam je mlada skupina\, sestavljena iz članov znanih kranjskih bandov (Armaroth\, Raggalution\, Didge in Mutism). Na vokalu je Filip Košnik\, na basu Jernej Jenko\, za kitare skrbita Martin Jagodic in Martin Naglič na kitarah\, za bobne pa bo poskrbel Grega Kalinski. Glasbi\, ki jo igrajo\, pravijo dentist metal. Njihov zvok bazira na progresivnih in matematičnih stilih agresivnega izražanja. 100% glasbena poslastica. FB: https://www.facebook.com/amalgamplc/ Bandcamp: https://amalgamplc.bandcamp.com/ \nPROTYPE5\nProtype5 je trio iz okolice Tolmina\, ki ga sestavljajo Iztok Velišček (vokal/kitara)\, Matjaž Maver (bas) in Gregor Bizjak (bobni). Igrajo groove-death metal. Band je dokaj nov\, saj so nastali šele leta 2018\, a so ne dolgo nazaj izdali svoj prvi EP\, katerega boste lahko slišali na odru Orto bara. \nFB: https://www.facebook.com/official.protype/ Bandcamp: https://officialprotype5.bandcamp.com/releases \nVSTOPNINA: 6€ \nČasovnica:  \n\n20.00 – Vrata\n20.20 – Protype5\n21.20 – Amalgam\n22.20 – Decatholicize\n\nFUNDAMENTUM Fundamentum je 5 članska ekipa mladih\, katerih cilj je predstaviti slovensko alternativno underground sceno\, dati priložnost za nastop tako manj kot tudi bolj uveljavljenim bandom . Za kakršnekoli informacije se lahko na nas obrnete prek FB. \nFB: https://www.facebook.com/fundamentum666/ SUPPORT YOUR LOCAL SCENE “
URL:https://815.si/dogodek/decatholicize-amalgam-protype5-orto-bar/
LOCATION:Orto Bar\, Grablovičeva ulica 1\, Ljubljana\, Slovenija
ATTACH;FMTTYPE=image/jpeg:https://815.si/wp-content/uploads/2020/01/81042231_141114973975631_7219885675783389184_o.jpg
END:VEVENT
BEGIN:VEVENT
DTSTART;TZID=Europe/Paris:20180119T200000
DTEND;TZID=Europe/Paris:20180119T235900
DTSTAMP:20260422T145905
CREATED:20180102T144636Z
LAST-MODIFIED:20180102T144636Z
UID:2066-1516392000-1516406340@815.si
SUMMARY:Dirty Skunks Fest 2018 - Orto Bar (19.1.2018)
DESCRIPTION:Dirty Skunks praznujejo\nDirty Skunks praznujejo 16 let obstoja in v ta namen organizirajo Dirty Skunks Fest\, ki se bo odvijal 19.1.2018 v Orto Baru. Na dveh odrih bodo nastopili: \nKaoz\nhttps://www.facebook.com/kaozoak1/ \nAvven\nhttps://www.facebook.com/avvenband/ \nKreshesh Nepitash\nhttps://www.facebook.com/kresheshnepitash/ \nAter Era\nhttps://www.facebook.com/AterEraOfficial/ \nVirus\nhttps://www.facebook.com/Virus-Happy-Punk-Ljubljana-153532907999077/ \nInhibis\nhttps://www.facebook.com/Inhibis/ \nAmalgam\nhttps://www.facebook.com/amalgamplc/ \nPyroxene\nhttps://www.facebook.com/smrt.in.razdejanje/ \nKholn\nhttps://www.facebook.com/kholnband/ \nRelentless Youth\nhttps://www.facebook.com/relentlessyouthofficial/ \nPo koncertu sledi Party Hard w/ 80s Crew!
URL:https://815.si/dogodek/dirty-skunks-fest-2018-orto-bar-19-1-2018/
LOCATION:Orto Bar\, Grablovičeva ulica 1\, Ljubljana\, Slovenija
CATEGORIES:Metal,Punk,Rock
ATTACH;FMTTYPE=image/jpeg:https://815.si/wp-content/uploads/2018/01/dirtyskunksfest2018.jpg
END:VEVENT
END:VCALENDAR