BEGIN:VCALENDAR
VERSION:2.0
PRODID:-//BIS • 815.si - ECPv6.15.16//NONSGML v1.0//EN
CALSCALE:GREGORIAN
METHOD:PUBLISH
X-ORIGINAL-URL:https://815.si
X-WR-CALDESC:Dogodki za BIS • 815.si
REFRESH-INTERVAL;VALUE=DURATION:PT1H
X-Robots-Tag:noindex
X-PUBLISHED-TTL:PT1H
BEGIN:VTIMEZONE
TZID:Europe/Paris
BEGIN:DAYLIGHT
TZOFFSETFROM:+0100
TZOFFSETTO:+0200
TZNAME:CEST
DTSTART:20180325T010000
END:DAYLIGHT
BEGIN:STANDARD
TZOFFSETFROM:+0200
TZOFFSETTO:+0100
TZNAME:CET
DTSTART:20181028T010000
END:STANDARD
BEGIN:DAYLIGHT
TZOFFSETFROM:+0100
TZOFFSETTO:+0200
TZNAME:CEST
DTSTART:20190331T010000
END:DAYLIGHT
BEGIN:STANDARD
TZOFFSETFROM:+0200
TZOFFSETTO:+0100
TZNAME:CET
DTSTART:20191027T010000
END:STANDARD
BEGIN:DAYLIGHT
TZOFFSETFROM:+0100
TZOFFSETTO:+0200
TZNAME:CEST
DTSTART:20200329T010000
END:DAYLIGHT
BEGIN:STANDARD
TZOFFSETFROM:+0200
TZOFFSETTO:+0100
TZNAME:CET
DTSTART:20201025T010000
END:STANDARD
END:VTIMEZONE
BEGIN:VEVENT
DTSTART;TZID=Europe/Paris:20190508T210000
DTEND;TZID=Europe/Paris:20190508T233000
DTSTAMP:20260420T041832
CREATED:20190503T082720Z
LAST-MODIFIED:20190503T082720Z
UID:11138-1557349200-1557358200@815.si
SUMMARY:FINALE ŠOUROCKA'19 - ŠTUK\, Maribor (8.5.2019)
DESCRIPTION:8. MAJ\, FINALE\n💥 Apory Museum\n💥 Bajta 23\n💥 Fat Butlers\n💥 Infected\n💥 7ate9\n💥 Spotless Minds [Bend Šourocka 2018] \n____ \n✨ DRUŽENJE S KOMISIJO ✨\nZ vami bodo člani komisije: Marko Soršak Soki “20 za 20”\, Martin Bezjak\, Marko Furek\, Denis Jančič in Matic Mlakar\, ki se ne bodo branili klepeta z obiskovalci\, še najmanj pa z nastopajočimi! \n🍻 PIVSKI UŽITKI 🍻\nZASTONJ bodo stočili kar dva soda craft piva Lobik Brewery! \n🤘 KOTIČEK ZA OBISKOVALCE 🤘\nV kotičku za obiskovalce lahko glasujete za svoj najljubši bend in si priskrbite majico ali druge obvezne kose “bojne” opreme letošnjega Šourocka! \n❤️🔥👩‍🎤 V ŽIVO JE ŽIVO! 👨‍🎤🔥❤️\nŽiva glasba ohranja glasbeno sceno živo. Obiskujmo glasbene dogodke\, podpirajmo (mlade) bende in prispevajmo h kakovostnemu razvoju (slovenskega) glasbenega prostora! \n// www.soum.si/sourock //
URL:https://815.si/dogodek/finale-sourocka19-stuk-maribor-8-5-2019/
LOCATION:Štuk\, Gosposvetska cesta 83\, Maribor\, 2000\, Slovenija
CATEGORIES:Rock
ATTACH;FMTTYPE=image/jpeg:https://815.si/wp-content/uploads/2019/05/ŠOUROCK-19-finale.jpg
ORGANIZER;CN="%C5%A0OUM":MAILTO:soum@soum.si
END:VEVENT
BEGIN:VEVENT
DTSTART;TZID=Europe/Paris:20190410T210000
DTEND;TZID=Europe/Paris:20190410T235900
DTSTAMP:20260420T041832
CREATED:20190324T095411Z
LAST-MODIFIED:20190324T095411Z
UID:10444-1554930000-1554940740@815.si
SUMMARY:ŠOUROCK '19: Drugi predstavitveni večer - ŠTUK\, Maribor (10.4.2019)
DESCRIPTION: MUZIKA? PIVO? ROKENROL? \nOboževalci in podporniki rocka in sorodne glasbe tudi letos ŠOUM vabi k uživanju v preigravanju melodij mladih bendov. Ponovno prireja ŠOUROCK\, namenjen dijaškim in študentskim skupinam\, ki se želijo predstaviti in uveljaviti na slovenski glasbeni sceni. Prisluhnili jim bomo na treh predstavitvenih večerih (3.\, 10. in 17. aprila). Trem po izboru komisije in eni po izboru publike pa še 8. maja na finalni prireditvi\, ko bodo večer dodatno popestrili še Spotless Minds. \nNastopajoče skupine drugega predstavitvenega večera: \n10. APRIL\n▶️ 7ate9\n▶️ Apory Museum\n▶️ Bajta 23\n▶️ Blue Jane\n▶️ Year of the Rookie \n DRUŽENJE S KOMISIJO \nZ nami bodo člani komisije: Marko Soršak Soki\, Martin Bezjak\, Marko Furek\, Denis Jančič in Matic Mlakar\, ki se ne bodo branili klepeta z obiskovalci\, še najmanj pa z nastopajočimi. \n PIVSKI UŽITKI \nVsak večer bodo ZASTONJ stočili sod craft piva Lobik Brewery! \n KOTIČEK ZA OBISKOVALCE \nV kotičku za obiskovalce lahko glasujete za svoj najljubši bend in si priskrbite majico ali druge obvezne kose “bojne” opreme letošnjega Šourocka! \n V ŽIVO JE ŽIVO!  \n// www.soum.si/sourock // \n 
URL:https://815.si/dogodek/sourock-19-drugi-predstavitveni-vecer-stuk-maribor-10-4-2019/
LOCATION:Štuk\, Gosposvetska cesta 83\, Maribor\, 2000\, Slovenija
CATEGORIES:Rock
ATTACH;FMTTYPE=image/png:https://815.si/wp-content/uploads/2019/03/ŠOUROCK-2019.png
ORGANIZER;CN="%C5%A0OUM":MAILTO:soum@soum.si
END:VEVENT
BEGIN:VEVENT
DTSTART;TZID=Europe/Paris:20190118T200000
DTEND;TZID=Europe/Paris:20190118T230000
DTSTAMP:20260420T041832
CREATED:20181226T193519Z
LAST-MODIFIED:20181226T193519Z
UID:9095-1547841600-1547852400@815.si
SUMMARY:Špil Liga - Kino Šiška (18.1.2019)
DESCRIPTION:Na tretjem tekmovalnem večeru bomo v vrstah Špil lige ponovno pozdravili novomeške punkrockerje Bajta 23\, prvič pa na prihajajo predstavniki pop rocka iz Celja Tooth In the Sky in ljubljanski grunge kvartet Drone Society. \n\nO dveh zmagovalcih večera odločajo glasovi strokovne komisije in obiskovalcev koncerta\, ki svoje mnenje izrazijo s pošiljanjem SMS sporočil. Po končanem nastopu vseh skupin se začne SMS glasovanje\, ki traja 15 minut\, medtem pa komisija razglasi tekmovalce od prvega do tretjega mesta. V primeru\, da je prvo mesto po izboru komisije in občinstva enako\, tekmovanje nadaljuje skupina\, ki jo je strokovna komisija uvrstila na drugo mesto. \nStrokovno komisijo\, ki bende spremlja od začetka\, sestavljajo: Ana Medved\, Andi Koglot in Klara Zupančič. \nVeč na www.spilliga.si. \nOrganizacija: Kino Šiška.
URL:https://815.si/dogodek/spil-liga-kino-siska-18-1-2019/
LOCATION:CUK Kino Šiška\, Trg prekomorskih brigad 3\, Ljubljana\, Slovenija
CATEGORIES:Rock
ATTACH;FMTTYPE=image/jpeg:https://815.si/wp-content/uploads/2018/02/Špil-liga-01-logotip-Spilliga-RGB-02-2.jpg
END:VEVENT
END:VCALENDAR