BEGIN:VCALENDAR
VERSION:2.0
PRODID:-//BIS • 815.si - ECPv6.15.16//NONSGML v1.0//EN
CALSCALE:GREGORIAN
METHOD:PUBLISH
X-ORIGINAL-URL:https://815.si
X-WR-CALDESC:Dogodki za BIS • 815.si
REFRESH-INTERVAL;VALUE=DURATION:PT1H
X-Robots-Tag:noindex
X-PUBLISHED-TTL:PT1H
BEGIN:VTIMEZONE
TZID:Europe/Paris
BEGIN:DAYLIGHT
TZOFFSETFROM:+0100
TZOFFSETTO:+0200
TZNAME:CEST
DTSTART:20180325T010000
END:DAYLIGHT
BEGIN:STANDARD
TZOFFSETFROM:+0200
TZOFFSETTO:+0100
TZNAME:CET
DTSTART:20181028T010000
END:STANDARD
BEGIN:DAYLIGHT
TZOFFSETFROM:+0100
TZOFFSETTO:+0200
TZNAME:CEST
DTSTART:20190331T010000
END:DAYLIGHT
BEGIN:STANDARD
TZOFFSETFROM:+0200
TZOFFSETTO:+0100
TZNAME:CET
DTSTART:20191027T010000
END:STANDARD
BEGIN:DAYLIGHT
TZOFFSETFROM:+0100
TZOFFSETTO:+0200
TZNAME:CEST
DTSTART:20200329T010000
END:DAYLIGHT
BEGIN:STANDARD
TZOFFSETFROM:+0200
TZOFFSETTO:+0100
TZNAME:CET
DTSTART:20201025T010000
END:STANDARD
END:VTIMEZONE
BEGIN:VEVENT
DTSTART;TZID=Europe/Paris:20190301T210000
DTEND;TZID=Europe/Paris:20190301T233000
DTSTAMP:20260419T181919
CREATED:20190113T171336Z
LAST-MODIFIED:20190113T171336Z
UID:9409-1551474000-1551483000@815.si
SUMMARY:Café Mezclado - Jazz Club Ljubljanski grad (01.03.2019)
DESCRIPTION:Mednarodno zasedbo sestavljajo odlični slovenski\, kubanski in madžarski glasbeniki\, ki jih lahko večkrat zasledimo v raznovrstnih domačih in tujih glasbenih projektih. Glasba Café Mezclada ponuja mešanico različnih stilov tradicionalne kubanske glasbe\, kot so: son montuno\, guajira\, bolero\, changui\, afro … Zvok tolkal\, klavirja in kontrabasa ob spremljavi večglasnega petja in zanimive vokalne ter inštrumentalne improvizacije vam pričarajo edinstveno doživetje prave kubanske glasbe. Odlični glasbeniki s pozitivno energijo in vrhunsko interpretacijo ustvarijo fantastično vzdušje in obiskovalcem koncerta priredijo nepozabno doživetje. \nZasedba:\nLazzaro Hierezzuelo – bongos\, vokal\nErik Marenče – klavir\nTomy Farkaš – kontrabas\, vokal\nJure Čehovin – maracas\, guiro\, vokal \nGlasbena zvrst: kuba \nJazz Club Ljubljanski grad je odprt od 20.00 do 00.30. \nVstopnina: 7 EUR\nCena vstopnice vključuje povratno vožnjo z vzpenjačo. \nProdaja vstopnic: prodajna mesta Ljubljanskega gradu\, recepcija hostla Celica\, spodnja postaja vzpenjače\, prek www.ljubljanskigrad.si in na vseh prodajnih mestih www.mojekarte.si (med drugim na Petrolovih bencinskih servisih\, v poslovalnicah Kompasa po Sloveniji …).
URL:https://815.si/dogodek/cafe-mezclado-jazz-club-ljubljanski-grad-01-03-2019/
LOCATION:Jazz Club Ljubljanski grad\, Grajska planota 1\, Ljubljana\, Slovenija\, 1000\, Slovenija
CATEGORIES:Funk,Jazz,Raggae,soul
ATTACH;FMTTYPE=image/jpeg:https://815.si/wp-content/uploads/2019/01/600pxCafe-Mezclado-foto-Jure-Matoz-02.jpg
END:VEVENT
END:VCALENDAR