BEGIN:VCALENDAR
VERSION:2.0
PRODID:-//BIS • 815.si - ECPv6.15.16//NONSGML v1.0//EN
CALSCALE:GREGORIAN
METHOD:PUBLISH
X-WR-CALNAME:BIS • 815.si
X-ORIGINAL-URL:https://815.si
X-WR-CALDESC:Dogodki za BIS • 815.si
REFRESH-INTERVAL;VALUE=DURATION:PT1H
X-Robots-Tag:noindex
X-PUBLISHED-TTL:PT1H
BEGIN:VTIMEZONE
TZID:Europe/Paris
BEGIN:DAYLIGHT
TZOFFSETFROM:+0100
TZOFFSETTO:+0200
TZNAME:CEST
DTSTART:20180325T010000
END:DAYLIGHT
BEGIN:STANDARD
TZOFFSETFROM:+0200
TZOFFSETTO:+0100
TZNAME:CET
DTSTART:20181028T010000
END:STANDARD
BEGIN:DAYLIGHT
TZOFFSETFROM:+0100
TZOFFSETTO:+0200
TZNAME:CEST
DTSTART:20190331T010000
END:DAYLIGHT
BEGIN:STANDARD
TZOFFSETFROM:+0200
TZOFFSETTO:+0100
TZNAME:CET
DTSTART:20191027T010000
END:STANDARD
BEGIN:DAYLIGHT
TZOFFSETFROM:+0100
TZOFFSETTO:+0200
TZNAME:CEST
DTSTART:20200329T010000
END:DAYLIGHT
BEGIN:STANDARD
TZOFFSETFROM:+0200
TZOFFSETTO:+0100
TZNAME:CET
DTSTART:20201025T010000
END:STANDARD
END:VTIMEZONE
BEGIN:VEVENT
DTSTART;TZID=Europe/Paris:20191220T200000
DTEND;TZID=Europe/Paris:20191220T235900
DTSTAMP:20260422T114822
CREATED:20191217T141647Z
LAST-MODIFIED:20191217T141647Z
UID:14987-1576872000-1576886340@815.si
SUMMARY:Ways Of A Heretic\, Drobovina\, Relentless youth - Orto bar
DESCRIPTION:Fundamentum Crew predstavlja svoj drugi koncert\, s skupinami Ways Of A Heretic\, Drobovina ter Relentless youth! V petek 20.12 vabljeni v Orto Bar\, da si še dodatno popestrite praznični december. \nWAYS OF A HERETIC\nWays Of A Heretic je black metal kvartet\, ki prihaja iz Štajerske\, točneje iz Sevnice. Nastali so leta 2015\, do dandanes pa so nastopili že na kar nekaj odrih – tokrat na našem\, v Ortu! Do sedaj imajo izdan album z naslovom ‘In The Candlelight’. Na vokalu je Sven Kneževič\, za bobni Tine Hribar\, na kitari Enej Sečki in Matija Fakin na basu. Pripravite se na odličen satanistični black metal ritual.\nFB: https://www.facebook.com/WaysOfAHeretic/\nVideo: https://www.youtube.com/watch?v=ofvKdqa9XsU\nBandcamp: https://waysofaheretic.bandcamp.com/ \nDROBOVINA\nDrobovina je 4 članska skupina\, ki je nastala v letu 2016. Igrajo noise/crust. Band sestavljajo Alexandrov Ensemble (vokal)\, x-fat (bas)\, Smrt (bobni) in One (kitara). Pričakujemo lahko glasbo s hitrimi in umazanimi riffi in nastop brez zadržkov.\nFB: https://www.facebook.com/Drobovina-630427703761685/\nVideo: https://www.youtube.com/watch?v=oJGz4rldZuI\nBandcamp: https://drobovina.bandcamp.com/ \nRELENTLESS YOUTH\nRelentless Youth so začeli igrati že daljnega leta 2011\, ko so se predstavili s singlom ‘Drowning’. Vmes so se zaradi različnih interesov članov razšli\, a so se na odre vrnili leta 2016. Takrat so tudi izdali svoj prvi EP\, z naslovom ‘Resentment’. Igrajo hardcore punk. Za udaren show bodo poskrbeli Urban Cigale (bass)\, Neža Dolmovič (bobni)\, Ambrož Cigale (kitara) ter David Guzelj (vokal).\nFB: https://www.facebook.com/relentlessyouthofficial/\nVideo: https://www.youtube.com/watch?v=6u6u3A_Oaaw \nVSTOPNINA: 6€\nČasovnica:\n20.00 – Vrata\n20.20 – Relentless Youth\n21.20 – Drobovina\n22.20 – Ways Of A Heretic
URL:https://815.si/dogodek/ways-of-a-heretic-drobovina-relentless-youth-orto-bar/
LOCATION:Orto Bar\, Grablovičeva ulica 1\, Ljubljana\, Slovenija
ATTACH;FMTTYPE=image/jpeg:https://815.si/wp-content/uploads/2019/12/beast_final-fb-cover.jpg
END:VEVENT
END:VCALENDAR