BEGIN:VCALENDAR
VERSION:2.0
PRODID:-//BIS • 815.si - ECPv6.15.16//NONSGML v1.0//EN
CALSCALE:GREGORIAN
METHOD:PUBLISH
X-ORIGINAL-URL:https://815.si
X-WR-CALDESC:Dogodki za BIS • 815.si
REFRESH-INTERVAL;VALUE=DURATION:PT1H
X-Robots-Tag:noindex
X-PUBLISHED-TTL:PT1H
BEGIN:VTIMEZONE
TZID:Europe/Paris
BEGIN:DAYLIGHT
TZOFFSETFROM:+0100
TZOFFSETTO:+0200
TZNAME:CEST
DTSTART:20170326T010000
END:DAYLIGHT
BEGIN:STANDARD
TZOFFSETFROM:+0200
TZOFFSETTO:+0100
TZNAME:CET
DTSTART:20171029T010000
END:STANDARD
BEGIN:DAYLIGHT
TZOFFSETFROM:+0100
TZOFFSETTO:+0200
TZNAME:CEST
DTSTART:20180325T010000
END:DAYLIGHT
BEGIN:STANDARD
TZOFFSETFROM:+0200
TZOFFSETTO:+0100
TZNAME:CET
DTSTART:20181028T010000
END:STANDARD
BEGIN:DAYLIGHT
TZOFFSETFROM:+0100
TZOFFSETTO:+0200
TZNAME:CEST
DTSTART:20190331T010000
END:DAYLIGHT
BEGIN:STANDARD
TZOFFSETFROM:+0200
TZOFFSETTO:+0100
TZNAME:CET
DTSTART:20191027T010000
END:STANDARD
BEGIN:DAYLIGHT
TZOFFSETFROM:+0100
TZOFFSETTO:+0200
TZNAME:CEST
DTSTART:20200329T010000
END:DAYLIGHT
BEGIN:STANDARD
TZOFFSETFROM:+0200
TZOFFSETTO:+0100
TZNAME:CET
DTSTART:20201025T010000
END:STANDARD
END:VTIMEZONE
BEGIN:VEVENT
DTSTART;TZID=Europe/Paris:20190921T200000
DTEND;TZID=Europe/Paris:20190921T230000
DTSTAMP:20260422T121023
CREATED:20190915T164749Z
LAST-MODIFIED:20190915T164749Z
UID:13522-1569096000-1569106800@815.si
SUMMARY:Marko Hatlak BAND z Vlatkom Stefanovskim - Križanke\, Ljubljana (21.9.2019)
DESCRIPTION:September bo popestril tudi koncert Marko Hatlak BANDA v Križankah. Posebni gost bo kitarist Vlatko Stefanovski. \nMarko Hatlak se z novim projektom Marko Hatlak BAND spušča v pop\, latino\, funk in rock vode. Navdih\, ki ga črpa pri Jamiroquaiju\, Stevieju Wonderju\, Michaelu Camilu\, Princeu in Jožetu Privšku\, prevaja v energično\, zabavno\, ritmično\, plesno in mladostno glasbo. Harmonikar Marko Hatlak se že od začetka svoje koncertne kariere rad prepušča raznolikim glasbenim žanrom – od študijske klasične in sodobne glasbe do tanga in etna\, sedaj ta nabor še dopolnjuje. V projektu Marko Hatlak BAND se predstavlja kot harmonikar in vokalist\, poleg tega pa tudi kot avtor skladb in besedil. Glasba je bendovska\, virtuozna in izrazito ritmična. Ob sebi je zbral vrhunske glasbenike na bobnih\, tolkalih\, basu\, klaviaturah in violini\, ki ga inspirirajo s svojo virtuoznostjo in pozitivnim nabojem. Odrska kemija med izvajalci je igriva in na trenutke tudi humorna. Na koncertu bomo slišali skladbe s Hatlakovega novega albuma z naslovom “Ko ni Noč in ni Dan”\, na odru pa se jim bo kot posebni gost pridružil eden največjih kitaristov Vlatko Stefanovski\, s katerim bodo ustvarili nepozabno glasbeno izkušnjo. Skupina je izdala prvenec jeseni 2018 pri založbi Dallas Records. \nMarko Hatlak\, harmonika\, vokal\nŽiga Kožar\, bobni\nLeon Firšt\, klaviature\nErik Čebokli\, bas\nLazaro Amed Hierrezuelo\, tolkala\, violina \n************************************************************************ \nVstopnice v predprodaji stanejo 20 €\, na dan koncerta pa 25 €.  Na voljo so preko spletne strani Festivala Ljubljana. \nInformacije: https://ljubljanafestival.si/vstopnice/prodajna-mesta/ \n\n 
URL:https://815.si/dogodek/marko-hatlak-band-z-vlatkom-stefanovskim-krizanke-ljubljana-21-9-2019/
LOCATION:Križanke\, Trg francoske revolucije 1\, Ljubljana\, 1000\, Slovenija
CATEGORIES:Funk,Latin,Pop,Rock
ATTACH;FMTTYPE=image/jpeg:https://815.si/wp-content/uploads/2018/05/Marko_Hatlak_006_foto_Bostjan_Tacol.jpg
END:VEVENT
BEGIN:VEVENT
DTSTART;TZID=Europe/Paris:20190914T190000
DTEND;TZID=Europe/Paris:20190914T233000
DTSTAMP:20260422T121023
CREATED:20190825T092706Z
LAST-MODIFIED:20190825T092841Z
UID:13129-1568487600-1568503800@815.si
SUMMARY:Gramatik - Križanke (14.9.2019)
DESCRIPTION:Svetovno znani slovenski producent Gramatik\, eden naših najvidnejših glasbenih izvozov\, bo v začetku šolskega leta znova napolnil ljubljanske Križanke s svojimi prefinjeno izoblikovanimi beati! Vizionar glasbene industrije\, ki je poleg dodelanega glasbenega izraza in epskih nastopov po celem svetu zaslovel z neobičajnim pristopom ponujanje glasbe brezplačno in inovativno izrabo sodobnih tehnologij\, kot je blockchain\, bo v Ljubljani nastopil v okviru praznovanja desete obletnice Kina Šiška. \nV New Yorku baziran elektronski producent Denis Jašarević oziroma Gramatik\, izvirno doma z Obale\, ustvarja nalezljive instrumentalne beate pod vplivom bluesa\, funka\, soula in jazza\, z njimi pa navdušuje razprodana prizorišča po celem svetu – vključno z megalomanskimi festivali\, kot sta Coachella in Lollapalooza.\n\nZ močnimi prepričanji glede glasbe kot breplačnega medija je Gramatik eden redkih tovrstnih zvezdnikov\, ki svojo obsežno diskografijo prek spleta nudijo povsem zastonj\, leta 2013 pa je v želji po nadaljnjem uresničevanju tega poslanstva ustanovil tudi založbo Lowtemp. Z njo izdatno podpira tudi obetavne domače glasbenike\, kot so Emiljo A.C.\, Luxas in Whynnel.\n \n\n\nLeta 2017 je s pomočjo blockchain tehnologije kot eden prvih glasbenikov na svetu izdal svojo lastno kriptovaluto in v manj kot 24 urah nabral najvišji možni znesek\, slaba 2\,5 milijona dolarjev\, seveda pa še vedno nadaljuje z ustvarjanjem. Ob ponovnem obisku ljubljanskih Križank\, v katerih nas je z “izvrstnim nastopom” (Mladina) navdušil že v 2014 in 2016\, se tako lahko veselimo tudi novega materiala in seveda še enega nepozabnega žura v režiji zvezde svetovnega kova. \nGramatikov veliki comeback  v Križanke bodo uvedli naslednji gostujoči producenti in bendi:  \nMomento Cigano  \nLuxas  \nWhynnel  \nBenjamin Shock (Live Set).  \nGramatikov veliki dogodek v Križankah bo povezoval Pižama.  \nVstopnice že v prodaji prek spleta in prodajne mreže Eventim. \nOrganizacija: Kino Šiška. Dogodek poteka v okviru praznovanja 10. obletnice Kina Šiška.
URL:https://815.si/dogodek/gramatik-krizanke-14-9-2019/
LOCATION:Križanke\, Trg francoske revolucije 1\, Ljubljana\, 1000\, Slovenija
ATTACH;FMTTYPE=image/jpeg:https://815.si/wp-content/uploads/2019/08/gramatik_krizanke.jpg
END:VEVENT
BEGIN:VEVENT
DTSTART;TZID=Europe/Paris:20190830T203000
DTEND;TZID=Europe/Paris:20190830T230000
DTSTAMP:20260422T121023
CREATED:20190826T100009Z
LAST-MODIFIED:20190826T100009Z
UID:13206-1567197000-1567206000@815.si
SUMMARY:Vlado Kreslin z gosti - Križanke\, Ljubljana (30.8.2019)
DESCRIPTION:Tradicionalni avgustovski koncert Vlada Kreslina naznanja skorajšnji iztek avgusta in obenem napoveduje konec poletnega festivala.\nObvestilo organizatorja: Rezervni termin v primeru slabega vremena je 31. 8. 2019. Končni termin bo določen na dan dogodka in objavljen na www.ljubljanafestival.si. \nKreslin s svojo čutno avtorsko glasbo in čudovitimi priredbami ljudskih pesmi že skoraj tri desetletja polni ljubljanske Križanke in navdušuje obiskovalce. Njegove najlepše melodije\, med katerimi so Namesto koga roža cveti\, Preko Mure preko Drave\, Z Goričkega v Piran in Tudi čez tisoč let\, gotovo še vedno odzvanjajo med generacijami njegovih poslušalcev. Na odru je največkrat stal z Malimi bogovi in Beltinško bando\, svojo glasbeno pot pa je začinil s celo paleto sodelovanj z najrazličnejšimi domačimi in tujimi glasbeniki\, kot so Rade Šerbedžija\, Josipa Lisac\, Vlatko Stefanovski\, Mary Coughlan\, Siddharta\, Severa in Gal Gjurin ter številni drugi. Tudi letos se bo s svojo črno kitaro poslovil od poletja\, pridružili pa se mu bodo\, kot običajno\, zanimivi glasbeni gostje – Slovenski nacionalni mladinski orkester pod vodstvom dirigentke Žive Ploj Peršuh. \nProjekt Slovenski nacionalni mladinski orkester poteka pod častnim pokroviteljstvom predsednika Vlade Republike Slovenije gospoda Marjana Šarca. \n\nVSTOPNICE (33€\, na dan koncerta 39€) lahko kupite preko spletne strani Festivala Ljubljana in preko Eventima. \nInformacije o nakupu in prodajnih mestih: http://www.ljubljanafestival.si/vstopnice/prodajna-mesta/
URL:https://815.si/dogodek/vlado-kreslin-z-gosti-krizanke-ljubljana-30-8-2019/
LOCATION:Križanke\, Trg francoske revolucije 1\, Ljubljana\, 1000\, Slovenija
CATEGORIES:acoustic,Blues,Etno,Rock,World music
ATTACH;FMTTYPE=image/jpeg:https://815.si/wp-content/uploads/2018/09/Vlado_Kreslin_Križanke_2018.jpg
END:VEVENT
BEGIN:VEVENT
DTSTART;TZID=Europe/Paris:20190524T210000
DTEND;TZID=Europe/Paris:20190524T233000
DTSTAMP:20260422T121023
CREATED:20190505T184156Z
LAST-MODIFIED:20190505T184156Z
UID:11156-1558731600-1558740600@815.si
SUMMARY:Dan D - Križanke (24.5.2019)
DESCRIPTION:Deset let po velikem koncertu s Simfoniki RTV Slovenija se Dan D vračajo na oder ljubljanskih Križank! Na celovečernem koncertu bodo v petek\, 24. maja 2019\, predstavili tako novi album kot tudi vse naše in vaše najljubše komade v vštekanih in izštekanih verzijah. \nZadnji dve leti so prebili v placu za vaje\, kjer so prirejali intimne dogodke za svoje prijatelje. Približno 2.000 radovednih obiskovalcev iz cele Slovenije je imelo priložnost sodelovati v procesu ustvarjanja zgodbe albuma Milo za drago\, zdaj pa je njihov trud prerasel okvir placa za vaje in si zasluži predstavitve tudi na večjem prizorišču.
URL:https://815.si/dogodek/dan-d-krizanke-24-5-2019/
LOCATION:Križanke\, Trg francoske revolucije 1\, Ljubljana\, 1000\, Slovenija
ATTACH;FMTTYPE=image/jpeg:https://815.si/wp-content/uploads/2019/05/danD_križanke.jpg
END:VEVENT
BEGIN:VEVENT
DTSTART;TZID=Europe/Paris:20180929T203000
DTEND;TZID=Europe/Paris:20180929T235000
DTSTAMP:20260422T121023
CREATED:20180409T100402Z
LAST-MODIFIED:20180810T095919Z
UID:3694-1538253000-1538265000@815.si
SUMMARY:Marko Hatlak Band - Kino Šiška (29.9.2018)
DESCRIPTION:‘RESDA VELJAM ZA KLASIČNEGA GLASBENIKA\, TODA MOJA DUŠA JE ROKERSKA.’ (INTERVJU ZA MMC RTV SLO\, JUNIJ 2016)\nV novem projektu zasedbe Marko Hatlak BAND bomo v Križankah videli harmonikarja v povsem novi luči. Umetnik se nam bo predstavil kot harmonikar in kot pevec\, obljublja pa nam bolj glasno\, ‘rokersko’ in mladostno – plesno izkušnjo\, v pop\, funk\, latino in rock maniri. Nova zgodba  vsebuje sveže\, avtorske skladbe in tudi nekaj priredb. Prvič bomo v Hatlakovem projektu slišali tolkala\, električno kitaro in klaviature.  Prvi singli z novega albuma bodo izšli še pred koncertom\, na dan koncerta pa bo izšel studijski album. Marko Hatlak BAND bo na koncertni predstavitvi novega projekta na oder povabil atraktivne glasbene goste – obeta se nam bogat večer raznolikih ritmov izpod prstov enega izmed naših najboljših harmonikarjev. \nMarko Hatlak raziskuje glasbo s harmoniko. Prepričal nas je s številnimi uspešnimi in raznolikimi projekti – sodeloval pa je s priznanimi avtorji iz vseh vetrov – Joss Stone\, Magnificom\, Tommy Emmanuel\, Vlatkom Stefanovskim\, Stefanom Milenkovichem\, Iztokom Mlakarjem… Njegova prva ljubezen je bila rock glasba\, sledili so vzori iz skupine Jamiroquai\, fascinirali so ga Stevie Wonder\, Prince\, Guns N’ Roses ter Metallica. Marko Hatlak odkriva glasbo na svojevrsten način\, ne obremenjuje se z žanrskimi oznakami\, pomembna mu je strast in ‘naježena koža’ ob sami izvedbi. Po tem ključu tudi izbira glasbene goste in zasedbe\, s katerimi nastopa. Njegovo ljubezen do glasbenega izraza začuti tudi občinstvo – vstopnice za njegove koncerte so vedno zelo iskane. \nOdraščal je v Idriji\, majhem kraju\, ki ‘ne pozna bližnjic’. Pri šestih letih je že pričel pisati zgodbo v lokalni glasbeni šoli. Včasih je na ure harmonike prinesel tudi kitaro ali bobne. Po srednji glasbeni in baletni šoli je pot nadaljeval v Nemčiji\, v Weimaru ter v Würzburgu\, kjer je podiplomski študij zaključil pri slovitem profesorju Stefanu Hussongu. V več kot 15 letih aktivnega koncertiranja po Sloveniji ter na priznanih tujih odrih je kot solist in v sodelovanju s številnimi priznanimi izvajalci\, zasedbami in orkestri zgradil svojevrsten in prepoznaven slog. Kot solist je igral z Moskovskim filharmoničnim orkestrom\, z Jenskimi filharmoniki\, s simfoniki RTV Slovenija\, videli smo ga v zasedbah Terrafolk\, Distango\, Funtango\, Tango Compás\, Kapobanda. \nV glasbi Marka Hatlaka je vsak izraz podčrtan s strastjo\, to izkušnjo želi prenesti tudi na obiskovalce njegovih koncertov\, ljudi želi začarati z glasbo. Obeta se nam večer poln živahnih ritmov od latina\, funka\, rocka do popa\, pripravite plesne čevlje! \nCena EARLY BIRD vstopnic je 22 EUR. Cena velja do razprodaje kontingenta. Vstopnice so naprodaj na EVENTIM.SI\, na Petrolovih BS ter Eventimovih poslovalnicah po vsej Sloveniji.
URL:https://815.si/dogodek/marko-hatlak-band-krizanke-20-9-2018/
LOCATION:CUK Kino Šiška\, Trg prekomorskih brigad 3\, Ljubljana\, Slovenija
CATEGORIES:Blues,Country,Etno,Klasika,Rock
ATTACH;FMTTYPE=image/jpeg:https://815.si/wp-content/uploads/2018/04/marko_hatlak_band_krizanke.jpg
END:VEVENT
BEGIN:VEVENT
DTSTART;TZID=Europe/Paris:20180907T203000
DTEND;TZID=Europe/Paris:20180907T230000
DTSTAMP:20260422T121023
CREATED:20180824T223906Z
LAST-MODIFIED:20180904T093720Z
UID:7057-1536352200-1536361200@815.si
SUMMARY:Ljubljana Festival: LAIBACH IN FILHARMONIČNI ORKESTER IZ LVOVA - Križanke\, Ljubljana (7.9.2018)
DESCRIPTION:Laibach se 7. septembra 2018 vrača na oder poletnega gledališča Križank\, tokrat v sodelovanju z enim večjih orkestrov v Ukrajini\, ki je poznan tudi daleč prek njenih meja\, Filharmoničnim orkestrom iz Lvova. V primeru slabega vremena se dogodek prestavi v Halo Tivoli.\nZasedba je na pobudo Inštituta Adama Mickiewicza\, v okviru mednarodnega kulturnega programa Polska 100\, ki spremlja 100. obletnico poljske neodvisnosti\, pripravila edinstveno interpretacijo Simfonije št. 3 poljskega skladatelja Andrzeja Panufnika\, imenovane tudi Sinfonia Sacra. Slovi kot eno najbolj dostopnih in priljubljenih skladateljevih del in temelji na prvi znani poljski himni\, Bogorodici. Na sporedu bo tudi orkestralna predelava njihove avtorske glasbe za predstavo Tako je govoril Zaratustra\, novomeškega Anton Podbevšek teatra\, v režiji Matjaža Bergerja; uspešno so jo izvajalina razprodani dvomesečni turneji po Evropi. Najbolj znamenita glasbena interpretacija Nietzschejevega dela je istoimenska poema Richarda Straussa iz leta 1896\, ki je zaslovela z uporabo v Kubrickovem filmu Odiseja 2001. Skupina Laibach se v interpretiranju Zaratustre ni oprla na Straussa\, ampak se je odločila za povsem lastno glasbeno branje. Nastop Laibacha bo pospremljen z bogato vizualnoscensko podobo\, tokrat pod taktirko flamskega dirigenta Filipa Rathéja. \nProjekt je organiziran v sodelovanju z Inštitutom Adam Mickiewicz\, ki deluje pod blagovno znamko Culture. pl v okviru mednarodnega kulturnega programa POLSKA 100\, ki spremlja 100-letnico polne neodvisnosti Poljske. Financira ga Ministrstvo za kulturo in narodno dediščino Republike Poljske v okviru večletnega programa NIEPODLEGŁA 2017–2021. \n*********************************************************************** \nVstopnice (39 € sedišča\, 29 € stojišča) so na voljo preko spletne strani Ljubljana Festivala in preko Eventima. \nInformacije o nakupu vstopnic in prodajnih mestih:http://www.ljubljanafestival.si/vstopnice/prodajna-mesta/
URL:https://815.si/dogodek/ljubljana-festival-laibach-in-filharmonicni-orkester-iz-lvova-krizanke-ljubljana-7-9-2018/
LOCATION:Križanke\, Trg francoske revolucije 1\, Ljubljana\, 1000\, Slovenija
ATTACH;FMTTYPE=image/jpeg:https://815.si/wp-content/uploads/2018/08/Laibach-Križanke-FS-2018.jpg
END:VEVENT
BEGIN:VEVENT
DTSTART;TZID=Europe/Paris:20180831T203000
DTEND;TZID=Europe/Paris:20180831T230000
DTSTAMP:20260422T121023
CREATED:20180814T203958Z
LAST-MODIFIED:20180824T225353Z
UID:6771-1535747400-1535756400@815.si
SUMMARY:66. Ljubljana Festival: Vlado Kreslin z gosti v Križankah\, Ljubljana (31.8.2018)
DESCRIPTION:Vlado Kreslin se z Malimi bogovi in Beltinško bando že 27. leto zapored vrača v Križanke.  Letos bo na odru z njimi še Big band Orkestra Slovenske vojske. Na zadnji avgust\, ko bo poletje šlo\, zato organizatorji sporočajo\, da se v primeru dežja dogodek prestavi v Cankarjev dom.\nTradicionalni koncert Vlada Kreslina\, ki vztrajno polni poletno gledališče Plečnikovih Križank\, praznuje že sedemindvajset let nastopov. Glasbenik\, ki je v osemdesetih letih deloval v rock bandu Horizont\, leta 1980 zmagal na festivalu Slovenska popevka s skladbo Dan neskončnih sanj in potem z bandom Martin Krpan ustvaril nekaj večnih skladb\, velja za enega najprepoznavnejših slovenskih ustvarjalcev sploh. Z izrednim razumevanjem\, še posebno ljudske glasbe\, je z Beltinško bando in z mnogimi raznovrstnimi sodelovanji povzročil pravi preporod\, saj jo je z osebno noto približal vsem generacijam tako na lokalni kot globalni ravni. Z raznovrstno paleto gostov bo Vlado Kreslin predstavil pesmi iz svoje obsežne glasbene zakladnice. \n\nVstopnice (29 € in na dan koncerta 35 €) so na voljo preko spletne strani Ljubljana Festivala in na Eventimu.  \nInformacije o nakupu in prodajnih mestih: http://www.ljubljanafestival.si/vstopnice/prodajna-mesta/
URL:https://815.si/dogodek/vlado-kreslin-z-gosti-v-krizankah-ljubljana-31-8-2018/
LOCATION:Križanke\, Trg francoske revolucije 1\, Ljubljana\, 1000\, Slovenija
CATEGORIES:acoustic,Blues,Etno,Rock
ATTACH;FMTTYPE=image/jpeg:https://815.si/wp-content/uploads/2018/08/38712074_10155758257531274_6486912363843813376_n.jpg
END:VEVENT
BEGIN:VEVENT
DTSTART;TZID=Europe/Paris:20180716T200000
DTEND;TZID=Europe/Paris:20180716T220000
DTSTAMP:20260422T121023
CREATED:20180316T082022Z
LAST-MODIFIED:20180316T082022Z
UID:3254-1531771200-1531778400@815.si
SUMMARY:Dance Amore - Križanke (16.7.2018)
DESCRIPTION:Plesni spektakel v bleščečem soju Broadwaya\nV ljubljanske Križanke to poletje prihaja glamurozni plesni šov\, ki bo s priznanimi slovenskimi plesalci na odru pričaral pristno vzdušje ulic New Yorka. Mesto preporoda in grandioznih priložnosti bodo v predstavi poustvarili od razgibane scenografske podobe\, preko glamuroznih kostumov\, do ubranih plesnih korakov ter koreografij originalne plesne zasedbe. Žarometi zažarijo\, ulice se prebudijo in zgodbe plesnih junakov oživijo skupaj z njimi. V mozaik zgodb so združeni nastopi plesnih duetov\, prepleteni s točkami modernih plesnih formatov\, začinjenih z zapeljivim vokalom\, ki gledalca vabi v razburkani svet nasprotujočih si čustev in buri njegovo domišljijo. Predstava prikazuje pestro paleto latinskoameriških in standardnih plesov\, z atraktivnimi figurami žgočega argentinskega tanga\, umazane salse\, hip hopa\, modernega plesa in jazza. V zraku je čutiti žar ljubezni na prvi pogled\, dramatične posledice tragične zmote\, grozo krvavega umora ter humor živahnih uličnih karakterjev. Dogajalna kulisa je postavljena na obrobje Brooklyna leta 1947 in prikazuje 24 ur\, prepletenih s plesnimi zgodbami iz soseščine\, polne nočnih barov\, utripajočih luči in glasnih ritmov. V vrelišču ustvarjalnega talenta se srečujejo posamezniki iz raznolikih okolij\, se spopadajo s številnimi izzivi\, ki tvorijo vrtinec emocij in spletajo plesno pripoved. \nEkstravagantne plesne točke bo na odru izvedla družba priznanih slovenskih plesalcev\, kot so: Andrej Škufca\, Melinda Torokgyorgy Škufca\, Jurij in Jagoda Batagelj\, Gordana Grandošek Whiddon in Matej Krajcer\, ki jih nekatere poznamo tudi iz šova Zvezde plešejo\, ter mnogi drugi\, saj v predstavi nastopa kar 17 plesalcev\, pripovedovalec in pevka. \nPlesna zgodba Dance Amore je nadgrajena in posodobljena različica navdihujoče plesne predstave »The 50’s Show«\, ki je pod vodstvom Jurija Batagelja nastala pred več kot desetletjem. Ustvarjalci so združili moči ter postavili paleto latinskoameriških in standardnih plesov na gledališke odre in ustvarili enkraten plesni\, umetniški format. Predstava je kar devetkrat razprodala Gallusovo dvorano Cankarjevega Doma\, uspešno gostovala na Velikem odru Festivala Lent ter kar dvakrat napolnila eno največjih kongresnih dvoran v Južni Evropi\, NDK s kapaciteto kar 5000 sedišč. Nepozabna plesna zgodba s posodobljenimi in nadgrajenimi plesnimi točkami to poletje prihaja na oder ljubljanskih Križank. \nPlesni spektakel ob katerem vas bodo zasrbele pete – Dance Amore – 16. julij\, Križanke! \nVstopnice ŽE NA VOLJO na vseh prodajnih mestih Festival Ljubljana\, Eventim (Petrol / OMV / Big Bang / Pošta Slovenije ) in na spletni strani: \nProdaja Eventim: \nhttp://www.eventim.si/si/vstopnice/dance-amore-ljubljana-krizanke-487970/event.html
URL:https://815.si/dogodek/dance-amore-krizanke-16-7-2018/
LOCATION:Križanke\, Trg francoske revolucije 1\, Ljubljana\, 1000\, Slovenija
CATEGORIES:World music
ATTACH;FMTTYPE=image/jpeg:https://815.si/wp-content/uploads/2018/03/DanceAmore5-TomazLanisek.jpeg
END:VEVENT
END:VCALENDAR