BEGIN:VCALENDAR
VERSION:2.0
PRODID:-//BIS • 815.si - ECPv6.15.16//NONSGML v1.0//EN
CALSCALE:GREGORIAN
METHOD:PUBLISH
X-ORIGINAL-URL:https://815.si
X-WR-CALDESC:Dogodki za BIS • 815.si
REFRESH-INTERVAL;VALUE=DURATION:PT1H
X-Robots-Tag:noindex
X-PUBLISHED-TTL:PT1H
BEGIN:VTIMEZONE
TZID:Europe/Paris
BEGIN:DAYLIGHT
TZOFFSETFROM:+0100
TZOFFSETTO:+0200
TZNAME:CEST
DTSTART:20180325T010000
END:DAYLIGHT
BEGIN:STANDARD
TZOFFSETFROM:+0200
TZOFFSETTO:+0100
TZNAME:CET
DTSTART:20181028T010000
END:STANDARD
BEGIN:DAYLIGHT
TZOFFSETFROM:+0100
TZOFFSETTO:+0200
TZNAME:CEST
DTSTART:20190331T010000
END:DAYLIGHT
BEGIN:STANDARD
TZOFFSETFROM:+0200
TZOFFSETTO:+0100
TZNAME:CET
DTSTART:20191027T010000
END:STANDARD
BEGIN:DAYLIGHT
TZOFFSETFROM:+0100
TZOFFSETTO:+0200
TZNAME:CEST
DTSTART:20200329T010000
END:DAYLIGHT
BEGIN:STANDARD
TZOFFSETFROM:+0200
TZOFFSETTO:+0100
TZNAME:CET
DTSTART:20201025T010000
END:STANDARD
END:VTIMEZONE
BEGIN:VEVENT
DTSTART;TZID=Europe/Paris:20190301T210000
DTEND;TZID=Europe/Paris:20190301T235900
DTSTAMP:20260421T205845
CREATED:20190224T135045Z
LAST-MODIFIED:20190224T135045Z
UID:10022-1551474000-1551484740@815.si
SUMMARY:Riffeater #8 - Shadow Universe\, Monstrumental - Orto Bar (1.3.2019)
DESCRIPTION:Na osmi ediciji Riffeater bodo gostili Shadow Universe (Post Rock\, Soundtrack) & Monstrumental … Vstopnina: 8€ … Imetniki članskih izkaznic Kadilnica of Death imajo VSTOP PROST !! \nSHADOW UNIVERSE \nhttps://www.facebook.com/shdwunvrs/https://shadowuniverse.bandcamp.com/ Atmosferični post-rock projekt Shadow Universe se po dveh izdanih albumih premierno predstavlja tudi v živo. Kontrast prostranih filmskih tekstur in težke anksiozne temačnosti simbolizira raznolikost narave\, življenja in vesolja\, ki nas obdaja. Audio-vizualni performance vas bo ponesel v neraziskane dimenzije in potegnil v vorteks čustev. Za fene: God is an astronaut\, Caspian\, Pg. lost .. \nMONSTRUMENTAL https://www.facebook.com/monstrumental666/https://monstrumental.bandcamp.com/ Žanrsko se ne opredeljujejo\, lahko pa bi rekli\, da je njihov repertoar prežet z surfersko-psihadeličnimi valovi\, post punk-rock-grundge z veliko reverba\, delay-a in drugimi prijetno – čudnimi zvoki. Pogosto jih zanese v mračnejše atmosfere s precejšnjo mero distorzije in težkih rifov\, kjer za razliko od začetnih pretežno instrumentalnih kompozicij\, dodajo tudi grungersko-rokerski vokal.
URL:https://815.si/dogodek/riffeater-8-shadow-universe-monstrumental-orto-bar-1-3-2019/
LOCATION:Orto Bar\, Grablovičeva ulica 1\, Ljubljana\, Slovenija
CATEGORIES:Punk,Rock
ATTACH;FMTTYPE=image/jpeg:https://815.si/wp-content/uploads/2019/02/51270123_2221685007882311_2774447773980819456_o.jpg
END:VEVENT
END:VCALENDAR