BEGIN:VCALENDAR
VERSION:2.0
PRODID:-//BIS • 815.si - ECPv6.15.16//NONSGML v1.0//EN
CALSCALE:GREGORIAN
METHOD:PUBLISH
X-WR-CALNAME:BIS • 815.si
X-ORIGINAL-URL:https://815.si
X-WR-CALDESC:Dogodki za BIS • 815.si
REFRESH-INTERVAL;VALUE=DURATION:PT1H
X-Robots-Tag:noindex
X-PUBLISHED-TTL:PT1H
BEGIN:VTIMEZONE
TZID:Europe/Paris
BEGIN:DAYLIGHT
TZOFFSETFROM:+0100
TZOFFSETTO:+0200
TZNAME:CEST
DTSTART:20180325T010000
END:DAYLIGHT
BEGIN:STANDARD
TZOFFSETFROM:+0200
TZOFFSETTO:+0100
TZNAME:CET
DTSTART:20181028T010000
END:STANDARD
BEGIN:DAYLIGHT
TZOFFSETFROM:+0100
TZOFFSETTO:+0200
TZNAME:CEST
DTSTART:20190331T010000
END:DAYLIGHT
BEGIN:STANDARD
TZOFFSETFROM:+0200
TZOFFSETTO:+0100
TZNAME:CET
DTSTART:20191027T010000
END:STANDARD
BEGIN:DAYLIGHT
TZOFFSETFROM:+0100
TZOFFSETTO:+0200
TZNAME:CEST
DTSTART:20200329T010000
END:DAYLIGHT
BEGIN:STANDARD
TZOFFSETFROM:+0200
TZOFFSETTO:+0100
TZNAME:CET
DTSTART:20201025T010000
END:STANDARD
END:VTIMEZONE
BEGIN:VEVENT
DTSTART;TZID=Europe/Paris:20191226T203000
DTEND;TZID=Europe/Paris:20191226T235900
DTSTAMP:20260423T031517
CREATED:20191217T131937Z
LAST-MODIFIED:20191217T132511Z
UID:14980-1577392200-1577404740@815.si
SUMMARY:Moonleejada 2019: Borghesia\, Bernays Propaganda\, ŽEN - Gala Hala
DESCRIPTION:Pred zadnjimi izdihljaji iztekajočega se desetletja bomo v Gala hali ustavili čas in z mini-festivalom Moonleejada 2019 nazdravili ob 15. obletnici delovanja neodvisne slovenske založbe Moonlee Records in se spoštljivo priklonili Mr. Moonleeju! Moonlee Records je v tem obdobju nanizal 49 izdaj glasbenih skupin iz celotnega območja nekdanje skupne države ter postala zbirališče najzanimivejših kitarskih muzik Balkana in s tem tudi svojevrsten dokument zgodovine regionalne glasbene scene začetka tega tisočletja (Repetitor\, Bernays Propaganda\, Borghesia\, Debeli Precjednik\, Seine\, Nikki Louder\, Damir Avdić….). \nIn kdo bo zagodel Mr. Moonleeju ob častitljivem jubileju? Prvič se bo na odru Gala hale predstavila kultna Borghesia z udarnim prepletom starih hitov in novih skladb iz aktualne art-rock / industrial plošče ‘Proti kapitulaciji’. Družbo jim bo delala zasanjano blagozvočna zagrebška post-rock / shoe-gaze vseženska trojka ŽEN. Za udaren in plesno-punkersko naravnan epilog bodo zadolženi dolgoletni makedonski sopotniki Bernays Propaganda s še vedno svežim albumom ‘Vtora mladost\, treta svetska vojna’. Simbolično!
URL:https://815.si/dogodek/moonleejada-2019-borghesia-bernays-propaganda-zen/
LOCATION:Gala Hala\, Metelkova ulica 6\, Ljubljana\, 1000
ATTACH;FMTTYPE=image/jpeg:https://815.si/wp-content/uploads/2019/12/moonleejada2019.jpg
END:VEVENT
END:VCALENDAR