BEGIN:VCALENDAR
VERSION:2.0
PRODID:-//BIS • 815.si - ECPv6.15.16//NONSGML v1.0//EN
CALSCALE:GREGORIAN
METHOD:PUBLISH
X-ORIGINAL-URL:https://815.si
X-WR-CALDESC:Dogodki za BIS • 815.si
REFRESH-INTERVAL;VALUE=DURATION:PT1H
X-Robots-Tag:noindex
X-PUBLISHED-TTL:PT1H
BEGIN:VTIMEZONE
TZID:Europe/Paris
BEGIN:DAYLIGHT
TZOFFSETFROM:+0100
TZOFFSETTO:+0200
TZNAME:CEST
DTSTART:20180325T010000
END:DAYLIGHT
BEGIN:STANDARD
TZOFFSETFROM:+0200
TZOFFSETTO:+0100
TZNAME:CET
DTSTART:20181028T010000
END:STANDARD
BEGIN:DAYLIGHT
TZOFFSETFROM:+0100
TZOFFSETTO:+0200
TZNAME:CEST
DTSTART:20190331T010000
END:DAYLIGHT
BEGIN:STANDARD
TZOFFSETFROM:+0200
TZOFFSETTO:+0100
TZNAME:CET
DTSTART:20191027T010000
END:STANDARD
BEGIN:DAYLIGHT
TZOFFSETFROM:+0100
TZOFFSETTO:+0200
TZNAME:CEST
DTSTART:20200329T010000
END:DAYLIGHT
BEGIN:STANDARD
TZOFFSETFROM:+0200
TZOFFSETTO:+0100
TZNAME:CET
DTSTART:20201025T010000
END:STANDARD
END:VTIMEZONE
BEGIN:VEVENT
DTSTART;TZID=Europe/Paris:20190912T200000
DTEND;TZID=Europe/Paris:20190912T233000
DTSTAMP:20260422T234632
CREATED:20190825T090000Z
LAST-MODIFIED:20190825T090000Z
UID:13122-1568318400-1568331000@815.si
SUMMARY:Operators\, Bernays Propaganda - Kino Šiška (12.9.2019)
DESCRIPTION:Operators\nPod vodstvom marljivega Dana Boecknerja (Wolf Parade\, Handsome Furs\, Divine Fits) se po navdušujočem prvem obisku leta 2016 v Šiško z novo ploščo vračajo Operators. Plošča Radiant Dawn izide maja 2019\, na njej pa se Boecknerjev vokal prepleta s cinematičnim zvokom analognih glasbil. \nKanadska zasedba Operators\, v kateri poleg Dana Boecknerja najdemo njegovo partnerko Devojko in SamaBrowna (Divine Fits\, New Bomb Turks)\, je nastala leta 2014\, že dve leti pozneje pa nas v okviru cikla Indekš obiskala s prvencem Blue Wave. Bend se je hitro priljubil poslušalcem in je tudi med redkimi ki so na znamenitem festivalu Primavera Sound nastopili dve leti zapored – nastop leta 2017 smo ujeli tudi Šiškarji in takoj je bilo jasno\, da morajo Operatorsi spet zaiti v naše konce.\n\nV vmesnem času je bil Boeckner zaposlen z drugimi projekti – izdal je novo ploščo z Wolf Parade in nas z njimi obiskal lani\, posnel je skladbo za hvaljen film Mandy\, z Operatorsi pa je odigral v hipu razprodan niz nastopov\, sestavljenih izključno iz materiala že razpadlih Handsome Furs. Zdaj je končno nastopil čas za nov studijski album Operatorsov. Štirinajst veličastnih novih electro pop skladb na Radiant Dawn je prežetih z znanstvenofantastično distopijo v slogu sedemdesetih let prejšnjega stoletja\, plošča pa s svežo energijo predstavlja logičen naslednji korak v Boecknerjevi karieri. S takim naslovom albuma pa seveda ni druge\, kot da ravno ta bend otvori večdnevno praznovanje Šiškine 10. obletnice.\n \nBernays Propaganda\nNeustavljive makedonske aktivistične dance-punk ikone Bernays Propaganda se vračajo z novim\, petim dolgometražnim albumom in svežo zbirko nagruvanih\, radijsko spevnih in plesišču prijaznih družbeno angažiranih biserov pod pomenljivim imenom Vtora mladost\, treta svetska vojna (Druga mladost\, tretja svetovna vojna)\, ki bo v začetku septembra izšel pri domači neodvisni založbi Moonlee Records\, koncertno premiero pa doživel na odru Kina Šiška.\n \nZasedba Bernays Propaganda še naprej ohranja novovalovsko estetiko predhodnika Politika\, vendar je svoj zvok dodatno elektrificirala\, mu dodala še nekaj funka\, ga povila z blagozvočnim glasom Kristine Gorovske in ga zapakirala v svojstven preplet newyorškega plesnega punka\, electra poznih osemdesetih let prejšnjega stoletja in smernic novejših bendov\, kot so Chk Chk Chk\, Ought ali regionalni Artan Lili. Skratka plesni puntarski disko punk\, podkrepljen z lucidnimi refleksijami makedonskega vsakdana in prepoznavnim zvočnim podpisom Bernays Propagande.\n \n 
URL:https://815.si/dogodek/operators-bernays-propaganda-kino-siska-12-9-2019/
LOCATION:CUK Kino Šiška\, Trg prekomorskih brigad 3\, Ljubljana\, Slovenija
ATTACH;FMTTYPE=image/jpeg:https://815.si/wp-content/uploads/2019/08/Untitled-1.jpg
END:VEVENT
END:VCALENDAR