BEGIN:VCALENDAR
VERSION:2.0
PRODID:-//BIS • 815.si - ECPv6.15.16//NONSGML v1.0//EN
CALSCALE:GREGORIAN
METHOD:PUBLISH
X-ORIGINAL-URL:https://815.si
X-WR-CALDESC:Dogodki za BIS • 815.si
REFRESH-INTERVAL;VALUE=DURATION:PT1H
X-Robots-Tag:noindex
X-PUBLISHED-TTL:PT1H
BEGIN:VTIMEZONE
TZID:Europe/Paris
BEGIN:DAYLIGHT
TZOFFSETFROM:+0100
TZOFFSETTO:+0200
TZNAME:CEST
DTSTART:20190331T010000
END:DAYLIGHT
BEGIN:STANDARD
TZOFFSETFROM:+0200
TZOFFSETTO:+0100
TZNAME:CET
DTSTART:20191027T010000
END:STANDARD
BEGIN:DAYLIGHT
TZOFFSETFROM:+0100
TZOFFSETTO:+0200
TZNAME:CEST
DTSTART:20200329T010000
END:DAYLIGHT
BEGIN:STANDARD
TZOFFSETFROM:+0200
TZOFFSETTO:+0100
TZNAME:CET
DTSTART:20201025T010000
END:STANDARD
BEGIN:DAYLIGHT
TZOFFSETFROM:+0100
TZOFFSETTO:+0200
TZNAME:CEST
DTSTART:20210328T010000
END:DAYLIGHT
BEGIN:STANDARD
TZOFFSETFROM:+0200
TZOFFSETTO:+0100
TZNAME:CET
DTSTART:20211031T010000
END:STANDARD
END:VTIMEZONE
BEGIN:VEVENT
DTSTART;TZID=Europe/Paris:20200125T210000
DTEND;TZID=Europe/Paris:20200125T235900
DTSTAMP:20260421T173445
CREATED:20200101T184707Z
LAST-MODIFIED:20200101T184707Z
UID:15155-1579986000-1579996740@815.si
SUMMARY:Picture Grey - Orto bar
DESCRIPTION:Koncert mariborske alternativne rock skupine PICTURE GREY\, ki bo predstavila prvenec z naslovom Y O U (TH). Skupino sestavljajo super glasbeniki: \n\nIva Flisar – vokal (ena najbolj nadarjenih rock pevk mlajše generacije v Sloveniji)\nVane Cafnik – električna kitara (avtor in idejni vodja zasedbe Picture Grey)\nVasja Bajde – električna kitara (v svoji dolgi glasbeni karieri je bil član številnih uspešnih pop\, rock in hard rock skupin\, kot so Dweal\, Siti Hlapci\, Shit Happens\, Projekt Krokar…)\nSamo Šalamon – električni bas (po mnenju svetovnih kritikov eden najbolj zanimivih jazz kitaristov in komponistov mlajše generacije\, ki so se v zadnjih letih pojavili na svetovni jazz sceni…med drugim ga je enciklopedija Penguin Guide to Jazz uvrstila med najboljše komponiste v jazzu na svetu\, ugledna ameriška revija Guitar Player pa med 10 najboljših mlajših kitaristov na svetu)\nDenis Jančič – bobni  (že več let eden najboljših slovenskih hard rock in rock bobnarjev… član številnih uspešnih skupin in projektov\, kot so Yogurt\, Dweal\, Zoran Predin Band\, Omet odpada…)\n\nhttps://www.facebook.com/picturegrey/ \nhttps://picturegrey.bandcamp.com/ \nob podpori odlične mlade mariborske skupine LIBUROA \nhttps://www.facebook.com/liburoa/ \n\nTim Muršak\, vokal\nNiko Poštrak\, kitara\nJure Gračner\, kitara\nTin Matuš\, bobni\nJaša Pavčič\, bas\n\nVSTOPNINA – 5 EUR
URL:https://815.si/dogodek/picture-grey-orto-bar/
LOCATION:Orto Bar\, Grablovičeva ulica 1\, Ljubljana\, Slovenija
ATTACH;FMTTYPE=image/jpeg:https://815.si/wp-content/uploads/2020/01/group1.jpg
END:VEVENT
END:VCALENDAR