BEGIN:VCALENDAR
VERSION:2.0
PRODID:-//BIS • 815.si - ECPv6.15.16//NONSGML v1.0//EN
CALSCALE:GREGORIAN
METHOD:PUBLISH
X-ORIGINAL-URL:https://815.si
X-WR-CALDESC:Dogodki za BIS • 815.si
REFRESH-INTERVAL;VALUE=DURATION:PT1H
X-Robots-Tag:noindex
X-PUBLISHED-TTL:PT1H
BEGIN:VTIMEZONE
TZID:Europe/Paris
BEGIN:DAYLIGHT
TZOFFSETFROM:+0100
TZOFFSETTO:+0200
TZNAME:CEST
DTSTART:20170326T010000
END:DAYLIGHT
BEGIN:STANDARD
TZOFFSETFROM:+0200
TZOFFSETTO:+0100
TZNAME:CET
DTSTART:20171029T010000
END:STANDARD
BEGIN:DAYLIGHT
TZOFFSETFROM:+0100
TZOFFSETTO:+0200
TZNAME:CEST
DTSTART:20180325T010000
END:DAYLIGHT
BEGIN:STANDARD
TZOFFSETFROM:+0200
TZOFFSETTO:+0100
TZNAME:CET
DTSTART:20181028T010000
END:STANDARD
BEGIN:DAYLIGHT
TZOFFSETFROM:+0100
TZOFFSETTO:+0200
TZNAME:CEST
DTSTART:20190331T010000
END:DAYLIGHT
BEGIN:STANDARD
TZOFFSETFROM:+0200
TZOFFSETTO:+0100
TZNAME:CET
DTSTART:20191027T010000
END:STANDARD
BEGIN:DAYLIGHT
TZOFFSETFROM:+0100
TZOFFSETTO:+0200
TZNAME:CEST
DTSTART:20200329T010000
END:DAYLIGHT
BEGIN:STANDARD
TZOFFSETFROM:+0200
TZOFFSETTO:+0100
TZNAME:CET
DTSTART:20201025T010000
END:STANDARD
END:VTIMEZONE
BEGIN:VEVENT
DTSTART;TZID=Europe/Paris:20190118T210000
DTEND;TZID=Europe/Paris:20190118T230000
DTSTAMP:20260422T043014
CREATED:20190113T191504Z
LAST-MODIFIED:20190113T191504Z
UID:9415-1547845200-1547852400@815.si
SUMMARY:Ratko Divjak kvartet - Jazz Club Ljubljanski grad (18.01.2019)
DESCRIPTION:Ratko Divjak bobnarska jazz legenda je močno zaznamoval glasbeno sceno tako v Sloveniji kot v tujini. Za njim je pestra kariera\, ki jo je začel v rock zasedbi in potem nadaljeval v jazzu. Z orkestrom Big Band RTV Slovenija je na snemanjih in koncertih nastopal z mnogimi znanimi solisti\, kot so bili Petar Ugrin\, Boško Petrović\, Duško Gojković\, Stjepko Gut\, Primož Grašič\, Jure Pukl\, Jani Moder\, Adam Klemm\, Aleš Avbelj\, Blaž Jurjevčič … Kot član različnih zasedb je nastopal na jazz festivalih v Montereyu\, Los Angelesu\, Sacramentu\, Montreuxu\, Berlinu in Bologni. Igral je s številnimi svetovno znanimi glasbeniki\, kot so Art Farmer\, Gary Burton\, Stan Getz\, Joe Pass\, N. H. O. P. Pedersen\, Sal Nistico\, Albert Mangelsdorf\, Dave Libman\, Tony Coe\, Ferdinand Powel\, Gianni Basso\, Richard Davis\, Joe Pass\, Mike Stern in Steve Swallow.\nLela in Joe Kaplowitz sta ameriško-hrvaški jazz par\, ki že več kot deset let bogati hrvaško glasbeno sceno. Ta dinamični duo osvaja publiko z nekonformističnim pristopom k glasbi in strastjo\, ki prežema Joejevo briljantno klavirsko umetnost in Lelino izjemno vokalno kvaliteto. Novogoriški saksofonist Jani Šepetavec piše glasbo za različne projekte\, ustvarja svoje skladbe in kot multiinštrumentalist redno sodeluje s priznanimi slovenskimi glasbeniki. \nZasedba:\nLela Kaplowitz – vokal\nJoe Kaplowitz – klaviature\nJani Šepetavec – saksofon\nRatko Divjak – bobni \nGlasbena zvrst: jazz \n\nJazz Club Ljubljanski grad je odprt od 20.00 do 00.30. \nVstopnina: 7 EUR\nCena vstopnice vključuje povratno vožnjo z vzpenjačo. \nProdaja vstopnic: prodajna mesta Ljubljanskega gradu\, recepcija hostla Celica\, spodnja postaja vzpenjače\, prek www.ljubljanskigrad.si in na vseh prodajnih mestih www.mojekarte.si (med drugim na Petrolovih bencinskih servisih\, v poslovalnicah Kompasa po Sloveniji …).
URL:https://815.si/dogodek/ratko-divjak-kvartet-jazz-club-ljubljanski-grad-18-01-2019/
LOCATION:Jazz Club Ljubljanski grad\, Grajska planota 1\, Ljubljana\, Slovenija\, 1000\, Slovenija
CATEGORIES:Jazz
ATTACH;FMTTYPE=image/jpeg:https://815.si/wp-content/uploads/2019/01/48384426_1794868607291035_2466690084204707840_o.jpg
END:VEVENT
BEGIN:VEVENT
DTSTART;TZID=Europe/Paris:20180608T202000
DTEND;TZID=Europe/Paris:20180608T230000
DTSTAMP:20260422T043014
CREATED:20180606T074659Z
LAST-MODIFIED:20180606T074659Z
UID:4752-1528489200-1528498800@815.si
SUMMARY:Glasbena mineštra + Spaceballs - Tea-ter Bar Jesenice (8.6.2018)
DESCRIPTION:Glasbena mineštra je projekt\, ki sta si ga zamislila bobnar Jure Rozman in pevka ter flavtistka Maša Cilenšek. Ob podpori Mladinskega centra Jesenice ter Tea-ter Bara vodita  in usmerjata jam-session z izvirnim slovenskim imenom\, ki se zgodi enkrat mesečno\, navadno zadnji četrtek v mesecu. Gostijo mlade domače glasbenike\, letošnjo\, že drugo sezono\, pa so mineštro kuhali že številni znani in priznani slovenski glasbeniki od drugod. \nNa 9.Glasbeno mineštro so na Jesenice povabili jazz all-stars zasedbo Spaceballs: \nAleš Avbelj (kontrabas)\nRatko Divjak (bobni)\nBlaž Jurjevčič (klaviature)\nAdam Klemm (saksofon)\nBlaž Trček (saksofon) \nVesoljsko-glasbena ladja poleti v vesolje ob 20:20. Vstop je prost!
URL:https://815.si/dogodek/glasbena-minestra-spaceballs-tea-ter-bar-jesenice-8-6-2018/
LOCATION:Tea-ter bar Jesenice\, Trg Toneta Čufarja 4\, Jesenice\, 4270\, Slovenija
CATEGORIES:Jazz
ATTACH;FMTTYPE=image/jpeg:https://815.si/wp-content/uploads/2018/06/9.-Glasbena-mineštra-junij.jpg
END:VEVENT
END:VCALENDAR