BEGIN:VCALENDAR
VERSION:2.0
PRODID:-//BIS • 815.si - ECPv6.15.16//NONSGML v1.0//EN
CALSCALE:GREGORIAN
METHOD:PUBLISH
X-ORIGINAL-URL:https://815.si
X-WR-CALDESC:Dogodki za BIS • 815.si
REFRESH-INTERVAL;VALUE=DURATION:PT1H
X-Robots-Tag:noindex
X-PUBLISHED-TTL:PT1H
BEGIN:VTIMEZONE
TZID:Europe/Paris
BEGIN:DAYLIGHT
TZOFFSETFROM:+0100
TZOFFSETTO:+0200
TZNAME:CEST
DTSTART:20180325T010000
END:DAYLIGHT
BEGIN:STANDARD
TZOFFSETFROM:+0200
TZOFFSETTO:+0100
TZNAME:CET
DTSTART:20181028T010000
END:STANDARD
BEGIN:DAYLIGHT
TZOFFSETFROM:+0100
TZOFFSETTO:+0200
TZNAME:CEST
DTSTART:20190331T010000
END:DAYLIGHT
BEGIN:STANDARD
TZOFFSETFROM:+0200
TZOFFSETTO:+0100
TZNAME:CET
DTSTART:20191027T010000
END:STANDARD
BEGIN:DAYLIGHT
TZOFFSETFROM:+0100
TZOFFSETTO:+0200
TZNAME:CEST
DTSTART:20200329T010000
END:DAYLIGHT
BEGIN:STANDARD
TZOFFSETFROM:+0200
TZOFFSETTO:+0100
TZNAME:CET
DTSTART:20201025T010000
END:STANDARD
END:VTIMEZONE
BEGIN:VEVENT
DTSTART;TZID=Europe/Paris:20190510T200000
DTEND;TZID=Europe/Paris:20190510T233000
DTSTAMP:20260420T025228
CREATED:20190505T162930Z
LAST-MODIFIED:20190505T162930Z
UID:11144-1557518400-1557531000@815.si
SUMMARY:Still Corners\, Jakob Kobal - Kino Šiška (10.5.2019)
DESCRIPTION:Still Corners\nZasanjani synth pop par Still Corners\, nekdanji Sub Popov varovanec\, ki je z veleuspešnicami\, kot sta “The Trip” in “Fireflies”\, nabral več deset milijonov ogledov na YouTubeu\, končno prihaja v Slovenijo. Po razprodanem obisku Cigarettes After Sex leta 2017 nas maja tako čaka še en večer bujnega zvoka s pridihom ameriških širjav\, za katerega nas bo ogrel sredozemski vetrič mladega idrijskega kantavtorja Jakoba Kobala. \nNastanku dvojca Still Corners je botrovalo naključno srečanje Grega Hughesa in Tesse Murray na železniški postaji v Londonu leta 2009\, že s prvimi nemudoma razgrabljenimi singli pa sta pritegnila pozornost znamenite založbe Sub Pop. Sicer uspešnemu prvencu Creatures of an Hour je sledila plošča Strange Pleasures\, na kateri je dvojec učvrstil svoj spoj Vangelisovega avanturizma\, Morriconejeve cinematičnosti in glamuroznega synth popa osemdesetih let prejšnjega stoletja. \nPrelomni album je vseboval tudi uspešnici “The Trip” in “Fireflies”\, najboljši novi komad po izboru Pitchforka.\n\nTretja plošča\, izdana prek bendove lastne založbe Wrecking Light\, je spet osupnila in se med drugim zavihtela na vrh seznama najboljših dream pop ploščo leta 2016 po izboru The Line of Best Fit. Lani je dvojec svoje glasbeno potovanje nadaljeval s ploščo Slow Air\, na kateri je svojo značilno atmosferiko prežel s suho vročino Teksasa\, Arizone\, Kalifornije in drugih dežel ameriškega zahoda. Rezultat so\, kot pravi The Skinny\, “eskapistične sanje\, ki ob vsakem poslušanju še bolj podžgejo domišljijo”. Maja v Šiški!\n \nJakob Kobal\nIdrijčan Jakob Kobal je že z 22 leti nase opozoril z izjemnim singlom “Cloudless Skies”\, ki mu je hitro tlakoval pot do priznanih showcase festivalov\, kot so MENT Ljubljana\, Eurosonic Noorderslag in Indirekt\, bil pa je tudi ena najbolj predvajanih skladb na Valu 202 leta 2016. Istega leta se je uvrstil na glasbeno lestvico European Border Breakers Chart\, ki predstavlja najobetavnejše mlade glasbenike širom Evrope. Njegova glasba lebdi med umirjenimi in sproščeni zvoki\, ki dajejo občutek brezskrbnega poletnega večera\, in razburkanimi valovi sredi oceana\, kjer prevladujejo kaotični\, mistični ritmi ter melodije.\n\nVstopnice že v prodaji prek spleta in prodajne mreže Eventim. \nOrganizacija: Kino Šiška.
URL:https://815.si/dogodek/still-corners-jakob-kobal-kino-siska-10-5-2019/
LOCATION:CUK Kino Šiška\, Trg prekomorskih brigad 3\, Ljubljana\, Slovenija
ATTACH;FMTTYPE=image/jpeg:https://815.si/wp-content/uploads/2019/05/still_corners.jpg
END:VEVENT
END:VCALENDAR