BEGIN:VCALENDAR
VERSION:2.0
PRODID:-//BIS • 815.si - ECPv6.15.16//NONSGML v1.0//EN
CALSCALE:GREGORIAN
METHOD:PUBLISH
X-WR-CALNAME:BIS • 815.si
X-ORIGINAL-URL:https://815.si
X-WR-CALDESC:Dogodki za BIS • 815.si
REFRESH-INTERVAL;VALUE=DURATION:PT1H
X-Robots-Tag:noindex
X-PUBLISHED-TTL:PT1H
BEGIN:VTIMEZONE
TZID:Europe/Paris
BEGIN:DAYLIGHT
TZOFFSETFROM:+0100
TZOFFSETTO:+0200
TZNAME:CEST
DTSTART:20180325T010000
END:DAYLIGHT
BEGIN:STANDARD
TZOFFSETFROM:+0200
TZOFFSETTO:+0100
TZNAME:CET
DTSTART:20181028T010000
END:STANDARD
BEGIN:DAYLIGHT
TZOFFSETFROM:+0100
TZOFFSETTO:+0200
TZNAME:CEST
DTSTART:20190331T010000
END:DAYLIGHT
BEGIN:STANDARD
TZOFFSETFROM:+0200
TZOFFSETTO:+0100
TZNAME:CET
DTSTART:20191027T010000
END:STANDARD
BEGIN:DAYLIGHT
TZOFFSETFROM:+0100
TZOFFSETTO:+0200
TZNAME:CEST
DTSTART:20200329T010000
END:DAYLIGHT
BEGIN:STANDARD
TZOFFSETFROM:+0200
TZOFFSETTO:+0100
TZNAME:CET
DTSTART:20201025T010000
END:STANDARD
END:VTIMEZONE
BEGIN:VTIMEZONE
TZID:UTC
BEGIN:STANDARD
TZOFFSETFROM:+0000
TZOFFSETTO:+0000
TZNAME:UTC
DTSTART:20160101T000000
END:STANDARD
END:VTIMEZONE
BEGIN:VEVENT
DTSTART;TZID=Europe/Paris:20190508T210000
DTEND;TZID=Europe/Paris:20190508T233000
DTSTAMP:20260420T041342
CREATED:20190503T082720Z
LAST-MODIFIED:20190503T082720Z
UID:11138-1557349200-1557358200@815.si
SUMMARY:FINALE ŠOUROCKA'19 - ŠTUK\, Maribor (8.5.2019)
DESCRIPTION:8. MAJ\, FINALE\n💥 Apory Museum\n💥 Bajta 23\n💥 Fat Butlers\n💥 Infected\n💥 7ate9\n💥 Spotless Minds [Bend Šourocka 2018] \n____ \n✨ DRUŽENJE S KOMISIJO ✨\nZ vami bodo člani komisije: Marko Soršak Soki “20 za 20”\, Martin Bezjak\, Marko Furek\, Denis Jančič in Matic Mlakar\, ki se ne bodo branili klepeta z obiskovalci\, še najmanj pa z nastopajočimi! \n🍻 PIVSKI UŽITKI 🍻\nZASTONJ bodo stočili kar dva soda craft piva Lobik Brewery! \n🤘 KOTIČEK ZA OBISKOVALCE 🤘\nV kotičku za obiskovalce lahko glasujete za svoj najljubši bend in si priskrbite majico ali druge obvezne kose “bojne” opreme letošnjega Šourocka! \n❤️🔥👩‍🎤 V ŽIVO JE ŽIVO! 👨‍🎤🔥❤️\nŽiva glasba ohranja glasbeno sceno živo. Obiskujmo glasbene dogodke\, podpirajmo (mlade) bende in prispevajmo h kakovostnemu razvoju (slovenskega) glasbenega prostora! \n// www.soum.si/sourock //
URL:https://815.si/dogodek/finale-sourocka19-stuk-maribor-8-5-2019/
LOCATION:Štuk\, Gosposvetska cesta 83\, Maribor\, 2000\, Slovenija
CATEGORIES:Rock
ATTACH;FMTTYPE=image/jpeg:https://815.si/wp-content/uploads/2019/05/ŠOUROCK-19-finale.jpg
ORGANIZER;CN="%C5%A0OUM":MAILTO:soum@soum.si
END:VEVENT
BEGIN:VEVENT
DTSTART;TZID=Europe/Paris:20190417T210000
DTEND;TZID=Europe/Paris:20190417T235900
DTSTAMP:20260420T041342
CREATED:20190324T101113Z
LAST-MODIFIED:20190416T192741Z
UID:10448-1555534800-1555545540@815.si
SUMMARY:ŠOUROCK'19: Tretji predstavitveni večer - ŠTUK\, Maribor (17.4.2019)
DESCRIPTION: MUZIKA? PIVO? ROKENROL? \nOboževalci in podporniki rocka in sorodne glasbe tudi letos ŠOUM vabi k uživanju v preigravanju melodij mladih bendov. Ponovno prireja ŠOUROCK\, namenjen dijaškim in študentskim skupinam\, ki se želijo predstaviti in uveljaviti na slovenski glasbeni sceni. Prisluhnili jim bomo na treh predstavitvenih večerih (3.\, 10. in 17. aprila). Trem po izboru komisije in eni po izboru publike pa še 8. maja na finalni prireditvi\, ko bodo večer dodatno popestrili še Spotless Minds. \n17. APRIL\n▶️ Fat Butlers\n▶️ Macbeth – band\n▶️ Manifest\n▶️ Blasius\n▶️ Tooth In The Sky \n DRUŽENJE S KOMISIJO \nZ nami bodo člani komisije: Marko Soršak Soki\, Martin Bezjak\, Marko Furek\, Denis Jančič in Matic Mlakar\, ki se ne bodo branili klepeta z obiskovalci\, še najmanj pa z nastopajočimi. \n PIVSKI UŽITKI \nVsak večer bodo ZASTONJ stočili sod craft piva Lobik Brewery! \n KOTIČEK ZA OBISKOVALCE \nV kotičku za obiskovalce lahko glasujete za svoj najljubši bend in si priskrbite majico ali druge obvezne kose “bojne” opreme letošnjega Šourocka! \n V ŽIVO JE ŽIVO!  \n// www.soum.si/sourock // \n  \n 
URL:https://815.si/dogodek/sourock19-tretji-predstavitveni-vecer-stuk-maribor-17-4-2019/
LOCATION:Štuk\, Gosposvetska cesta 83\, Maribor\, 2000\, Slovenija
CATEGORIES:Rock
ATTACH;FMTTYPE=image/png:https://815.si/wp-content/uploads/2019/03/ŠOUROCK-2019.png
ORGANIZER;CN="%C5%A0OUM":MAILTO:soum@soum.si
END:VEVENT
BEGIN:VEVENT
DTSTART;TZID=Europe/Paris:20190410T210000
DTEND;TZID=Europe/Paris:20190410T235900
DTSTAMP:20260420T041342
CREATED:20190324T095411Z
LAST-MODIFIED:20190324T095411Z
UID:10444-1554930000-1554940740@815.si
SUMMARY:ŠOUROCK '19: Drugi predstavitveni večer - ŠTUK\, Maribor (10.4.2019)
DESCRIPTION: MUZIKA? PIVO? ROKENROL? \nOboževalci in podporniki rocka in sorodne glasbe tudi letos ŠOUM vabi k uživanju v preigravanju melodij mladih bendov. Ponovno prireja ŠOUROCK\, namenjen dijaškim in študentskim skupinam\, ki se želijo predstaviti in uveljaviti na slovenski glasbeni sceni. Prisluhnili jim bomo na treh predstavitvenih večerih (3.\, 10. in 17. aprila). Trem po izboru komisije in eni po izboru publike pa še 8. maja na finalni prireditvi\, ko bodo večer dodatno popestrili še Spotless Minds. \nNastopajoče skupine drugega predstavitvenega večera: \n10. APRIL\n▶️ 7ate9\n▶️ Apory Museum\n▶️ Bajta 23\n▶️ Blue Jane\n▶️ Year of the Rookie \n DRUŽENJE S KOMISIJO \nZ nami bodo člani komisije: Marko Soršak Soki\, Martin Bezjak\, Marko Furek\, Denis Jančič in Matic Mlakar\, ki se ne bodo branili klepeta z obiskovalci\, še najmanj pa z nastopajočimi. \n PIVSKI UŽITKI \nVsak večer bodo ZASTONJ stočili sod craft piva Lobik Brewery! \n KOTIČEK ZA OBISKOVALCE \nV kotičku za obiskovalce lahko glasujete za svoj najljubši bend in si priskrbite majico ali druge obvezne kose “bojne” opreme letošnjega Šourocka! \n V ŽIVO JE ŽIVO!  \n// www.soum.si/sourock // \n 
URL:https://815.si/dogodek/sourock-19-drugi-predstavitveni-vecer-stuk-maribor-10-4-2019/
LOCATION:Štuk\, Gosposvetska cesta 83\, Maribor\, 2000\, Slovenija
CATEGORIES:Rock
ATTACH;FMTTYPE=image/png:https://815.si/wp-content/uploads/2019/03/ŠOUROCK-2019.png
ORGANIZER;CN="%C5%A0OUM":MAILTO:soum@soum.si
END:VEVENT
BEGIN:VEVENT
DTSTART;TZID=Europe/Paris:20190403T210000
DTEND;TZID=Europe/Paris:20190403T235900
DTSTAMP:20260420T041342
CREATED:20190324T094602Z
LAST-MODIFIED:20190324T095514Z
UID:10441-1554325200-1554335940@815.si
SUMMARY:ŠOUROCK'19: Prvi predstavitveni večer - ŠTUK\, Maribor (3.4.2019)
DESCRIPTION:👇 MUZIKA? PIVO? ROKENROL? 👇\nOboževalci in podporniki rocka in sorodne glasbe tudi letos ŠOUM vabi k uživanju v preigravanju melodij mladih bendov. Ponovno prireja ŠOUROCK\, namenjen dijaškim in študentskim skupinam\, ki se želijo predstaviti in uveljaviti na slovenski glasbeni sceni. Prisluhnili jim bomo na treh predstavitvenih večerih (3.\, 10. in 17. aprila). Trem po izboru komisije in eni po izboru publike pa še 8. maja na finalni prireditvi\, ko bodo večer dodatno popestrili še Spotless Minds. \nNastopajoče skupine prvega predstavitvenega večera:\n3. APRIL\n▶️ Ice on Fire\n▶️ Smooth Taste\n▶️ Amok\n▶️ Buržuazija\n▶️ Infected \n✨ DRUŽENJE S KOMISIJO ✨\nZ nami bodo člani komisije: Marko Soršak Soki\, Martin Bezjak\, Marko Furek\, Denis Jančič in Matic Mlakar\, ki se ne bodo branili klepeta z obiskovalci\, še najmanj pa z nastopajočimi. \n🍻 PIVSKI UŽITKI 🍻\nVsak večer bodo ZASTONJ stočili sod craft piva Lobik Brewery! \n🤘 KOTIČEK ZA OBISKOVALCE 🤘\nV kotičku za obiskovalce lahko glasujete za svoj najljubši bend in si priskrbite majico ali druge obvezne kose “bojne” opreme letošnjega Šourocka! \n❤️🔥👩‍🎤 V ŽIVO JE ŽIVO! 👨‍🎤🔥❤️ \n// www.soum.si/sourock // \n 
URL:https://815.si/dogodek/sourock19-prvi-predstavitveni-vecer-stuk-maribor-3-4-2019/
LOCATION:Štuk\, Gosposvetska cesta 83\, Maribor\, 2000\, Slovenija
CATEGORIES:Rock
ATTACH;FMTTYPE=image/png:https://815.si/wp-content/uploads/2019/03/ŠOUROCK-2019.png
ORGANIZER;CN="%C5%A0OUM":MAILTO:soum@soum.si
END:VEVENT
BEGIN:VEVENT
DTSTART;TZID=UTC:20171018T193000
DTEND;TZID=UTC:20171018T235900
DTSTAMP:20260420T041342
CREATED:20171012T071836Z
LAST-MODIFIED:20171012T074419Z
UID:131-1508355000-1508371140@815.si
SUMMARY:Mayhem\, Dragged Into Sunlight\, Inferno - Štuk\, Maribor
DESCRIPTION:Mayhem so norveška black metal skupina\, ki je nastala leta 1984 v Oslu in velja za eno izmed pionirjev norveške black metal scene. Njihova kariera je zelo kontroverzna\, predvsem zaradi samomora pevca Per Yngve Ohlina (“Dead”) leta 1991 in umora kitarista Øystein Aarseth (“Euronymous”) leta 1993 s strani nekdanjega člana Varga Vikernesa (“Count Grishnackh”)\, iz skupine Burzum. \nRazšli so se po umoru Aarsteha\, tik pred izidom prvenca De Mysteriis Dom Sathanas\, ki velja za klasiko black metal žanra. \nBivši člani Jan Axel Blomberg (“Hellhammer”)\, Jørn Stubberud (“Necrobutcher”) in Sven Erik Kristiansen (“Maniac”) so se dve leti kasneje povezali z Rune Eriksen (“Blasphemer”)\, ki je nadomestil Aarseth. Attila Csihar je zamenjal Kristiansena. \nGlasba\, ki jo ustvarja skupina je močno vplivala na razvoj žanra black metala in je bila ključna pri premikanju širše metalske scene stran od prevladujočega trenda speed metala. \nNjihov po-Aarseth material je značilen zaradi povečanega eksperimentiranja. Zadnji album Mayhem\, Ordo Ad Chao\, je leta 2007 prejel nagrado Spellemannprisen za najboljši metal album. \nPredskupini: Dragged Into Sunlight\, Inferno \nPredprodaja vstopnic: 25 EUR (MC Pekarna\, Eventim\, OEticket)\nProdaja na dan: z rezervacijo 25 EUR\, brez rezervacije 28 EUR\nRezervacije: www.pekarna.net \nRezervacija vam omogoča\, da kupite vstopnico na dan koncerta po nižji ceni. Blagajna se odpre 1h pred začetkom dogodka\, rezervacija je veljavna do 0.5h pred začetkom dogodka. Po tej uri rezervacije zapadejo in se karte prodajajo po višji ceni.\nRezervacije so na voljo do razprodaje oz. do dneva pred dogodkom. \nParkirišče/lokacija: http://stuk.org/content/lokacija \n \n \n\n 
URL:https://815.si/dogodek/mayhem-dragged-sunlight-inferno/
LOCATION:Štuk\, Gosposvetska cesta 83\, Maribor\, 2000\, Slovenija
CATEGORIES:Metal
ATTACH;FMTTYPE=image/jpeg:https://815.si/wp-content/uploads/2017/10/mayem.jpg
END:VEVENT
END:VCALENDAR