BEGIN:VCALENDAR
VERSION:2.0
PRODID:-//BIS • 815.si - ECPv6.15.16//NONSGML v1.0//EN
CALSCALE:GREGORIAN
METHOD:PUBLISH
X-WR-CALNAME:BIS • 815.si
X-ORIGINAL-URL:https://815.si
X-WR-CALDESC:Dogodki za BIS • 815.si
REFRESH-INTERVAL;VALUE=DURATION:PT1H
X-Robots-Tag:noindex
X-PUBLISHED-TTL:PT1H
BEGIN:VTIMEZONE
TZID:Europe/Paris
BEGIN:DAYLIGHT
TZOFFSETFROM:+0100
TZOFFSETTO:+0200
TZNAME:CEST
DTSTART:20180325T010000
END:DAYLIGHT
BEGIN:STANDARD
TZOFFSETFROM:+0200
TZOFFSETTO:+0100
TZNAME:CET
DTSTART:20181028T010000
END:STANDARD
BEGIN:DAYLIGHT
TZOFFSETFROM:+0100
TZOFFSETTO:+0200
TZNAME:CEST
DTSTART:20190331T010000
END:DAYLIGHT
BEGIN:STANDARD
TZOFFSETFROM:+0200
TZOFFSETTO:+0100
TZNAME:CET
DTSTART:20191027T010000
END:STANDARD
BEGIN:DAYLIGHT
TZOFFSETFROM:+0100
TZOFFSETTO:+0200
TZNAME:CEST
DTSTART:20200329T010000
END:DAYLIGHT
BEGIN:STANDARD
TZOFFSETFROM:+0200
TZOFFSETTO:+0100
TZNAME:CET
DTSTART:20201025T010000
END:STANDARD
END:VTIMEZONE
BEGIN:VEVENT
DTSTART;TZID=Europe/Paris:20191220T200000
DTEND;TZID=Europe/Paris:20191220T235900
DTSTAMP:20260419T181141
CREATED:20191204T104338Z
LAST-MODIFIED:20191204T104338Z
UID:14690-1576872000-1576886340@815.si
SUMMARY:Jinjer\, The Agonist - Tvornica Kulture Zagreb (20.12.2019)
DESCRIPTION:Jent / groove senzacija Jinjer 20. decembra v Zagrebu!\nV petek\, 20. decembra v Zagreb prihaja metal senzacija Jinjer! Glede na to\, da so bile vstopnice za koncert razprodane v rekordnem času\, se je dogodek preselil v večjo dvorano Tvornice Kulture. \nSkoraj vsaki YouTube “vocal coach” je reagiraj na razpon zmogljivosti pevke ukrajinske zasedbe Jinjer. Žena\, ki stoji za njim\, se imenuje Tatiana\, fantje\, ki stojijo za njenim Jinjerjem\, tvorijo moderno jent metal četvorko značilnega zvoka\, ki se ga ne rabi posebej predstavljati. \nDvakrat so bili razglašeni za najboljše ukrajinske metal bend\, kmalu pa jih je prepoznala tudi ena največjih metal založb – Napalm Records. V manj kot 10 letih obstoja so izdali 3 albume in 3 EP-a\, na turnejo pa so jih s seboj vzeli bendi\, kot so Arch Enemy\, Cradle of Filth\, DevilDriver in Soilwork. 25. oktobra je izšel tudi njihov novi album z naslovom Macro. \n\n\n \nPredskupina zasedbi Jinjer bo zanimiva ekstremno melodična petorka The Agonist. Do zdaj so izdali pet albumov\, svoj šesti album “Orphans” pa bodo promovirali na turneji\, ki potekala tudi z Zagrebu.\n \nVstopnice po ceni 80 kun lahko kupite v KSET-u in v Dirty Old Empire\, medtem ko boste za karto na dan koncerta na kraju za vstopnico plačali 100 kun. \nProgram podpira Mestni urad za kulturo mesta Zagreb.
URL:https://815.si/dogodek/jinjer-the-agonist-tvornica-kulture-zagreb-20-12-2019/
LOCATION:Tvornica kulture\, Šubićeva 2\, Zagreb\, 10000\, Hrvaška
ATTACH;FMTTYPE=image/jpeg:https://815.si/wp-content/uploads/2019/12/jinjer_tvornica.jpg
END:VEVENT
END:VCALENDAR