BEGIN:VCALENDAR
VERSION:2.0
PRODID:-//BIS • 815.si - ECPv6.15.16//NONSGML v1.0//EN
CALSCALE:GREGORIAN
METHOD:PUBLISH
X-WR-CALNAME:BIS • 815.si
X-ORIGINAL-URL:https://815.si
X-WR-CALDESC:Dogodki za BIS • 815.si
REFRESH-INTERVAL;VALUE=DURATION:PT1H
X-Robots-Tag:noindex
X-PUBLISHED-TTL:PT1H
BEGIN:VTIMEZONE
TZID:Europe/Paris
BEGIN:DAYLIGHT
TZOFFSETFROM:+0100
TZOFFSETTO:+0200
TZNAME:CEST
DTSTART:20180325T010000
END:DAYLIGHT
BEGIN:STANDARD
TZOFFSETFROM:+0200
TZOFFSETTO:+0100
TZNAME:CET
DTSTART:20181028T010000
END:STANDARD
BEGIN:DAYLIGHT
TZOFFSETFROM:+0100
TZOFFSETTO:+0200
TZNAME:CEST
DTSTART:20190331T010000
END:DAYLIGHT
BEGIN:STANDARD
TZOFFSETFROM:+0200
TZOFFSETTO:+0100
TZNAME:CET
DTSTART:20191027T010000
END:STANDARD
BEGIN:DAYLIGHT
TZOFFSETFROM:+0100
TZOFFSETTO:+0200
TZNAME:CEST
DTSTART:20200329T010000
END:DAYLIGHT
BEGIN:STANDARD
TZOFFSETFROM:+0200
TZOFFSETTO:+0100
TZNAME:CET
DTSTART:20201025T010000
END:STANDARD
END:VTIMEZONE
BEGIN:VEVENT
DTSTART;TZID=Europe/Paris:20190913T200000
DTEND;TZID=Europe/Paris:20190916T000000
DTSTAMP:20260419T170057
CREATED:20190910T125046Z
LAST-MODIFIED:20190910T125452Z
UID:13368-1568404800-1568592000@815.si
SUMMARY:Festival MIKK23 - MIKK\, Murska Sobota (13.-16.9.2019)
DESCRIPTION:Med 13.9 in 16.9.2019 se bo v murskosoboškem MIKK-u odvil že 23. MIKK festival. \nGlasbeni program po dnevih\nPETEK\n13.9.2019\nVstop prost\n➜ 20.00; Grajsko dvorišče\nBakto (Tetkine Radosti) \nTetkine Radosti – najboljša Balkan fešta\, ki to ni! \nBakta več ni potrebno posebej predstavljati. Bakto je z kolegoma pred leti začeli z raziskovanjem po glasbeni skrinjici nostalgičnih 60.\, 70. in 80. naše skupne bivše države in so našli tono zlatega funka\, žlahtnega soula\, srebrnih šlagerjev\, bronastega diska ter diamantne hipijade. Izkopaninam se bo lahko prisluhnilo v petek\, 13. septembra\, ko bodo znotraj soboškega grajskega dvorišča zapeli in zaigrali Josipa Lisac\, Darko Domijan\, Oto Pestner\, Zdenka Kovačiček\, September\, Tihomir Pop Asanović\, Ljupka Dimitrovska ter številni drugi. \n_________________\nSOBOTA \n14.9.2019\nMIKKova terasa\n13.00-17.00\n•MIKK Art Market \nMIKKov klubski prostor\n22.00\nCena vstopnice 10\,00 €\n➜High5 (Zagreb\, Hr)\n➜Vojko Vrućina (Split\, Hr) \n➜ High5\nHigh5\, trap gospodarji Zagreba\, niso več sveže ime na sceni\, saj imajo za sabo že dva odlična albuma\, ki ju uvrščajo visoko na regionalni hip hop sceni. Na sceno so se prebili leta 2014\, ko so nastopili v nabito polni Tvornici kulture kot predskupina Prti Bee Gee-u. Tvornica je bila odskočna deska za njihovo pot proti samem vrhu hrvaškega rapa. So prvi band v zgodovini delovanja Tvornice\, ki mu je uspelo razprodati to prizorišče s samo enim izdanim albumom. \n🎶Nov album Backstage Boys je bil objavljen aprila 2018. Na njem je 18 komadov\, od katerih so nam tri skladbe predstavili že prej- ”Di ćeš ti s tim“\, “Kebile” in “Mama\, napokon sam uspio” ter nedavno objavljen single “Glavozin“. \nGlavozin \n\n________________\n😎❗️➜ VOJKO V\nVojko V (aka Vojko Vrućina)\, splitski reper in glasbeni producent\, ki ga poznamo še iz zasedb Dječaci in Kiša Metaka\, se je lanskega leta ponovno odločil za plovbo v samostojnih vodah. Vsi na sceni so nekako pričakovali\, da bo prihajajoči izdelek kvaliteten\, nihče pa si ni upal zamisliti\, kakšen velik\, ogromen fenomen bo Vojko postal.\nŽe prvi singel z albuma Vojko\, “Ne može”\, je povzročil pravo evforijo\, parola “Ne može” se je zažrla v vsakdanji sleng pri naših sosedih\, del evforije pa je pljusknil tudi čez našo mejo. \nVojko V ustvarja udarne ritme v trap maniri\, podarja jim izjemno humorne rime iz splitske in tudi širše\, hrvaške stvarnosti\, čeprav se politiki izogiba v zelo širokem loku. V komadu “Zovi čovika” je imaginarni podjetnik in taksist\, v naslednjem verzu šef fast food kafiča\, ki za slabo poslovanje krivi vlado\, Srbe in prostozidarje. V komadu “Pasta Italiana” je humorno zastavil sodelovanje z mojstrom estrade\, Tončijem Huljićem\, kraljem auto tunea na Hrvaškem\, pri repanju pa se mu pridruži še Krešo Bengalka. V “Cilit Bang” kompulzivno čisti stanovanje\, v mega hit komadu “Ne može” pa med drugim nagovarja prodajalko mortadele v delikatesi ter načrtuje lastno ohcet. \nNašteti hiti imajo na YouTubeu po več milijonov ogledov. \n\n____________\nNEDELJA\n15.9.2019\nVstop prost\n13.00 – 18.00\nMIKKova terasa\n➜ DJ Martin13 \nDJ Martin13 se z vrtenjem plošč ukvarja že skoraj pol svojega življenja. V tem času je gostoval na različnih glasbenih festivalih\, doma in v tujini. Med najbolj odmevnimi so prav gotovo Easter Rumble v dunajski Areni\, Dolce Vita v Rovinju\, slovenska Rockin’ Riviera\, avstrijski Rollin’ Dudes in prvi Ljubljana Sweet Swing Festival. Nad rock ‘n’ roll glasbo se je navdušil že kot otrok\, v neustavljivo brskanje po njej pa ga je dokončno\npahnila knjiga »Zgodovina Rock Glasbe v Stripu«. Z njo je začel sistematično odkrivati imena kot so Jerry Lee Lewis\, Gene Vincent\, Fats Domino in seveda Elvis ter začel raziskovati njihov korenine\, ki so bile zasidrane globoko v bluesu in rhythm ‘n’ bluesu. \nPONEDELJEK\n16.9.2019\nCena vstopnice 5\,00 €\nVstopnice so v prodaji v MIKKovi kavarni. \n➜Metal Klavnica LIII \nPutrid Pile (ZDA)\nLegendarna ameriška brutal death metal skupina Putrid Pile je nastala leta 1995. Po prvem demo posnetku so dobili izvrstne kritike metalske scene \,potem so začeli posvečati čim več nastopom v živo\, katerim so ostali zvesti do današnjih dni. Putrid Pile veljajo med poznavalci metalske scene za eno od najkvalitetnejših v svojem žanru. V MIKKu se nam obeta ekskluziven nastop. \n\nVulvathrone (Slo)\nSoboška skupina Vulvathrone je skozi leta obstoja zamenjala nekaj članov\, a kot štiriglava pošast je igrala na mnogoterih koncertih s skupinami kot so Dying Fetus\, Napalm Death\, Nile\, Incantation\, Lividity\, Abrasive\, Sanatorium itd.\, in festivalih kot so Metalcamp (zdaj poznano pod imenom Metaldays)\, Metalfest Austria\, Rockmarathon Hungary itd. \n\nAnime Torment (Češ)\nAnime Torment so češka death metal skupina\, ki je nastala leta 2007. Po nekaj kadrovskih menjavah v skupini so leta 2011 izdali EP Sakura. Spomladi 2011 je skupina dobila novega kitarista\, ki je skupino približal še bolj sodobnemu death metalu. \n\nVstopnice so v prodaji v MIKKovi kavarni.
URL:https://815.si/dogodek/festival-mikk23-mikk-murska-sobota-13-16-9-2019/
LOCATION:MIKK\, Trubarjev drevored 4\, Murska Sobota\, Slovenija
CATEGORIES:Electro,Funk,Fusion,Hip hop,Pop,Rap,Rock
ATTACH;FMTTYPE=image/jpeg:https://815.si/wp-content/uploads/2019/09/MIKK23.jpg
ORGANIZER;CN="MIKK Murska Sobota":MAILTO:info@mikk.si, vladimir.petkovic@mikk.si
END:VEVENT
BEGIN:VEVENT
DTSTART;TZID=Europe/Paris:20190531T200000
DTEND;TZID=Europe/Paris:20190531T200000
DTSTAMP:20260419T170057
CREATED:20190527T185645Z
LAST-MODIFIED:20190527T185645Z
UID:11408-1559332800-1559332800@815.si
SUMMARY:Vojko V - Kino Šiška (31.5.2019)
DESCRIPTION:VOJKO V – najbolj popularen raper na Hrvaškem prvič v Kinu Šiška\nVojko V\, letošnji prejemnik največjega števila porinov\, med drugim tudi tistega za album leta\, se vrača v Ljubljano. Lansko leto je nastopil na Metelkovi\, letošnjega februarja je navdušil zbrane na festivalu Antivalentinovo v Cvetličarni\, ta petek pa prihaja v Kino Šiška s prvim samostojnim nastopom. \nVojko V ustvarja udarne ritme v trap maniri\, podarja jim izjemno humorne rime iz splitske in tudi širše\, hrvaške stvarnosti\, čeprav se politiki izogiba v zelo širokem loku.\nV komadu ‘Kako to’ je imaginarni podjetnik in taksist\, v naslednjem verzu šef fast food kafiča\, ki za slabo poslovanje krivi vlado\, Srbe in prostozidarje. V komadu ‘Pasta Italiana’ je humorno zastavil sodelovanje z mojstrom estrade\, Tončijem Huljićem\, kraljem auto tuna na Hrvaškem\, pri rapanju pa se mu pridruži še Krešo Bengalka. V ‘Cilit Bangu’ kompulzivno čisti stanovanje\, v mega hit komadu ‘Ne može’ pa med drugim nagovarja prodajalko mortadele  v delikatesi ter načrtuje lastno ohcet. Našteti hiti imajo na YouTubu po več milijonov ogledov.
URL:https://815.si/dogodek/vojko-v-kino-siska-31-5-2019/
LOCATION:CUK Kino Šiška\, Trg prekomorskih brigad 3\, Ljubljana\, Slovenija
ATTACH;FMTTYPE=image/jpeg:https://815.si/wp-content/uploads/2019/05/default_1.4.2.jpg
ORGANIZER;CN="Dallas Records":MAILTO:dallas@t-2.net
END:VEVENT
END:VCALENDAR